Workbook

Sheet Erfassung Alle Einrichtungen
A1: Übersicht aller Kindergartenplätze in der Stadt Aurich | L1: Stand: | M1: 42583
A3: Kindertagesstätten in städt. Trägerschaft | B3: Plätze in der Einrichtung | C3: diese teilen sich wie folgt auf:
C4: vormittags | E4: nachmittags | G4: ganztags | I4: Krippe | K4: I-Plätze | M4: Hort
A5: Swaalvkenüst Wiesens | B5: =D6+F6+H6+J6+L6+N6 -> 43 | C5: Anz. Gruppen | D5: 2 | E5: Anz. Gruppen | G5: Anz. Gruppen | I5: Anz. Gruppen | K5: Anz. Gruppen | L5: 1 | M5: Anz. Gruppen
C6: Plätze ges. | D6: 39 | E6: Plätze ges. | F6: 0 | G6: Plätze ges. | H6: 0 | I6: Plätze ges. | J6: 0 | K6: Plätze ges. | L6: 4 | M6: Plätze ges. | N6: 0
C7: besetzt | D7: frei | E7: besetzt | F7: frei | G7: besetzt | H7: frei | I7: besetzt | J7: frei | K7: besetzt | L7: frei | M7: besetzt | N7: frei
C8: 39 | D8: =D6-C8 -> 0 | E8: 0 | F8: =F6-E8 -> 0 | G8: 0 | H8: =H6-G8 -> 0 | I8: 0 | J8: =J6-I8 -> 0 | K8: 1 | L8: =L6-K8 -> 3 | M8: 0 | N8: =N6-M8 -> 0
A9: KITA Sandhorst | B9: =D10+F10+H10+J10+L10+N10 -> 130 | C9: Anz. Gruppen | D9: 2 | E9: Anz. Gruppen | G9: Anz. Gruppen | H9: 2 | I9: Anz. Gruppen | J9: 2 | K9: Anz. Gruppen | M9: Anz. Gruppen
C10: Plätze ges. | D10: 50 | F10: 0 | H10: 50 | J10: 30 | L10: 0 | N10: 0
C11: besetzt | D11: frei | E11: besetzt | F11: frei | G11: besetzt | H11: frei | I11: besetzt | J11: frei | K11: besetzt | L11: frei | M11: besetzt | N11: frei
C12: 48 | D12: =D10-C12 -> 2 | E12: 0 | F12: =F10-E12 -> 0 | G12: 48 | H12: =H10-G12 -> 2 | I12: 27 | J12: =J10-I12 -> 3 | K12: 0 | L12: =L10-K12 -> 0 | M12: 0 | N12: =N10-M12 -> 0
A13: Hort Sandhorst | B13: =D14+F14+H14+J14+L14+N14 -> 60 | C13: Anz. Gruppen | E13: Anz. Gruppen | G13: Anz. Gruppen | I13: Anz. Gruppen | K13: Anz. Gruppen | M13: Anz. Gruppen | N13: 3
C14: Plätze ges. | D14: 0 | E14: Plätze ges. | F14: 0 | G14: Plätze ges. | H14: 0 | I14: Plätze ges. | J14: 0 | K14: Plätze ges. | L14: 0 | M14: Plätze ges. | N14: 60
C15: besetzt | D15: frei | E15: besetzt | F15: frei | G15: besetzt | H15: frei | I15: besetzt | J15: frei | K15: besetzt | L15: frei | M15: besetzt | N15: frei
C16: 0 | D16: =D14-C16 -> 0 | E16: 0 | F16: =F14-E16 -> 0 | G16: 0 | H16: =H14-G16 -> 0 | I16: 0 | J16: =J14-I16 -> 0 | K16: 0 | L16: =L14-K16 -> 0 | M16: 51 | N16: =N14-M16 -> 9
A17: Wallinghausen | B17: =D18+F18+H18+J18+L18+N18 -> 104 | C17: Anz. Gruppen | D17: 1 | E17: Anz. Gruppen | G17: Anz. Gruppen | H17: 1 | I17: Anz. Gruppen | J17: 1 | K17: Anz. Gruppen | L17: 1 | M17: Anz. Gruppen | N17: 2
C18: Plätze ges. | D18: 25 | E18: Plätze ges. | F18: 0 | G18: Plätze ges. | H18: 25 | I18: Plätze ges. | J18: 13 | K18: Plätze ges. | L18: 1 | M18: Plätze ges. | N18: 40
C19: besetzt | D19: frei | E19: besetzt | F19: frei | G19: besetzt | H19: frei | I19: besetzt | J19: frei | K19: besetzt | L19: frei | M19: besetzt | N19: frei
C20: 22 | D20: =D18-C20 -> 3 | E20: 0 | F20: =F18-E20 -> 0 | G20: 24 | H20: =H18-G20 -> 1 | I20: 10 | J20: =J18-I20 -> 3 | K20: 0 | L20: =L18-K20 -> 1 | M20: 38 | N20: =N18-M20 -> 2
A21: Lindenbaum | B21: =D22+F22+H22+J22+L22+N22 -> 42 | C21: Anz. Gruppen | D21: 2 | E21: Anz. Gruppen | G21: Anz. Gruppen | I21: Anz. Gruppen | K21: Anz. Gruppen | M21: Anz. Gruppen
C22: Plätze ges. | D22: 38 | E22: Plätze ges. | F22: 0 | G22: Plätze ges. | H22: 0 | I22: Plätze ges. | J22: 0 | K22: Plätze ges. | L22: 4 | M22: Plätze ges. | N22: 0
C23: besetzt | D23: frei | E23: besetzt | F23: frei | G23: besetzt | H23: frei | I23: besetzt | J23: frei | K23: besetzt | L23: frei | M23: besetzt | N23: frei
C24: 35 | D24: =D22-C24 -> 3 | E24: 0 | F24: =F22-E24 -> 0 | G24: 0 | H24: =H22-G24 -> 0 | I24: 0 | J24: =J22-I24 -> 0 | K24: 0 | L24: =L22-K24 -> 4 | M24: 0 | N24: =N22-M24 -> 0
A25: von-Bodelschwingh | B25: =D26+F26+H26+J26+L26+N26 -> 70 | C25: Anz. Gruppen | D25: 1 | E25: Anz. Gruppen | F25: 1 | G25: Anz. Gruppen | I25: Anz. Gruppen | K25: Anz. Gruppen | M25: Anz. Gruppen | N25: 1
C26: Plätze ges. | D26: 25 | E26: Plätze ges. | F26: 25 | G26: Plätze ges. | H26: 0 | I26: Plätze ges. | J26: 0 | K26: Plätze ges. | L26: 0 | M26: Plätze ges. | N26: 20
C27: besetzt | D27: frei | E27: besetzt | F27: frei | G27: besetzt | H27: frei | I27: besetzt | J27: frei | K27: besetzt | L27: frei | M27: besetzt | N27: frei
C28: 20 | D28: =D26-C28 -> 5 | E28: 19 | F28: =F26-E28 -> 6 | G28: 0 | H28: =H26-G28 -> 0 | I28: 0 | J28: =J26-I28 -> 0 | K28: 0 | L28: =L26-K28 -> 0 | M28: 20 | N28: =N26-M28 -> 0
A29: Lummerland | B29: =D30+F30+H30+J30+L30+N30 -> 65 | C29: Anz. Gruppen | D29: 2 | E29: Anz. Gruppen | G29: Anz. Gruppen | I29: Anz. Gruppen | J29: 1 | K29: Anz. Gruppen | M29: Anz. Gruppen
C30: Plätze ges. | D30: 50 | E30: Plätze ges. | F30: 0 | G30: Plätze ges. | H30: 0 | I30: Plätze ges. | J30: 15 | K30: Plätze ges. | L30: 0 | N30: 0
C31: besetzt | D31: frei | E31: besetzt | F31: frei | G31: besetzt | H31: frei | I31: besetzt | J31: frei | K31: besetzt | L31: frei | M31: besetzt | N31: frei
C32: 48 | D32: =D30-C32 -> 2 | E32: 0 | F32: =F30-E32 -> 0 | G32: 0 | H32: =H30-G32 -> 0 | I32: 11 | J32: =J30-I32 -> 4 | K32: 0 | L32: =L30-K32 -> 0 | M32: 0 | N32: =N30-M32 -> 0
A33: Immenkörv | B33: =D34+F34+H34+J34+L34+N34 -> 50 | C33: Anz. Gruppen | D33: 2 | E33: Anz. Gruppen | G33: Anz. Gruppen | I33: Anz. Gruppen | K33: Anz. Gruppen | M33: Anz. Gruppen
C34: Plätze ges. | D34: 50 | E34: Plätze ges. | F34: 0 | G34: Plätze ges. | H34: 0 | I34: Plätze ges. | J34: 0 | K34: Plätze ges. | L34: 0 | N34: 0
C35: besetzt | D35: frei | E35: besetzt | F35: frei | G35: besetzt | H35: frei | I35: besetzt | J35: frei | K35: besetzt | L35: frei | M35: besetzt | N35: frei
C36: 34 | D36: =D34-C36 -> 16 | E36: 0 | F36: =F34-E36 -> 0 | G36: 0 | H36: =H34-G36 -> 0 | I36: 0 | J36: =J34-I36 -> 0 | K36: 0 | L36: =L34-K36 -> 0 | M36: 0 | N36: =N34-M36 -> 0
A37: Finkennüst | B37: =D38+F38+H38+J38+L38+N38 -> 25 | C37: Anz. Gruppen | D37: 1 | E37: Anz. Gruppen | G37: Anz. Gruppen | I37: Anz. Gruppen | K37: Anz. Gruppen | M37: Anz. Gruppen
C38: Plätze ges. | D38: 25 | E38: Plätze ges. | F38: 0 | G38: Plätze ges. | H38: 0 | I38: Plätze ges. | J38: 0 | K38: Plätze ges. | L38: 0 | N38: 0
C39: besetzt | D39: frei | E39: besetzt | F39: frei | G39: besetzt | H39: frei | I39: besetzt | J39: frei | K39: besetzt | L39: frei | M39: besetzt | N39: frei
C40: 23 | D40: =D38-C40 -> 2 | E40: 0 | F40: =F38-E40 -> 0 | G40: 0 | H40: =H38-G40 -> 0 | I40: 0 | J40: =J38-I40 -> 0 | K40: 0 | L40: =L38-K40 -> 0 | M40: 0 | N40: =N38-M40 -> 0
A41: Kindervilla Pippilotta | B41: =D42+F42+H42+J42+L42+N42 -> 20 | C41: Anz. Gruppen | D41: 1 | E41: Anz. Gruppen | G41: Anz. Gruppen | I41: Anz. Gruppen | J41: 1 | K41: Anz. Gruppen | M41: Anz. Gruppen
...

Sheet Ausw. nur Städt
K1: ='Erfassung Alle Einrichtungen'!L1 -> Stand: | L1: ='Erfassung Alle Einrichtungen'!M1 -> 42583
A2: ='Erfassung Alle Einrichtungen'!A3 -> Kindertagesstätten in städt. Trägerschaft | B2: ='Erfassung Alle Einrichtungen'!B3 -> Plätze in der Einrichtung | C2: ='Erfassung Alle Einrichtungen'!C3 -> diese teilen sich wie folgt auf: | D2: ='Erfassung Alle Einrichtungen'!D3 -> 0 | E2: ='Erfassung Alle Einrichtungen'!E3 -> 0 | F2: ='Erfassung Alle Einrichtungen'!F3 -> 0 | G2: ='Erfassung Alle Einrichtungen'!G3 -> 0 | H2: ='Erfassung Alle Einrichtungen'!H3 -> 0 | ... N2: ='Erfassung Alle Einrichtungen'!N3 -> 0
A3: ='Erfassung Alle Einrichtungen'!A4 -> 0 | B3: ='Erfassung Alle Einrichtungen'!B4 -> 0 | C3: ='Erfassung Alle Einrichtungen'!C4 -> vormittags | D3: ='Erfassung Alle Einrichtungen'!D4 -> 0 | E3: ='Erfassung Alle Einrichtungen'!E4 -> nachmittags | F3: ='Erfassung Alle Einrichtungen'!F4 -> 0 | G3: ='Erfassung Alle Einrichtungen'!G4 -> ganztags | H3: ='Erfassung Alle Einrichtungen'!H4 -> 0 | ... N3: ='Erfassung Alle Einrichtungen'!N4 -> 0
A4: ='Erfassung Alle Einrichtungen'!A5 -> Swaalvkenüst Wiesens | B4: ='Erfassung Alle Einrichtungen'!B5 -> 43 | C4: ='Erfassung Alle Einrichtungen'!C5 -> Anz. Gruppen | D4: ='Erfassung Alle Einrichtungen'!D5 -> 2 | E4: ='Erfassung Alle Einrichtungen'!E5 -> Anz. Gruppen | F4: ='Erfassung Alle Einrichtungen'!F5 -> 0 | G4: ='Erfassung Alle Einrichtungen'!G5 -> Anz. Gruppen | H4: ='Erfassung Alle Einrichtungen'!H5 -> 0 | ... N4: ='Erfassung Alle Einrichtungen'!N5 -> 0
A5: ='Erfassung Alle Einrichtungen'!A6 -> 0 | B5: ='Erfassung Alle Einrichtungen'!B6 -> 0 | C5: ='Erfassung Alle Einrichtungen'!C6 -> Plätze ges. | D5: ='Erfassung Alle Einrichtungen'!D6 -> 39 | E5: ='Erfassung Alle Einrichtungen'!E6 -> Plätze ges. | F5: ='Erfassung Alle Einrichtungen'!F6 -> 0 | G5: ='Erfassung Alle Einrichtungen'!G6 -> Plätze ges. | H5: ='Erfassung Alle Einrichtungen'!H6 -> 0 | ... N5: ='Erfassung Alle Einrichtungen'!N6 -> 0
A6: ='Erfassung Alle Einrichtungen'!A7 -> 0 | B6: ='Erfassung Alle Einrichtungen'!B7 -> 0 | C6: ='Erfassung Alle Einrichtungen'!C7 -> besetzt | D6: ='Erfassung Alle Einrichtungen'!D7 -> frei | E6: ='Erfassung Alle Einrichtungen'!E7 -> besetzt | F6: ='Erfassung Alle Einrichtungen'!F7 -> frei | G6: ='Erfassung Alle Einrichtungen'!G7 -> besetzt | H6: ='Erfassung Alle Einrichtungen'!H7 -> frei | ... N6: ='Erfassung Alle Einrichtungen'!N7 -> frei
A7: ='Erfassung Alle Einrichtungen'!A8 -> 0 | B7: ='Erfassung Alle Einrichtungen'!B8 -> 0 | C7: ='Erfassung Alle Einrichtungen'!C8 -> 39 | D7: ='Erfassung Alle Einrichtungen'!D8 -> 0 | E7: ='Erfassung Alle Einrichtungen'!E8 -> 0 | F7: ='Erfassung Alle Einrichtungen'!F8 -> 0 | G7: ='Erfassung Alle Einrichtungen'!G8 -> 0 | H7: ='Erfassung Alle Einrichtungen'!H8 -> 0 | ... N7: ='Erfassung Alle Einrichtungen'!N8 -> 0
A8: ='Erfassung Alle Einrichtungen'!A9 -> KITA Sandhorst | B8: ='Erfassung Alle Einrichtungen'!B9 -> 130 | C8: ='Erfassung Alle Einrichtungen'!C9 -> Anz. Gruppen | D8: ='Erfassung Alle Einrichtungen'!D9 -> 2 | E8: ='Erfassung Alle Einrichtungen'!E9 -> Anz. Gruppen | F8: ='Erfassung Alle Einrichtungen'!F9 -> 0 | G8: ='Erfassung Alle Einrichtungen'!G9 -> Anz. Gruppen | H8: ='Erfassung Alle Einrichtungen'!H9 -> 2 | ... N8: ='Erfassung Alle Einrichtungen'!N9 -> 0
A9: ='Erfassung Alle Einrichtungen'!A10 -> 0 | B9: ='Erfassung Alle Einrichtungen'!B10 -> 0 | C9: ='Erfassung Alle Einrichtungen'!C10 -> Plätze ges. | D9: ='Erfassung Alle Einrichtungen'!D10 -> 50 | E9: ='Erfassung Alle Einrichtungen'!E10 -> 0 | F9: ='Erfassung Alle Einrichtungen'!F10 -> 0 | G9: ='Erfassung Alle Einrichtungen'!G10 -> 0 | H9: ='Erfassung Alle Einrichtungen'!H10 -> 50 | ... N9: ='Erfassung Alle Einrichtungen'!N10 -> 0
A10: ='Erfassung Alle Einrichtungen'!A11 -> 0 | B10: ='Erfassung Alle Einrichtungen'!B11 -> 0 | C10: ='Erfassung Alle Einrichtungen'!C11 -> besetzt | D10: ='Erfassung Alle Einrichtungen'!D11 -> frei | E10: ='Erfassung Alle Einrichtungen'!E11 -> besetzt | F10: ='Erfassung Alle Einrichtungen'!F11 -> frei | G10: ='Erfassung Alle Einrichtungen'!G11 -> besetzt | H10: ='Erfassung Alle Einrichtungen'!H11 -> frei | ... N10: ='Erfassung Alle Einrichtungen'!N11 -> frei
A11: ='Erfassung Alle Einrichtungen'!A12 -> 0 | B11: ='Erfassung Alle Einrichtungen'!B12 -> 0 | C11: ='Erfassung Alle Einrichtungen'!C12 -> 48 | D11: ='Erfassung Alle Einrichtungen'!D12 -> 2 | E11: ='Erfassung Alle Einrichtungen'!E12 -> 0 | F11: ='Erfassung Alle Einrichtungen'!F12 -> 0 | G11: ='Erfassung Alle Einrichtungen'!G12 -> 48 | H11: ='Erfassung Alle Einrichtungen'!H12 -> 2 | ... N11: ='Erfassung Alle Einrichtungen'!N12 -> 0
A12: ='Erfassung Alle Einrichtungen'!A13 -> Hort Sandhorst | B12: ='Erfassung Alle Einrichtungen'!B13 -> 60 | C12: ='Erfassung Alle Einrichtungen'!C13 -> Anz. Gruppen | D12: ='Erfassung Alle Einrichtungen'!D13 -> 0 | E12: ='Erfassung Alle Einrichtungen'!E13 -> Anz. Gruppen | F12: ='Erfassung Alle Einrichtungen'!F13 -> 0 | G12: ='Erfassung Alle Einrichtungen'!G13 -> Anz. Gruppen | H12: ='Erfassung Alle Einrichtungen'!H13 -> 0 | ... N12: ='Erfassung Alle Einrichtungen'!N13 -> 3
A13: ='Erfassung Alle Einrichtungen'!A14 -> 0 | B13: ='Erfassung Alle Einrichtungen'!B14 -> 0 | C13: ='Erfassung Alle Einrichtungen'!C14 -> Plätze ges. | D13: ='Erfassung Alle Einrichtungen'!D14 -> 0 | E13: ='Erfassung Alle Einrichtungen'!E14 -> Plätze ges. | F13: ='Erfassung Alle Einrichtungen'!F14 -> 0 | G13: ='Erfassung Alle Einrichtungen'!G14 -> Plätze ges. | H13: ='Erfassung Alle Einrichtungen'!H14 -> 0 | ... N13: ='Erfassung Alle Einrichtungen'!N14 -> 60
... A52: ='Erfassung Alle Einrichtungen'!A53 -> 0 | B52: ='Erfassung Alle Einrichtungen'!B53 -> 0 | C52: ='Erfassung Alle Einrichtungen'!C53 -> 282 | D52: ='Erfassung Alle Einrichtungen'!D53 -> 36 | E52: ='Erfassung Alle Einrichtungen'!E53 -> 19 | F52: ='Erfassung Alle Einrichtungen'!F53 -> 6 | G52: ='Erfassung Alle Einrichtungen'!G53 -> 72 | H52: ='Erfassung Alle Einrichtungen'!H53 -> 3 | ... N52: ='Erfassung Alle Einrichtungen'!N53 -> 11

Sheet Auswertung nur Priv
K1: ='Ausw. nur Städt'!K1 -> Stand: | L1: ='Ausw. nur Städt'!L1 -> 42583
A2: ='Erfassung Alle Einrichtungen'!A55 -> Kindertagesstätten in privater Trägerschaft | B2: ='Erfassung Alle Einrichtungen'!B55 -> Plätze in der Einrichtung | C2: ='Erfassung Alle Einrichtungen'!C55 -> diese teilen sich wie folgt auf: | D2: ='Erfassung Alle Einrichtungen'!D55 -> 0 | E2: ='Erfassung Alle Einrichtungen'!E55 -> 0 | F2: ='Erfassung Alle Einrichtungen'!F55 -> 0 | G2: ='Erfassung Alle Einrichtungen'!G55 -> 0 | H2: ='Erfassung Alle Einrichtungen'!H55 -> 0 | ... N2: ='Erfassung Alle Einrichtungen'!N55 -> 0
A3: ='Erfassung Alle Einrichtungen'!A56 -> 0 | B3: ='Erfassung Alle Einrichtungen'!B56 -> 0 | C3: ='Erfassung Alle Einrichtungen'!C56 -> vormittags | D3: ='Erfassung Alle Einrichtungen'!D56 -> 0 | E3: ='Erfassung Alle Einrichtungen'!E56 -> nachmittags | F3: ='Erfassung Alle Einrichtungen'!F56 -> 0 | G3: ='Erfassung Alle Einrichtungen'!G56 -> ganztags | H3: ='Erfassung Alle Einrichtungen'!H56 -> 0 | ... N3: ='Erfassung Alle Einrichtungen'!N56 -> 0
A4: ='Erfassung Alle Einrichtungen'!A57 -> DRK Mullewapp Schmiedestr. | B4: ='Erfassung Alle Einrichtungen'!B57 -> 65 | C4: ='Erfassung Alle Einrichtungen'!C57 -> Anz. Gruppen | D4: ='Erfassung Alle Einrichtungen'!D57 -> 1 | E4: ='Erfassung Alle Einrichtungen'!E57 -> Anz. Gruppen | F4: ='Erfassung Alle Einrichtungen'!F57 -> 0 | G4: ='Erfassung Alle Einrichtungen'!G57 -> Anz. Gruppen | H4: ='Erfassung Alle Einrichtungen'!H57 -> 1 | ... N4: ='Erfassung Alle Einrichtungen'!N57 -> 0
A5: ='Erfassung Alle Einrichtungen'!A58 -> 0 | B5: ='Erfassung Alle Einrichtungen'!B58 -> 0 | C5: ='Erfassung Alle Einrichtungen'!C58 -> Plätze ges. | D5: ='Erfassung Alle Einrichtungen'!D58 -> 25 | E5: ='Erfassung Alle Einrichtungen'!E58 -> Plätze ges. | F5: ='Erfassung Alle Einrichtungen'!F58 -> 0 | G5: ='Erfassung Alle Einrichtungen'!G58 -> Plätze ges. | H5: ='Erfassung Alle Einrichtungen'!H58 -> 25 | ... N5: ='Erfassung Alle Einrichtungen'!N58 -> 0
A6: ='Erfassung Alle Einrichtungen'!A59 -> 0 | B6: ='Erfassung Alle Einrichtungen'!B59 -> 0 | C6: ='Erfassung Alle Einrichtungen'!C59 -> besetzt | D6: ='Erfassung Alle Einrichtungen'!D59 -> frei | E6: ='Erfassung Alle Einrichtungen'!E59 -> besetzt | F6: ='Erfassung Alle Einrichtungen'!F59 -> frei | G6: ='Erfassung Alle Einrichtungen'!G59 -> besetzt | H6: ='Erfassung Alle Einrichtungen'!H59 -> frei | ... N6: ='Erfassung Alle Einrichtungen'!N59 -> frei
A7: ='Erfassung Alle Einrichtungen'!A60 -> 0 | B7: ='Erfassung Alle Einrichtungen'!B60 -> 0 | C7: ='Erfassung Alle Einrichtungen'!C60 -> 25 | D7: ='Erfassung Alle Einrichtungen'!D60 -> 0 | E7: ='Erfassung Alle Einrichtungen'!E60 -> 0 | F7: ='Erfassung Alle Einrichtungen'!F60 -> 0 | G7: ='Erfassung Alle Einrichtungen'!G60 -> 25 | H7: ='Erfassung Alle Einrichtungen'!H60 -> 0 | ... N7: ='Erfassung Alle Einrichtungen'!N60 -> 0
A8: ='Erfassung Alle Einrichtungen'!A61 -> DRK Am Wasserturm | B8: ='Erfassung Alle Einrichtungen'!B61 -> 94 | C8: ='Erfassung Alle Einrichtungen'!C61 -> Anz. Gruppen | D8: ='Erfassung Alle Einrichtungen'!D61 -> 2 | E8: ='Erfassung Alle Einrichtungen'!E61 -> Anz. Gruppen | F8: ='Erfassung Alle Einrichtungen'!F61 -> 0 | G8: ='Erfassung Alle Einrichtungen'!G61 -> Anz. Gruppen | H8: ='Erfassung Alle Einrichtungen'!H61 -> 2 | ... N8: ='Erfassung Alle Einrichtungen'!N61 -> 0
A9: ='Erfassung Alle Einrichtungen'!A62 -> 0 | B9: ='Erfassung Alle Einrichtungen'!B62 -> 0 | C9: ='Erfassung Alle Einrichtungen'!C62 -> Plätze ges. | D9: ='Erfassung Alle Einrichtungen'!D62 -> 43 | E9: ='Erfassung Alle Einrichtungen'!E62 -> Plätze ges. | F9: ='Erfassung Alle Einrichtungen'!F62 -> 0 | G9: ='Erfassung Alle Einrichtungen'!G62 -> Plätze ges. | H9: ='Erfassung Alle Einrichtungen'!H62 -> 42 | ... N9: ='Erfassung Alle Einrichtungen'!N62 -> 0
A10: ='Erfassung Alle Einrichtungen'!A63 -> 0 | B10: ='Erfassung Alle Einrichtungen'!B63 -> 0 | C10: ='Erfassung Alle Einrichtungen'!C63 -> besetzt | D10: ='Erfassung Alle Einrichtungen'!D63 -> frei | E10: ='Erfassung Alle Einrichtungen'!E63 -> besetzt | F10: ='Erfassung Alle Einrichtungen'!F63 -> frei | G10: ='Erfassung Alle Einrichtungen'!G63 -> besetzt | H10: ='Erfassung Alle Einrichtungen'!H63 -> frei | ... N10: ='Erfassung Alle Einrichtungen'!N63 -> frei
A11: ='Erfassung Alle Einrichtungen'!A64 -> 0 | B11: ='Erfassung Alle Einrichtungen'!B64 -> 0 | C11: ='Erfassung Alle Einrichtungen'!C64 -> 33 | D11: ='Erfassung Alle Einrichtungen'!D64 -> 10 | E11: ='Erfassung Alle Einrichtungen'!E64 -> 0 | F11: ='Erfassung Alle Einrichtungen'!F64 -> 0 | G11: ='Erfassung Alle Einrichtungen'!G64 -> 38 | H11: ='Erfassung Alle Einrichtungen'!H64 -> 4 | ... N11: ='Erfassung Alle Einrichtungen'!N64 -> 0
A12: ='Erfassung Alle Einrichtungen'!A65 -> DRK Lambertihort | B12: ='Erfassung Alle Einrichtungen'!B65 -> 80 | C12: ='Erfassung Alle Einrichtungen'!C65 -> Anz. Gruppen | D12: ='Erfassung Alle Einrichtungen'!D65 -> 0 | E12: ='Erfassung Alle Einrichtungen'!E65 -> Anz. Gruppen | F12: ='Erfassung Alle Einrichtungen'!F65 -> 0 | G12: ='Erfassung Alle Einrichtungen'!G65 -> Anz. Gruppen | H12: ='Erfassung Alle Einrichtungen'!H65 -> 0 | ... N12: ='Erfassung Alle Einrichtungen'!N65 -> 4
A13: ='Erfassung Alle Einrichtungen'!A66 -> 0 | B13: ='Erfassung Alle Einrichtungen'!B66 -> 0 | C13: ='Erfassung Alle Einrichtungen'!C66 -> Plätze ges. | D13: ='Erfassung Alle Einrichtungen'!D66 -> 0 | E13: ='Erfassung Alle Einrichtungen'!E66 -> Plätze ges. | F13: ='Erfassung Alle Einrichtungen'!F66 -> 0 | G13: ='Erfassung Alle Einrichtungen'!G66 -> Plätze ges. | H13: ='Erfassung Alle Einrichtungen'!H66 -> 0 | ... N13: ='Erfassung Alle Einrichtungen'!N66 -> 80
... A87: ='Erfassung Alle Einrichtungen'!A140 -> 0 | B87: ='Erfassung Alle Einrichtungen'!B140 -> 0 | C87: ='Erfassung Alle Einrichtungen'!C140 -> 0 | D87: ='Erfassung Alle Einrichtungen'!D140 -> 0 | E87: ='Erfassung Alle Einrichtungen'!E140 -> 0 | F87: ='Erfassung Alle Einrichtungen'!F140 -> 0 | G87: ='Erfassung Alle Einrichtungen'!G140 -> 0 | H87: ='Erfassung Alle Einrichtungen'!H140 -> 0 | ... N87: ='Erfassung Alle Einrichtungen'!N140 -> 0

Sheet Summen Stadt+Priv
K1: ='Auswertung nur Priv'!K1 -> Stand: | L1: ='Auswertung nur Priv'!L1 -> 42583
A2: ='Erfassung Alle Einrichtungen'!A142 -> Summen Privater Einrichtungen | B2: ='Erfassung Alle Einrichtungen'!B142 -> 1241 | C2: ='Erfassung Alle Einrichtungen'!C142 -> vormittags | D2: ='Erfassung Alle Einrichtungen'!D142 -> 0 | E2: ='Erfassung Alle Einrichtungen'!E142 -> nachmittags | F2: ='Erfassung Alle Einrichtungen'!F142 -> 0 | G2: ='Erfassung Alle Einrichtungen'!G142 -> ganztags | H2: ='Erfassung Alle Einrichtungen'!H142 -> 0 | ... N2: ='Erfassung Alle Einrichtungen'!N142 -> 0
C3: ='Erfassung Alle Einrichtungen'!C143 -> Anz. Gruppen | D3: ='Erfassung Alle Einrichtungen'!D143 -> 21 | E3: ='Erfassung Alle Einrichtungen'!E143 -> Anz. Gruppen | F3: ='Erfassung Alle Einrichtungen'!F143 -> 2 | G3: ='Erfassung Alle Einrichtungen'!G143 -> Anz. Gruppen | H3: ='Erfassung Alle Einrichtungen'!H143 -> 15 | I3: ='Erfassung Alle Einrichtungen'!I143 -> Anz. Gruppen | J3: ='Erfassung Alle Einrichtungen'!J143 -> 14 | ... N3: ='Erfassung Alle Einrichtungen'!N143 -> 8
C4: ='Erfassung Alle Einrichtungen'!C144 -> Plätze ges. | D4: ='Erfassung Alle Einrichtungen'!D144 -> 451 | E4: ='Erfassung Alle Einrichtungen'!E144 -> Plätze ges. | F4: ='Erfassung Alle Einrichtungen'!F144 -> 50 | G4: ='Erfassung Alle Einrichtungen'!G144 -> Plätze ges. | H4: ='Erfassung Alle Einrichtungen'!H144 -> 346 | I4: ='Erfassung Alle Einrichtungen'!I144 -> Plätze ges. | J4: ='Erfassung Alle Einrichtungen'!J144 -> 190 | ... N4: ='Erfassung Alle Einrichtungen'!N144 -> 152
C5: ='Erfassung Alle Einrichtungen'!C145 -> besetzt | D5: ='Erfassung Alle Einrichtungen'!D145 -> frei | E5: ='Erfassung Alle Einrichtungen'!E145 -> besetzt | F5: ='Erfassung Alle Einrichtungen'!F145 -> frei | G5: ='Erfassung Alle Einrichtungen'!G145 -> besetzt | H5: ='Erfassung Alle Einrichtungen'!H145 -> frei | I5: ='Erfassung Alle Einrichtungen'!I145 -> besetzt | J5: ='Erfassung Alle Einrichtungen'!J145 -> frei | ... N5: ='Erfassung Alle Einrichtungen'!N145 -> frei
C6: ='Erfassung Alle Einrichtungen'!C146 -> 402 | D6: ='Erfassung Alle Einrichtungen'!D146 -> 49 | E6: ='Erfassung Alle Einrichtungen'!E146 -> 41 | F6: ='Erfassung Alle Einrichtungen'!F146 -> 9 | G6: ='Erfassung Alle Einrichtungen'!G146 -> 335 | H6: ='Erfassung Alle Einrichtungen'!H146 -> 11 | I6: ='Erfassung Alle Einrichtungen'!I146 -> 176 | J6: ='Erfassung Alle Einrichtungen'!J146 -> 14 | ... N6: ='Erfassung Alle Einrichtungen'!N146 -> 3
C7: %-Anteil frei | D7: =1/C6*D6 -> 0.12189055 | E7: %-Anteil frei | F7: =1/E6*F6 -> 0.2195122 | G7: %-Anteil frei | H7: =1/G6*H6 -> 0.032835821 | I7: %-Anteil frei | J7: =1/I6*J6 -> 0.079545455 | K7: %-Anteil frei | L7: =1/K6*L6 -> 0.36842105 | M7: %-Anteil frei | N7: =1/M6*N6 -> 0.020134228
A9: ='Erfassung Alle Einrichtungen'!A148 -> Summen Städt. Einrichtungen | B9: ='Erfassung Alle Einrichtungen'!B148 -> 609 | C9: ='Erfassung Alle Einrichtungen'!C148 -> vormittags | D9: ='Erfassung Alle Einrichtungen'!D148 -> 0 | E9: ='Erfassung Alle Einrichtungen'!E148 -> nachmittags | F9: ='Erfassung Alle Einrichtungen'!F148 -> 0 | G9: ='Erfassung Alle Einrichtungen'!G148 -> ganztags | H9: ='Erfassung Alle Einrichtungen'!H148 -> 0 | ... N9: ='Erfassung Alle Einrichtungen'!N148 -> 0
C10: ='Erfassung Alle Einrichtungen'!C149 -> Anz. Gruppen | D10: ='Erfassung Alle Einrichtungen'!D149 -> 14 | E10: ='Erfassung Alle Einrichtungen'!E149 -> Anz. Gruppen | F10: ='Erfassung Alle Einrichtungen'!F149 -> 1 | G10: ='Erfassung Alle Einrichtungen'!G149 -> Anz. Gruppen | H10: ='Erfassung Alle Einrichtungen'!H149 -> 3 | I10: ='Erfassung Alle Einrichtungen'!I149 -> Anz. Gruppen | J10: ='Erfassung Alle Einrichtungen'!J149 -> 5 | ... N10: ='Erfassung Alle Einrichtungen'!N149 -> 6
C11: ='Erfassung Alle Einrichtungen'!C150 -> Plätze ges. | D11: ='Erfassung Alle Einrichtungen'!D150 -> 318 | E11: ='Erfassung Alle Einrichtungen'!E150 -> Plätze ges. | F11: ='Erfassung Alle Einrichtungen'!F150 -> 25 | G11: ='Erfassung Alle Einrichtungen'!G150 -> Plätze ges. | H11: ='Erfassung Alle Einrichtungen'!H150 -> 75 | I11: ='Erfassung Alle Einrichtungen'!I150 -> Plätze ges. | J11: ='Erfassung Alle Einrichtungen'!J150 -> 62 | ... N11: ='Erfassung Alle Einrichtungen'!N150 -> 120
C12: ='Erfassung Alle Einrichtungen'!C151 -> besetzt | D12: ='Erfassung Alle Einrichtungen'!D151 -> frei | E12: ='Erfassung Alle Einrichtungen'!E151 -> besetzt | F12: ='Erfassung Alle Einrichtungen'!F151 -> frei | G12: ='Erfassung Alle Einrichtungen'!G151 -> besetzt | H12: ='Erfassung Alle Einrichtungen'!H151 -> frei | I12: ='Erfassung Alle Einrichtungen'!I151 -> besetzt | J12: ='Erfassung Alle Einrichtungen'!J151 -> frei | ... N12: ='Erfassung Alle Einrichtungen'!N151 -> frei
C13: ='Erfassung Alle Einrichtungen'!C152 -> 282 | D13: ='Erfassung Alle Einrichtungen'!D152 -> 36 | E13: ='Erfassung Alle Einrichtungen'!E152 -> 19 | F13: ='Erfassung Alle Einrichtungen'!F152 -> 6 | G13: ='Erfassung Alle Einrichtungen'!G152 -> 72 | H13: ='Erfassung Alle Einrichtungen'!H152 -> 3 | I13: ='Erfassung Alle Einrichtungen'!I152 -> 51 | J13: ='Erfassung Alle Einrichtungen'!J152 -> 11 | ... N13: ='Erfassung Alle Einrichtungen'!N152 -> 11
C14: %-Anteil frei | D14: =1/C13*D13 -> 0.12765957 | E14: %-Anteil frei | F14: =1/E13*F13 -> 0.31578947 | G14: %-Anteil frei | H14: =1/G13*H13 -> 0.041666667 | I14: %-Anteil frei | J14: =1/I13*J13 -> 0.21568627 | K14: %-Anteil frei | L14: =1/L11*L13 -> 0.88888889 | M14: %-Anteil frei | N14: =1/M13*N13 -> 0.10091743
A16: ='Erfassung Alle Einrichtungen'!A154 -> Gesamt Städt. u. Priv. Einrichtungen | B16: ='Erfassung Alle Einrichtungen'!B154 -> 1850 | C16: ='Erfassung Alle Einrichtungen'!C154 -> vormittags | D16: ='Erfassung Alle Einrichtungen'!D154 -> 0 | E16: ='Erfassung Alle Einrichtungen'!E154 -> nachmittags | F16: ='Erfassung Alle Einrichtungen'!F154 -> 0 | G16: ='Erfassung Alle Einrichtungen'!G154 -> ganztags | H16: ='Erfassung Alle Einrichtungen'!H154 -> 0 | ... N16: ='Erfassung Alle Einrichtungen'!N154 -> 0
C17: ='Erfassung Alle Einrichtungen'!C155 -> Anz. Gruppen | D17: ='Erfassung Alle Einrichtungen'!D155 -> 35 | E17: ='Erfassung Alle Einrichtungen'!E155 -> Anz. Gruppen | F17: ='Erfassung Alle Einrichtungen'!F155 -> 3 | G17: ='Erfassung Alle Einrichtungen'!G155 -> Anz. Gruppen | H17: ='Erfassung Alle Einrichtungen'!H155 -> 18 | I17: ='Erfassung Alle Einrichtungen'!I155 -> Anz. Gruppen | J17: ='Erfassung Alle Einrichtungen'!J155 -> 0 | ... N17: ='Erfassung Alle Einrichtungen'!N155 -> 14
C18: ='Erfassung Alle Einrichtungen'!C156 -> Plätze ges. | D18: ='Erfassung Alle Einrichtungen'!D156 -> 769 | E18: ='Erfassung Alle Einrichtungen'!E156 -> Plätze ges. | F18: ='Erfassung Alle Einrichtungen'!F156 -> 75 | G18: ='Erfassung Alle Einrichtungen'!G156 -> Plätze ges. | H18: ='Erfassung Alle Einrichtungen'!H156 -> 421 | I18: ='Erfassung Alle Einrichtungen'!I156 -> Plätze ges. | J18: ='Erfassung Alle Einrichtungen'!J156 -> 252 | ... N18: ='Erfassung Alle Einrichtungen'!N156 -> 272
C19: ='Erfassung Alle Einrichtungen'!C157 -> besetzt | D19: ='Erfassung Alle Einrichtungen'!D157 -> frei | E19: ='Erfassung Alle Einrichtungen'!E157 -> besetzt | F19: ='Erfassung Alle Einrichtungen'!F157 -> frei | G19: ='Erfassung Alle Einrichtungen'!G157 -> besetzt | H19: ='Erfassung Alle Einrichtungen'!H157 -> frei | I19: ='Erfassung Alle Einrichtungen'!I157 -> besetzt | J19: ='Erfassung Alle Einrichtungen'!J157 -> frei | ... N19: ='Erfassung Alle Einrichtungen'!N157 -> frei
C20: ='Erfassung Alle Einrichtungen'!C158 -> 684 | D20: ='Erfassung Alle Einrichtungen'!D158 -> 85 | E20: ='Erfassung Alle Einrichtungen'!E158 -> 60 | F20: ='Erfassung Alle Einrichtungen'!F158 -> 15 | G20: ='Erfassung Alle Einrichtungen'!G158 -> 407 | H20: ='Erfassung Alle Einrichtungen'!H158 -> 14 | I20: ='Erfassung Alle Einrichtungen'!I158 -> 227 | J20: ='Erfassung Alle Einrichtungen'!J158 -> 25 | ... N20: ='Erfassung Alle Einrichtungen'!N158 -> 14
C21: %-Anteil frei | D21: =1/C20*D20 -> 0.12426901 | E21: %-Anteil frei | F21: =1/E20*F20 -> 0.25 | G21: %-Anteil frei | H21: =1/G20*H20 -> 0.034398034 | I21: %-Anteil frei | J21: =1/I20*J20 -> 0.11013216 | K21: %-Anteil frei | L21: =1/K20*L20 -> 0.56410256 | M21: %-Anteil frei | N21: =1/M20*N20 -> 0.054263566

Sheet Tabelle1
A1: ='Erfassung Alle Einrichtungen'!A1 -> Übersicht aller Kindergartenplätze in der Stadt Aurich | B1: ='Erfassung Alle Einrichtungen'!B1 -> 0 | C1: ='Erfassung Alle Einrichtungen'!C1 -> 0 | D1: ='Erfassung Alle Einrichtungen'!D1 -> 0 | E1: ='Erfassung Alle Einrichtungen'!E1 -> 0 | F1: ='Erfassung Alle Einrichtungen'!F1 -> 0 | G1: ='Erfassung Alle Einrichtungen'!G1 -> 0 | H1: ='Erfassung Alle Einrichtungen'!H1 -> 0 | ... N1: ='Erfassung Alle Einrichtungen'!N1 -> 0
B2: ='Erfassung Alle Einrichtungen'!B2 -> 0 | C2: ='Erfassung Alle Einrichtungen'!C2 -> 0 | D2: ='Erfassung Alle Einrichtungen'!D2 -> 0 | E2: ='Erfassung Alle Einrichtungen'!E2 -> 0 | F2: ='Erfassung Alle Einrichtungen'!F2 -> 0 | G2: ='Erfassung Alle Einrichtungen'!G2 -> 0 | H2: ='Erfassung Alle Einrichtungen'!H2 -> 0 | I2: ='Erfassung Alle Einrichtungen'!I2 -> 0 | ... N2: ='Erfassung Alle Einrichtungen'!N2 -> 0 | P2: Auswertung freie Krippenplätze Stand 01.08.2016
A3: ='Erfassung Alle Einrichtungen'!A3 -> Kindertagesstätten in städt. Trägerschaft | B3: ='Erfassung Alle Einrichtungen'!B3 -> Plätze in der Einrichtung | C3: ='Erfassung Alle Einrichtungen'!C3 -> diese teilen sich wie folgt auf: | D3: ='Erfassung Alle Einrichtungen'!D3 -> 0 | E3: ='Erfassung Alle Einrichtungen'!E3 -> 0 | F3: ='Erfassung Alle Einrichtungen'!F3 -> 0 | G3: ='Erfassung Alle Einrichtungen'!G3 -> 0 | H3: ='Erfassung Alle Einrichtungen'!H3 -> 0 | ... N3: ='Erfassung Alle Einrichtungen'!N3 -> 0
A4: ='Erfassung Alle Einrichtungen'!A4 -> 0 | B4: ='Erfassung Alle Einrichtungen'!B4 -> 0 | C4: ='Erfassung Alle Einrichtungen'!C4 -> vormittags | D4: ='Erfassung Alle Einrichtungen'!D4 -> 0 | E4: ='Erfassung Alle Einrichtungen'!E4 -> nachmittags | F4: ='Erfassung Alle Einrichtungen'!F4 -> 0 | G4: ='Erfassung Alle Einrichtungen'!G4 -> ganztags | H4: ='Erfassung Alle Einrichtungen'!H4 -> 0 | ... N4: ='Erfassung Alle Einrichtungen'!N4 -> 0 | P4: Krippenplätze | Q4: davon frei | R4: Einrichtung | S4: Einrichtung
A5: ='Erfassung Alle Einrichtungen'!A5 -> Swaalvkenüst Wiesens | B5: ='Erfassung Alle Einrichtungen'!B5 -> 43 | C5: ='Erfassung Alle Einrichtungen'!C5 -> Anz. Gruppen | D5: ='Erfassung Alle Einrichtungen'!D5 -> 2 | E5: ='Erfassung Alle Einrichtungen'!E5 -> Anz. Gruppen | F5: ='Erfassung Alle Einrichtungen'!F5 -> 0 | G5: ='Erfassung Alle Einrichtungen'!G5 -> Anz. Gruppen | H5: ='Erfassung Alle Einrichtungen'!H5 -> 0 | ... N5: ='Erfassung Alle Einrichtungen'!N5 -> 0 | S5: =R5 -> 0
A6: ='Erfassung Alle Einrichtungen'!A6 -> 0 | B6: ='Erfassung Alle Einrichtungen'!B6 -> 0 | C6: ='Erfassung Alle Einrichtungen'!C6 -> Plätze ges. | D6: ='Erfassung Alle Einrichtungen'!D6 -> 39 | E6: ='Erfassung Alle Einrichtungen'!E6 -> Plätze ges. | F6: ='Erfassung Alle Einrichtungen'!F6 -> 0 | G6: ='Erfassung Alle Einrichtungen'!G6 -> Plätze ges. | H6: ='Erfassung Alle Einrichtungen'!H6 -> 0 | ... N6: ='Erfassung Alle Einrichtungen'!N6 -> 0 | P6: =IF(J6>0,J6,"") | S6: =R6 -> 0
A7: ='Erfassung Alle Einrichtungen'!A7 -> 0 | B7: ='Erfassung Alle Einrichtungen'!B7 -> 0 | C7: ='Erfassung Alle Einrichtungen'!C7 -> besetzt | D7: ='Erfassung Alle Einrichtungen'!D7 -> frei | E7: ='Erfassung Alle Einrichtungen'!E7 -> besetzt | F7: ='Erfassung Alle Einrichtungen'!F7 -> frei | G7: ='Erfassung Alle Einrichtungen'!G7 -> besetzt | H7: ='Erfassung Alle Einrichtungen'!H7 -> frei | ... N7: ='Erfassung Alle Einrichtungen'!N7 -> frei | S7: =R7 -> 0
A8: ='Erfassung Alle Einrichtungen'!A8 -> 0 | B8: ='Erfassung Alle Einrichtungen'!B8 -> 0 | C8: ='Erfassung Alle Einrichtungen'!C8 -> 39 | D8: ='Erfassung Alle Einrichtungen'!D8 -> 0 | E8: ='Erfassung Alle Einrichtungen'!E8 -> 0 | F8: ='Erfassung Alle Einrichtungen'!F8 -> 0 | G8: ='Erfassung Alle Einrichtungen'!G8 -> 0 | H8: ='Erfassung Alle Einrichtungen'!H8 -> 0 | ... N8: ='Erfassung Alle Einrichtungen'!N8 -> 0 | S8: =R8 -> 0
A9: ='Erfassung Alle Einrichtungen'!A9 -> KITA Sandhorst | B9: ='Erfassung Alle Einrichtungen'!B9 -> 130 | C9: ='Erfassung Alle Einrichtungen'!C9 -> Anz. Gruppen | D9: ='Erfassung Alle Einrichtungen'!D9 -> 2 | E9: ='Erfassung Alle Einrichtungen'!E9 -> Anz. Gruppen | F9: ='Erfassung Alle Einrichtungen'!F9 -> 0 | G9: ='Erfassung Alle Einrichtungen'!G9 -> Anz. Gruppen | H9: ='Erfassung Alle Einrichtungen'!H9 -> 2 | ... N9: ='Erfassung Alle Einrichtungen'!N9 -> 0 | S9: =R9 -> 0
A10: ='Erfassung Alle Einrichtungen'!A10 -> 0 | B10: ='Erfassung Alle Einrichtungen'!B10 -> 0 | C10: ='Erfassung Alle Einrichtungen'!C10 -> Plätze ges. | D10: ='Erfassung Alle Einrichtungen'!D10 -> 50 | E10: ='Erfassung Alle Einrichtungen'!E10 -> 0 | F10: ='Erfassung Alle Einrichtungen'!F10 -> 0 | G10: ='Erfassung Alle Einrichtungen'!G10 -> 0 | H10: ='Erfassung Alle Einrichtungen'!H10 -> 50 | ... N10: ='Erfassung Alle Einrichtungen'!N10 -> 0 | P10: =IF(J10>0,J10,"") -> 30 | Q10: 0 | R10: =A9 -> KITA Sandhorst | S10: =R10 -> KITA Sandhorst
A11: ='Erfassung Alle Einrichtungen'!A11 -> 0 | B11: ='Erfassung Alle Einrichtungen'!B11 -> 0 | C11: ='Erfassung Alle Einrichtungen'!C11 -> besetzt | D11: ='Erfassung Alle Einrichtungen'!D11 -> frei | E11: ='Erfassung Alle Einrichtungen'!E11 -> besetzt | F11: ='Erfassung Alle Einrichtungen'!F11 -> frei | G11: ='Erfassung Alle Einrichtungen'!G11 -> besetzt | H11: ='Erfassung Alle Einrichtungen'!H11 -> frei | ... N11: ='Erfassung Alle Einrichtungen'!N11 -> frei | S11: =R11 -> 0
A12: ='Erfassung Alle Einrichtungen'!A12 -> 0 | B12: ='Erfassung Alle Einrichtungen'!B12 -> 0 | C12: ='Erfassung Alle Einrichtungen'!C12 -> 48 | D12: ='Erfassung Alle Einrichtungen'!D12 -> 2 | E12: ='Erfassung Alle Einrichtungen'!E12 -> 0 | F12: ='Erfassung Alle Einrichtungen'!F12 -> 0 | G12: ='Erfassung Alle Einrichtungen'!G12 -> 48 | H12: ='Erfassung Alle Einrichtungen'!H12 -> 2 | ... N12: ='Erfassung Alle Einrichtungen'!N12 -> 0 | S12: =R12 -> 0
A13: ='Erfassung Alle Einrichtungen'!A13 -> Hort Sandhorst | B13: ='Erfassung Alle Einrichtungen'!B13 -> 60 | C13: ='Erfassung Alle Einrichtungen'!C13 -> Anz. Gruppen | D13: ='Erfassung Alle Einrichtungen'!D13 -> 0 | E13: ='Erfassung Alle Einrichtungen'!E13 -> Anz. Gruppen | F13: ='Erfassung Alle Einrichtungen'!F13 -> 0 | G13: ='Erfassung Alle Einrichtungen'!G13 -> Anz. Gruppen | H13: ='Erfassung Alle Einrichtungen'!H13 -> 0 | ... N13: ='Erfassung Alle Einrichtungen'!N13 -> 3 | S13: =R13 -> 0
A14: ='Erfassung Alle Einrichtungen'!A14 -> 0 | B14: ='Erfassung Alle Einrichtungen'!B14 -> 0 | C14: ='Erfassung Alle Einrichtungen'!C14 -> Plätze ges. | D14: ='Erfassung Alle Einrichtungen'!D14 -> 0 | E14: ='Erfassung Alle Einrichtungen'!E14 -> Plätze ges. | F14: ='Erfassung Alle Einrichtungen'!F14 -> 0 | G14: ='Erfassung Alle Einrichtungen'!G14 -> Plätze ges. | H14: ='Erfassung Alle Einrichtungen'!H14 -> 0 | ... N14: ='Erfassung Alle Einrichtungen'!N14 -> 60 | P14: =IF(J14>0,J14,"") | S14: =R14 -> 0
A15: ='Erfassung Alle Einrichtungen'!A15 -> 0 | B15: ='Erfassung Alle Einrichtungen'!B15 -> 0 | C15: ='Erfassung Alle Einrichtungen'!C15 -> besetzt | D15: ='Erfassung Alle Einrichtungen'!D15 -> frei | E15: ='Erfassung Alle Einrichtungen'!E15 -> besetzt | F15: ='Erfassung Alle Einrichtungen'!F15 -> frei | G15: ='Erfassung Alle Einrichtungen'!G15 -> besetzt | H15: ='Erfassung Alle Einrichtungen'!H15 -> frei | ... N15: ='Erfassung Alle Einrichtungen'!N15 -> frei | S15: =R15 -> 0
A16: ='Erfassung Alle Einrichtungen'!A16 -> 0 | B16: ='Erfassung Alle Einrichtungen'!B16 -> 0 | C16: ='Erfassung Alle Einrichtungen'!C16 -> 0 | D16: ='Erfassung Alle Einrichtungen'!D16 -> 0 | E16: ='Erfassung Alle Einrichtungen'!E16 -> 0 | F16: ='Erfassung Alle Einrichtungen'!F16 -> 0 | G16: ='Erfassung Alle Einrichtungen'!G16 -> 0 | H16: ='Erfassung Alle Einrichtungen'!H16 -> 0 | ... N16: ='Erfassung Alle Einrichtungen'!N16 -> 9 | S16: =R16 -> 0
A17: ='Erfassung Alle Einrichtungen'!A17 -> Wallinghausen | B17: ='Erfassung Alle Einrichtungen'!B17 -> 104 | C17: ='Erfassung Alle Einrichtungen'!C17 -> Anz. Gruppen | D17: ='Erfassung Alle Einrichtungen'!D17 -> 1 | E17: ='Erfassung Alle Einrichtungen'!E17 -> Anz. Gruppen | F17: ='Erfassung Alle Einrichtungen'!F17 -> 0 | G17: ='Erfassung Alle Einrichtungen'!G17 -> Anz. Gruppen | H17: ='Erfassung Alle Einrichtungen'!H17 -> 1 | ... N17: ='Erfassung Alle Einrichtungen'!N17 -> 2 | S17: =R17 -> 0
A18: ='Erfassung Alle Einrichtungen'!A18 -> 0 | B18: ='Erfassung Alle Einrichtungen'!B18 -> 0 | C18: ='Erfassung Alle Einrichtungen'!C18 -> Plätze ges. | D18: ='Erfassung Alle Einrichtungen'!D18 -> 25 | E18: ='Erfassung Alle Einrichtungen'!E18 -> Plätze ges. | F18: ='Erfassung Alle Einrichtungen'!F18 -> 0 | G18: ='Erfassung Alle Einrichtungen'!G18 -> Plätze ges. | H18: ='Erfassung Alle Einrichtungen'!H18 -> 25 | ... N18: ='Erfassung Alle Einrichtungen'!N18 -> 40 | P18: =IF(J18>0,J18,"") -> 13 | Q18: =J20 -> 3 | R18: =A17 -> Wallinghausen | S18: =R18 -> Wallinghausen
A19: ='Erfassung Alle Einrichtungen'!A19 -> 0 | B19: ='Erfassung Alle Einrichtungen'!B19 -> 0 | C19: ='Erfassung Alle Einrichtungen'!C19 -> besetzt | D19: ='Erfassung Alle Einrichtungen'!D19 -> frei | E19: ='Erfassung Alle Einrichtungen'!E19 -> besetzt | F19: ='Erfassung Alle Einrichtungen'!F19 -> frei | G19: ='Erfassung Alle Einrichtungen'!G19 -> besetzt | H19: ='Erfassung Alle Einrichtungen'!H19 -> frei | ... N19: ='Erfassung Alle Einrichtungen'!N19 -> frei | S19: =R19 -> 0
A20: ='Erfassung Alle Einrichtungen'!A20 -> 0 | B20: ='Erfassung Alle Einrichtungen'!B20 -> 0 | C20: ='Erfassung Alle Einrichtungen'!C20 -> 22 | D20: ='Erfassung Alle Einrichtungen'!D20 -> 3 | E20: ='Erfassung Alle Einrichtungen'!E20 -> 0 | F20: ='Erfassung Alle Einrichtungen'!F20 -> 0 | G20: ='Erfassung Alle Einrichtungen'!G20 -> 24 | H20: ='Erfassung Alle Einrichtungen'!H20 -> 1 | ... N20: ='Erfassung Alle Einrichtungen'!N20 -> 2 | S20: =R20 -> 0
A21: ='Erfassung Alle Einrichtungen'!A21 -> Lindenbaum | B21: ='Erfassung Alle Einrichtungen'!B21 -> 42 | C21: ='Erfassung Alle Einrichtungen'!C21 -> Anz. Gruppen | D21: ='Erfassung Alle Einrichtungen'!D21 -> 2 | E21: ='Erfassung Alle Einrichtungen'!E21 -> Anz. Gruppen | F21: ='Erfassung Alle Einrichtungen'!F21 -> 0 | G21: ='Erfassung Alle Einrichtungen'!G21 -> Anz. Gruppen | H21: ='Erfassung Alle Einrichtungen'!H21 -> 0 | ... N21: ='Erfassung Alle Einrichtungen'!N21 -> 0 | S21: =R21 -> 0
A22: ='Erfassung Alle Einrichtungen'!A22 -> 0 | B22: ='Erfassung Alle Einrichtungen'!B22 -> 0 | C22: ='Erfassung Alle Einrichtungen'!C22 -> Plätze ges. | D22: ='Erfassung Alle Einrichtungen'!D22 -> 38 | E22: ='Erfassung Alle Einrichtungen'!E22 -> Plätze ges. | F22: ='Erfassung Alle Einrichtungen'!F22 -> 0 | G22: ='Erfassung Alle Einrichtungen'!G22 -> Plätze ges. | H22: ='Erfassung Alle Einrichtungen'!H22 -> 0 | ... N22: ='Erfassung Alle Einrichtungen'!N22 -> 0 | P22: =IF(J22>0,J22,"") | S22: =R22 -> 0
A23: ='Erfassung Alle Einrichtungen'!A23 -> 0 | B23: ='Erfassung Alle Einrichtungen'!B23 -> 0 | C23: ='Erfassung Alle Einrichtungen'!C23 -> besetzt | D23: ='Erfassung Alle Einrichtungen'!D23 -> frei | E23: ='Erfassung Alle Einrichtungen'!E23 -> besetzt | F23: ='Erfassung Alle Einrichtungen'!F23 -> frei | G23: ='Erfassung Alle Einrichtungen'!G23 -> besetzt | H23: ='Erfassung Alle Einrichtungen'!H23 -> frei | ... N23: ='Erfassung Alle Einrichtungen'!N23 -> frei | S23: =R23 -> 0
A24: ='Erfassung Alle Einrichtungen'!A24 -> 0 | B24: ='Erfassung Alle Einrichtungen'!B24 -> 0 | C24: ='Erfassung Alle Einrichtungen'!C24 -> 35 | D24: ='Erfassung Alle Einrichtungen'!D24 -> 3 | E24: ='Erfassung Alle Einrichtungen'!E24 -> 0 | F24: ='Erfassung Alle Einrichtungen'!F24 -> 0 | G24: ='Erfassung Alle Einrichtungen'!G24 -> 0 | H24: ='Erfassung Alle Einrichtungen'!H24 -> 0 | ... N24: ='Erfassung Alle Einrichtungen'!N24 -> 0 | S24: =R24 -> 0
A25: ='Erfassung Alle Einrichtungen'!A25 -> von-Bodelschwingh | B25: ='Erfassung Alle Einrichtungen'!B25 -> 70 | C25: ='Erfassung Alle Einrichtungen'!C25 -> Anz. Gruppen | D25: ='Erfassung Alle Einrichtungen'!D25 -> 1 | E25: ='Erfassung Alle Einrichtungen'!E25 -> Anz. Gruppen | F25: ='Erfassung Alle Einrichtungen'!F25 -> 1 | G25: ='Erfassung Alle Einrichtungen'!G25 -> Anz. Gruppen | H25: ='Erfassung Alle Einrichtungen'!H25 -> 0 | ... N25: ='Erfassung Alle Einrichtungen'!N25 -> 1 | S25: =R25 -> 0
A26: ='Erfassung Alle Einrichtungen'!A26 -> 0 | B26: ='Erfassung Alle Einrichtungen'!B26 -> 0 | C26: ='Erfassung Alle Einrichtungen'!C26 -> Plätze ges. | D26: ='Erfassung Alle Einrichtungen'!D26 -> 25 | E26: ='Erfassung Alle Einrichtungen'!E26 -> Plätze ges. | F26: ='Erfassung Alle Einrichtungen'!F26 -> 25 | G26: ='Erfassung Alle Einrichtungen'!G26 -> Plätze ges. | H26: ='Erfassung Alle Einrichtungen'!H26 -> 0 | ... N26: ='Erfassung Alle Einrichtungen'!N26 -> 20 | P26: =IF(J26>0,J26,"") | S26: =R26 -> 0
A27: ='Erfassung Alle Einrichtungen'!A27 -> 0 | B27: ='Erfassung Alle Einrichtungen'!B27 -> 0 | C27: ='Erfassung Alle Einrichtungen'!C27 -> besetzt | D27: ='Erfassung Alle Einrichtungen'!D27 -> frei | E27: ='Erfassung Alle Einrichtungen'!E27 -> besetzt | F27: ='Erfassung Alle Einrichtungen'!F27 -> frei | G27: ='Erfassung Alle Einrichtungen'!G27 -> besetzt | H27: ='Erfassung Alle Einrichtungen'!H27 -> frei | ... N27: ='Erfassung Alle Einrichtungen'!N27 -> frei | S27: =R27 -> 0
A28: ='Erfassung Alle Einrichtungen'!A28 -> 0 | B28: ='Erfassung Alle Einrichtungen'!B28 -> 0 | C28: ='Erfassung Alle Einrichtungen'!C28 -> 20 | D28: ='Erfassung Alle Einrichtungen'!D28 -> 5 | E28: ='Erfassung Alle Einrichtungen'!E28 -> 19 | F28: ='Erfassung Alle Einrichtungen'!F28 -> 6 | G28: ='Erfassung Alle Einrichtungen'!G28 -> 0 | H28: ='Erfassung Alle Einrichtungen'!H28 -> 0 | ... N28: ='Erfassung Alle Einrichtungen'!N28 -> 0 | S28: =R28 -> 0
A29: ='Erfassung Alle Einrichtungen'!A29 -> Lummerland | B29: ='Erfassung Alle Einrichtungen'!B29 -> 65 | C29: ='Erfassung Alle Einrichtungen'!C29 -> Anz. Gruppen | D29: ='Erfassung Alle Einrichtungen'!D29 -> 2 | E29: ='Erfassung Alle Einrichtungen'!E29 -> Anz. Gruppen | F29: ='Erfassung Alle Einrichtungen'!F29 -> 0 | G29: ='Erfassung Alle Einrichtungen'!G29 -> Anz. Gruppen | H29: ='Erfassung Alle Einrichtungen'!H29 -> 0 | ... N29: ='Erfassung Alle Einrichtungen'!N29 -> 0 | S29: =R29 -> 0
A30: ='Erfassung Alle Einrichtungen'!A30 -> 0 | B30: ='Erfassung Alle Einrichtungen'!B30 -> 0 | C30: ='Erfassung Alle Einrichtungen'!C30 -> Plätze ges. | D30: ='Erfassung Alle Einrichtungen'!D30 -> 50 | E30: ='Erfassung Alle Einrichtungen'!E30 -> Plätze ges. | F30: ='Erfassung Alle Einrichtungen'!F30 -> 0 | G30: ='Erfassung Alle Einrichtungen'!G30 -> Plätze ges. | H30: ='Erfassung Alle Einrichtungen'!H30 -> 0 | ... N30: ='Erfassung Alle Einrichtungen'!N30 -> 0 | P30: =IF(J30>0,J30,"") -> 15 | Q30: 4 | R30: =A29 -> Lummerland | S30: =R30 -> Lummerland
A31: ='Erfassung Alle Einrichtungen'!A31 -> 0 | B31: ='Erfassung Alle Einrichtungen'!B31 -> 0 | C31: ='Erfassung Alle Einrichtungen'!C31 -> besetzt | D31: ='Erfassung Alle Einrichtungen'!D31 -> frei | E31: ='Erfassung Alle Einrichtungen'!E31 -> besetzt | F31: ='Erfassung Alle Einrichtungen'!F31 -> frei | G31: ='Erfassung Alle Einrichtungen'!G31 -> besetzt | H31: ='Erfassung Alle Einrichtungen'!H31 -> frei | ... N31: ='Erfassung Alle Einrichtungen'!N31 -> frei | S31: =R31 -> 0
A32: ='Erfassung Alle Einrichtungen'!A32 -> 0 | B32: ='Erfassung Alle Einrichtungen'!B32 -> 0 | C32: ='Erfassung Alle Einrichtungen'!C32 -> 48 | D32: ='Erfassung Alle Einrichtungen'!D32 -> 2 | E32: ='Erfassung Alle Einrichtungen'!E32 -> 0 | F32: ='Erfassung Alle Einrichtungen'!F32 -> 0 | G32: ='Erfassung Alle Einrichtungen'!G32 -> 0 | H32: ='Erfassung Alle Einrichtungen'!H32 -> 0 | ... N32: ='Erfassung Alle Einrichtungen'!N32 -> 0 | S32: =R32 -> 0
A33: ='Erfassung Alle Einrichtungen'!A33 -> Immenkörv | B33: ='Erfassung Alle Einrichtungen'!B33 -> 50 | C33: ='Erfassung Alle Einrichtungen'!C33 -> Anz. Gruppen | D33: ='Erfassung Alle Einrichtungen'!D33 -> 2 | E33: ='Erfassung Alle Einrichtungen'!E33 -> Anz. Gruppen | F33: ='Erfassung Alle Einrichtungen'!F33 -> 0 | G33: ='Erfassung Alle Einrichtungen'!G33 -> Anz. Gruppen | H33: ='Erfassung Alle Einrichtungen'!H33 -> 0 | ... N33: ='Erfassung Alle Einrichtungen'!N33 -> 0 | S33: =R33 -> 0
A34: ='Erfassung Alle Einrichtungen'!A34 -> 0 | B34: ='Erfassung Alle Einrichtungen'!B34 -> 0 | C34: ='Erfassung Alle Einrichtungen'!C34 -> Plätze ges. | D34: ='Erfassung Alle Einrichtungen'!D34 -> 50 | E34: ='Erfassung Alle Einrichtungen'!E34 -> Plätze ges. | F34: ='Erfassung Alle Einrichtungen'!F34 -> 0 | G34: ='Erfassung Alle Einrichtungen'!G34 -> Plätze ges. | H34: ='Erfassung Alle Einrichtungen'!H34 -> 0 | ... N34: ='Erfassung Alle Einrichtungen'!N34 -> 0 | P34: =IF(J34>0,J34,"") | S34: =R34 -> 0
A35: ='Erfassung Alle Einrichtungen'!A35 -> 0 | B35: ='Erfassung Alle Einrichtungen'!B35 -> 0 | C35: ='Erfassung Alle Einrichtungen'!C35 -> besetzt | D35: ='Erfassung Alle Einrichtungen'!D35 -> frei | E35: ='Erfassung Alle Einrichtungen'!E35 -> besetzt | F35: ='Erfassung Alle Einrichtungen'!F35 -> frei | G35: ='Erfassung Alle Einrichtungen'!G35 -> besetzt | H35: ='Erfassung Alle Einrichtungen'!H35 -> frei | ... N35: ='Erfassung Alle Einrichtungen'!N35 -> frei | S35: =R35 -> 0
A36: ='Erfassung Alle Einrichtungen'!A36 -> 0 | B36: ='Erfassung Alle Einrichtungen'!B36 -> 0 | C36: ='Erfassung Alle Einrichtungen'!C36 -> 34 | D36: ='Erfassung Alle Einrichtungen'!D36 -> 16 | E36: ='Erfassung Alle Einrichtungen'!E36 -> 0 | F36: ='Erfassung Alle Einrichtungen'!F36 -> 0 | G36: ='Erfassung Alle Einrichtungen'!G36 -> 0 | H36: ='Erfassung Alle Einrichtungen'!H36 -> 0 | ... N36: ='Erfassung Alle Einrichtungen'!N36 -> 0 | S36: =R36 -> 0
A37: ='Erfassung Alle Einrichtungen'!A37 -> Finkennüst | B37: ='Erfassung Alle Einrichtungen'!B37 -> 25 | C37: ='Erfassung Alle Einrichtungen'!C37 -> Anz. Gruppen | D37: ='Erfassung Alle Einrichtungen'!D37 -> 1 | E37: ='Erfassung Alle Einrichtungen'!E37 -> Anz. Gruppen | F37: ='Erfassung Alle Einrichtungen'!F37 -> 0 | G37: ='Erfassung Alle Einrichtungen'!G37 -> Anz. Gruppen | H37: ='Erfassung Alle Einrichtungen'!H37 -> 0 | ... N37: ='Erfassung Alle Einrichtungen'!N37 -> 0 | S37: =R37 -> 0
A38: ='Erfassung Alle Einrichtungen'!A38 -> 0 | B38: ='Erfassung Alle Einrichtungen'!B38 -> 0 | C38: ='Erfassung Alle Einrichtungen'!C38 -> Plätze ges. | D38: ='Erfassung Alle Einrichtungen'!D38 -> 25 | E38: ='Erfassung Alle Einrichtungen'!E38 -> Plätze ges. | F38: ='Erfassung Alle Einrichtungen'!F38 -> 0 | G38: ='Erfassung Alle Einrichtungen'!G38 -> Plätze ges. | H38: ='Erfassung Alle Einrichtungen'!H38 -> 0 | ... N38: ='Erfassung Alle Einrichtungen'!N38 -> 0 | P38: =IF(J38>0,J38,"") | S38: =R38 -> 0
A39: ='Erfassung Alle Einrichtungen'!A39 -> 0 | B39: ='Erfassung Alle Einrichtungen'!B39 -> 0 | C39: ='Erfassung Alle Einrichtungen'!C39 -> besetzt | D39: ='Erfassung Alle Einrichtungen'!D39 -> frei | E39: ='Erfassung Alle Einrichtungen'!E39 -> besetzt | F39: ='Erfassung Alle Einrichtungen'!F39 -> frei | G39: ='Erfassung Alle Einrichtungen'!G39 -> besetzt | H39: ='Erfassung Alle Einrichtungen'!H39 -> frei | ... N39: ='Erfassung Alle Einrichtungen'!N39 -> frei | S39: =R39 -> 0
A40: ='Erfassung Alle Einrichtungen'!A40 -> 0 | B40: ='Erfassung Alle Einrichtungen'!B40 -> 0 | C40: ='Erfassung Alle Einrichtungen'!C40 -> 23 | D40: ='Erfassung Alle Einrichtungen'!D40 -> 2 | E40: ='Erfassung Alle Einrichtungen'!E40 -> 0 | F40: ='Erfassung Alle Einrichtungen'!F40 -> 0 | G40: ='Erfassung Alle Einrichtungen'!G40 -> 0 | H40: ='Erfassung Alle Einrichtungen'!H40 -> 0 | ... N40: ='Erfassung Alle Einrichtungen'!N40 -> 0 | S40: =R40 -> 0
...
