Workbook

Sheet Erfassung Alle Einrichtungen
A1: Übersicht aller Kindergartenplätze in der Stadt Aurich | L1: Stand: | M1: 42583
A3: Kindertagesstätten in städt. Trägerschaft | B3: Plätze in der Einrichtung | C3: diese teilen sich wie folgt auf:
C4: vormittags | E4: nachmittags | G4: ganztags | I4: Krippe | K4: I-Plätze | M4: Hort
A5: Swaalvkenüst Wiesens | B5: =D6+F6+H6+J6+L6+N6 -> 43 | C5: Anz. Gruppen | D5: 2 | E5: Anz. Gruppen | G5: Anz. Gruppen | I5: Anz. Gruppen | K5: Anz. Gruppen | L5: 1 | M5: Anz. Gruppen
C6: Plätze ges. | D6: 39 | E6: Plätze ges. | F6: 0 | G6: Plätze ges. | H6: 0 | I6: Plätze ges. | J6: 0 | K6: Plätze ges. | L6: 4 | M6: Plätze ges. | N6: 0
C7: besetzt | D7: frei | E7: besetzt | F7: frei | G7: besetzt | H7: frei | I7: besetzt | J7: frei | K7: besetzt | L7: frei | M7: besetzt | N7: frei
C8: 39 | D8: =D6-C8 -> 0 | E8: 0 | F8: =F6-E8 -> 0 | G8: 0 | H8: =H6-G8 -> 0 | I8: 0 | J8: =J6-I8 -> 0 | K8: 1 | L8: =L6-K8 -> 3 | M8: 0 | N8: =N6-M8 -> 0
A9: KITA Sandhorst | B9: =D10+F10+H10+J10+L10+N10 -> 130 | C9: Anz. Gruppen | D9: 2 | E9: Anz. Gruppen | G9: Anz. Gruppen | H9: 2 | I9: Anz. Gruppen | J9: 2 | K9: Anz. Gruppen | M9: Anz. Gruppen
C10: Plätze ges. | D10: 50 | F10: 0 | H10: 50 | J10: 30 | L10: 0 | N10: 0
C11: besetzt | D11: frei | E11: besetzt | F11: frei | G11: besetzt | H11: frei | I11: besetzt | J11: frei | K11: besetzt | L11: frei | M11: besetzt | N11: frei
C12: 48 | D12: =D10-C12 -> 2 | E12: 0 | F12: =F10-E12 -> 0 | G12: 48 | H12: =H10-G12 -> 2 | I12: 27 | J12: =J10-I12 -> 3 | K12: 0 | L12: =L10-K12 -> 0 | M12: 0 | N12: =N10-M12 -> 0
A13: Hort Sandhorst | B13: =D14+F14+H14+J14+L14+N14 -> 60 | C13: Anz. Gruppen | E13: Anz. Gruppen | G13: Anz. Gruppen | I13: Anz. Gruppen | K13: Anz. Gruppen | M13: Anz. Gruppen | N13: 3
C14: Plätze ges. | D14: 0 | E14: Plätze ges. | F14: 0 | G14: Plätze ges. | H14: 0 | I14: Plätze ges. | J14: 0 | K14: Plätze ges. | L14: 0 | M14: Plätze ges. | N14: 60
C15: besetzt | D15: frei | E15: besetzt | F15: frei | G15: besetzt | H15: frei | I15: besetzt | J15: frei | K15: besetzt | L15: frei | M15: besetzt | N15: frei
C16: 0 | D16: =D14-C16 -> 0 | E16: 0 | F16: =F14-E16 -> 0 | G16: 0 | H16: =H14-G16 -> 0 | I16: 0 | J16: =J14-I16 -> 0 | K16: 0 | L16: =L14-K16 -> 0 | M16: 51 | N16: =N14-M16 -> 9
A17: Wallinghausen | B17: =D18+F18+H18+J18+L18+N18 -> 104 | C17: Anz. Gruppen | D17: 1 | E17: Anz. Gruppen | G17: Anz. Gruppen | H17: 1 | I17: Anz. Gruppen | J17: 1 | K17: Anz. Gruppen | L17: 1 | M17: Anz. Gruppen | N17: 2
C18: Plätze ges. | D18: 25 | E18: Plätze ges. | F18: 0 | G18: Plätze ges. | H18: 25 | I18: Plätze ges. | J18: 13 | K18: Plätze ges. | L18: 1 | M18: Plätze ges. | N18: 40
C19: besetzt | D19: frei | E19: besetzt | F19: frei | G19: besetzt | H19: frei | I19: besetzt | J19: frei | K19: besetzt | L19: frei | M19: besetzt | N19: frei
C20: 22 | D20: =D18-C20 -> 3 | E20: 0 | F20: =F18-E20 -> 0 | G20: 24 | H20: =H18-G20 -> 1 | I20: 10 | J20: =J18-I20 -> 3 | K20: 0 | L20: =L18-K20 -> 1 | M20: 38 | N20: =N18-M20 -> 2
A21: Lindenbaum | B21: =D22+F22+H22+J22+L22+N22 -> 42 | C21: Anz. Gruppen | D21: 2 | E21: Anz. Gruppen | G21: Anz. Gruppen | I21: Anz. Gruppen | K21: Anz. Gruppen | M21: Anz. Gruppen
C22: Plätze ges. | D22: 38 | E22: Plätze ges. | F22: 0 | G22: Plätze ges. | H22: 0 | I22: Plätze ges. | J22: 0 | K22: Plätze ges. | L22: 4 | M22: Plätze ges. | N22: 0
C23: besetzt | D23: frei | E23: besetzt | F23: frei | G23: besetzt | H23: frei | I23: besetzt | J23: frei | K23: besetzt | L23: frei | M23: besetzt | N23: frei
C24: 35 | D24: =D22-C24 -> 3 | E24: 0 | F24: =F22-E24 -> 0 | G24: 0 | H24: =H22-G24 -> 0 | I24: 0 | J24: =J22-I24 -> 0 | K24: 0 | L24: =L22-K24 -> 4 | M24: 0 | N24: =N22-M24 -> 0
A25: von-Bodelschwingh | B25: =D26+F26+H26+J26+L26+N26 -> 70 | C25: Anz. Gruppen | D25: 1 | E25: Anz. Gruppen | F25: 1 | G25: Anz. Gruppen | I25: Anz. Gruppen | K25: Anz. Gruppen | M25: Anz. Gruppen | N25: 1
C26: Plätze ges. | D26: 25 | E26: Plätze ges. | F26: 25 | G26: Plätze ges. | H26: 0 | I26: Plätze ges. | J26: 0 | K26: Plätze ges. | L26: 0 | M26: Plätze ges. | N26: 20
C27: besetzt | D27: frei | E27: besetzt | F27: frei | G27: besetzt | H27: frei | I27: besetzt | J27: frei | K27: besetzt | L27: frei | M27: besetzt | N27: frei
C28: 20 | D28: =D26-C28 -> 5 | E28: 19 | F28: =F26-E28 -> 6 | G28: 0 | H28: =H26-G28 -> 0 | I28: 0 | J28: =J26-I28 -> 0 | K28: 0 | L28: =L26-K28 -> 0 | M28: 20 | N28: =N26-M28 -> 0
A29: Lummerland | B29: =D30+F30+H30+J30+L30+N30 -> 65 | C29: Anz. Gruppen | D29: 2 | E29: Anz. Gruppen | G29: Anz. Gruppen | I29: Anz. Gruppen | J29: 1 | K29: Anz. Gruppen | M29: Anz. Gruppen
C30: Plätze ges. | D30: 50 | E30: Plätze ges. | F30: 0 | G30: Plätze ges. | H30: 0 | I30: Plätze ges. | J30: 15 | K30: Plätze ges. | L30: 0 | N30: 0
C31: besetzt | D31: frei | E31: besetzt | F31: frei | G31: besetzt | H31: frei | I31: besetzt | J31: frei | K31: besetzt | L31: frei | M31: besetzt | N31: frei
C32: 48 | D32: =D30-C32 -> 2 | E32: 0 | F32: =F30-E32 -> 0 | G32: 0 | H32: =H30-G32 -> 0 | I32: 11 | J32: =J30-I32 -> 4 | K32: 0 | L32: =L30-K32 -> 0 | M32: 0 | N32: =N30-M32 -> 0
A33: Immenkörv | B33: =D34+F34+H34+J34+L34+N34 -> 50 | C33: Anz. Gruppen | D33: 2 | E33: Anz. Gruppen | G33: Anz. Gruppen | I33: Anz. Gruppen | K33: Anz. Gruppen | M33: Anz. Gruppen
C34: Plätze ges. | D34: 50 | E34: Plätze ges. | F34: 0 | G34: Plätze ges. | H34: 0 | I34: Plätze ges. | J34: 0 | K34: Plätze ges. | L34: 0 | N34: 0
C35: besetzt | D35: frei | E35: besetzt | F35: frei | G35: besetzt | H35: frei | I35: besetzt | J35: frei | K35: besetzt | L35: frei | M35: besetzt | N35: frei
C36: 34 | D36: =D34-C36 -> 16 | E36: 0 | F36: =F34-E36 -> 0 | G36: 0 | H36: =H34-G36 -> 0 | I36: 0 | J36: =J34-I36 -> 0 | K36: 0 | L36: =L34-K36 -> 0 | M36: 0 | N36: =N34-M36 -> 0
A37: Finkennüst | B37: =D38+F38+H38+J38+L38+N38 -> 25 | C37: Anz. Gruppen | D37: 1 | E37: Anz. Gruppen | G37: Anz. Gruppen | I37: Anz. Gruppen | K37: Anz. Gruppen | M37: Anz. Gruppen
C38: Plätze ges. | D38: 25 | E38: Plätze ges. | F38: 0 | G38: Plätze ges. | H38: 0 | I38: Plätze ges. | J38: 0 | K38: Plätze ges. | L38: 0 | N38: 0
C39: besetzt | D39: frei | E39: besetzt | F39: frei | G39: besetzt | H39: frei | I39: besetzt | J39: frei | K39: besetzt | L39: frei | M39: besetzt | N39: frei
C40: 23 | D40: =D38-C40 -> 2 | E40: 0 | F40: =F38-E40 -> 0 | G40: 0 | H40: =H38-G40 -> 0 | I40: 0 | J40: =J38-I40 -> 0 | K40: 0 | L40: =L38-K40 -> 0 | M40: 0 | N40: =N38-M40 -> 0
A41: Kindervilla Pippilotta | B41: =D42+F42+H42+J42+L42+N42 -> 20 | C41: Anz. Gruppen | D41: 1 | E41: Anz. Gruppen | G41: Anz. Gruppen | I41: Anz. Gruppen | J41: 1 | K41: Anz. Gruppen | M41: Anz. Gruppen
C42: Plätze ges. | D42: 16 | E42: Plätze ges. | F42: 0 | G42: Plätze ges. | H42: 0 | I42: Plätze ges. | J42: 4 | K42: Plätze ges. | L42: 0 | N42: 0
C43: besetzt | D43: frei | E43: besetzt | F43: frei | G43: besetzt | H43: frei | I43: besetzt | J43: frei | K43: besetzt | L43: frei | M43: besetzt | N43: frei
C44: 13 | D44: =D42-C44 -> 3 | E44: 0 | F44: =F42-E44 -> 0 | G44: 0 | H44: =H42-G44 -> 0 | I44: 3 | J44: =J42-I44 -> 1 | K44: 0 | L44: =L42-K44 -> 0 | M44: 0 | N44: =N42-M44 -> 0
A45: nn | B45: =D46+F46+H46+J46+L46+N46 -> 0 | C45: Anz. Gruppen | E45: Anz. Gruppen | G45: Anz. Gruppen | I45: Anz. Gruppen | K45: Anz. Gruppen | M45: Anz. Gruppen
C46: Plätze ges. | D46: 0 | E46: Plätze ges. | F46: 0 | G46: Plätze ges. | H46: 0 | I46: Plätze ges. | J46: 0 | K46: Plätze ges. | L46: 0 | N46: 0
C47: besetzt | D47: frei | E47: besetzt | F47: frei | G47: besetzt | H47: frei | I47: besetzt | J47: frei | K47: besetzt | L47: frei | M47: besetzt | N47: frei
C48: 0 | D48: =D46-C48 -> 0 | E48: 0 | F48: =F46-E48 -> 0 | G48: 0 | H48: =H46-G48 -> 0 | I48: 0 | J48: =J46-I48 -> 0 | K48: 0 | L48: =L46-K48 -> 0 | M48: 0 | N48: =N46-M48 -> 0
A49: Summen Städt. Einrichtungen | B49: =SUM(B5:B48) -> 609 | C49: vormittags | E49: nachmittags | G49: ganztags | I49: Krippe | K49: I-Plätze | M49: Hort
C50: Anz. Gruppen | D50: =D5+D9+D13+D17+D21+D25+D29+D33+D37+D41+D45 -> 14 | E50: Anz. Gruppen | F50: =F5+F9+F13+F17+F21+F25+F29+F33+F37+F41+F45 -> 1 | G50: Anz. Gruppen | H50: =H5+H9+H13+H17+H21+H25+H29+H33+H37+H41+H45 -> 3 | I50: Anz. Gruppen | J50: =J5+J9+J13+J17+J21+J25+J29+J33+J37+J41+J45 -> 5 | K50: Anz. Gruppen | L50: =L5+L9+L13+L17+L21+L25+L29+L33+L37+L41+L45 -> 2 | M50: Anz. Gruppen | N50: =N5+N9+N13+N17+N21+N25+N29+N33+N37+N41+N45 -> 6
C51: Plätze ges. | D51: =D6+D10+D14+D18+D22+D26+D30+D34+D38+D42+D46 -> 318 | E51: Plätze ges. | F51: =F6+F10+F14+F18+F22+F26+F30+F34+F38+F42+F46 -> 25 | G51: Plätze ges. | H51: =H6+H10+H14+H18+H22+H26+H30+H34+H38+H42+H46 -> 75 | I51: Plätze ges. | J51: =J6+J10+J14+J18+J22+J26+J30+J34+J38+J42+J46 -> 62 | K51: Plätze ges. | L51: =L6+L10+L14+L18+L22+L26+L30+L34+L38+L42+L46 -> 9 | N51: =N6+N10+N14+N18+N22+N26+N30+N34+N38+N42+N46 -> 120
C52: besetzt | D52: frei | E52: besetzt | F52: frei | G52: besetzt | H52: frei | I52: besetzt | J52: frei | K52: besetzt | L52: frei | M52: besetzt | N52: frei
C53: =C8+C12+C16+C20+C24+C28+C32+C36+C40+C44+C48 -> 282 | D53: =D51-C53 -> 36 | E53: =E8+E12+E16+E20+E24+E28+E32+E36+E40+E44+E48 -> 19 | F53: =F51-E53 -> 6 | G53: =G8+G12+G16+G20+G24+G28+G32+G36+G40+G44+G48 -> 72 | H53: =H51-G53 -> 3 | I53: =I8+I12+I16+I20+I24+I28+I32+I36+I40+I44+I48 -> 51 | J53: =J51-I53 -> 11 | K53: =K8+K12+K16+K20+K24+K28+K32+K36+K40+K44+K48 -> 1 | L53: =L51-K53 -> 8 | M53: =M8+M12+M16+M20+M24+M28+M32+M36+M40+M44+M48 -> 109 | N53: =N51-M53 -> 11
A54: x
A55: Kindertagesstätten in privater Trägerschaft | B55: Plätze in der Einrichtung | C55: diese teilen sich wie folgt auf:
C56: vormittags | E56: nachmittags | G56: ganztags | I56: Krippe | K56: I-Plätze | M56: Hort
A57: DRK Mullewapp Schmiedestr. | B57: =D58+F58+H58+J58+L58+N58 -> 65 | C57: Anz. Gruppen | D57: 1 | E57: Anz. Gruppen | G57: Anz. Gruppen | H57: 1 | I57: Anz. Gruppen | J57: 1 | K57: Anz. Gruppen | M57: Anz. Gruppen
C58: Plätze ges. | D58: 25 | E58: Plätze ges. | F58: 0 | G58: Plätze ges. | H58: 25 | I58: Plätze ges. | J58: 15 | K58: Plätze ges. | L58: 0 | M58: Plätze ges. | N58: 0
C59: besetzt | D59: frei | E59: besetzt | F59: frei | G59: besetzt | H59: frei | I59: besetzt | J59: frei | K59: besetzt | L59: frei | M59: besetzt | N59: frei
C60: 25 | D60: =D58-C60 -> 0 | E60: 0 | F60: =F58-E60 -> 0 | G60: 25 | H60: =H58-G60 -> 0 | I60: 15 | J60: =J58-I60 -> 0 | K60: 0 | L60: =L58-K60 -> 0 | M60: 0 | N60: =N58-M60 -> 0
A61: DRK Am Wasserturm | B61: =D62+F62+H62+J62+L62+N62 -> 94 | C61: Anz. Gruppen | D61: 2 | E61: Anz. Gruppen | G61: Anz. Gruppen | H61: 2 | I61: Anz. Gruppen | K61: Anz. Gruppen | L61: 2 | M61: Anz. Gruppen
C62: Plätze ges. | D62: 43 | E62: Plätze ges. | F62: 0 | G62: Plätze ges. | H62: 42 | I62: Plätze ges. | J62: 0 | K62: Plätze ges. | L62: 9 | M62: Plätze ges. | N62: 0
C63: besetzt | D63: frei | E63: besetzt | F63: frei | G63: besetzt | H63: frei | I63: besetzt | J63: frei | K63: besetzt | L63: frei | M63: besetzt | N63: frei
C64: 33 | D64: =D62-C64 -> 10 | E64: 0 | F64: =F62-E64 -> 0 | G64: 38 | H64: =H62-G64 -> 4 | I64: 0 | J64: =J62-I64 -> 0 | K64: 0 | L64: =L62-K64 -> 9 | M64: 0 | N64: =N62-M64 -> 0
A65: DRK Lambertihort | B65: =D66+F66+H66+J66+L66+N66 -> 80 | C65: Anz. Gruppen | E65: Anz. Gruppen | G65: Anz. Gruppen | I65: Anz. Gruppen | K65: Anz. Gruppen | M65: Anz. Gruppen | N65: 4
C66: Plätze ges. | D66: 0 | E66: Plätze ges. | F66: 0 | G66: Plätze ges. | H66: 0 | I66: Plätze ges. | J66: 0 | K66: Plätze ges. | L66: 0 | M66: Plätze ges. | N66: 80
C67: besetzt | D67: frei | E67: besetzt | F67: frei | G67: besetzt | H67: frei | I67: besetzt | J67: frei | K67: besetzt | L67: frei | M67: besetzt | N67: frei
C68: 0 | D68: =D66-C68 -> 0 | E68: 0 | F68: =F66-E68 -> 0 | G68: 0 | H68: =H66-G68 -> 0 | I68: 0 | J68: =J66-I68 -> 0 | K68: 0 | L68: =L66-K68 -> 0 | M68: 80 | N68: =N66-M68 -> 0
A69: Lilliput Middels | B69: =D70+F70+H70+J70+L70+N70 -> 45 | C69: Anz. Gruppen | E69: Anz. Gruppen | G69: Anz. Gruppen | I69: Anz. Gruppen | K69: Anz. Gruppen | M69: Anz. Gruppen
C70: Plätze ges. | D70: 40 | E70: Plätze ges. | F70: 0 | G70: Plätze ges. | H70: 0 | I70: Plätze ges. | J70: 5 | K70: Plätze ges. | L70: 0 | M70: Plätze ges. | N70: 0
C71: besetzt | D71: frei | E71: besetzt | F71: frei | G71: besetzt | H71: frei | I71: besetzt | J71: frei | K71: besetzt | L71: frei | M71: besetzt | N71: frei
C72: 35 | D72: =D70-C72 -> 5 | E72: 0 | F72: =F70-E72 -> 0 | G72: 0 | H72: =H70-G72 -> 0 | I72: 5 | J72: =J70-I72 -> 0 | K72: 0 | L72: =L70-K72 -> 0 | M72: 0 | N72: =N70-M72 -> 0
A73: Stefelkes Plaggenb. | B73: =D74+F74+H74+J74+L74+N74 -> 46 | C73: Anz. Gruppen | D73: 2 | E73: Anz. Gruppen | G73: Anz. Gruppen | I73: Anz. Gruppen | J73: 1 | K73: Anz. Gruppen | L73: 1 | M73: Anz. Gruppen
C74: Plätze ges. | D74: 38 | E74: Plätze ges. | F74: 0 | G74: Plätze ges. | H74: 0 | I74: Plätze ges. | J74: 4 | K74: Plätze ges. | L74: 4 | M74: Plätze ges. | N74: 0
C75: besetzt | D75: frei | E75: besetzt | F75: frei | G75: besetzt | H75: frei | I75: besetzt | J75: frei | K75: besetzt | L75: frei | M75: besetzt | N75: frei
C76: 36 | D76: =D74-C76 -> 2 | E76: 0 | F76: =F74-E76 -> 0 | G76: 0 | H76: =H74-G76 -> 0 | I76: 4 | J76: =J74-I76 -> 0 | K76: 2 | L76: =L74-K76 -> 2 | M76: 0 | N76: =N74-M76 -> 0
A77: Upstalsboom | B77: =D78+F78+H78+J78+L78+N78 -> 182 | C77: Anz. Gruppen | D77: 2 | E77: Anz. Gruppen | F77: 1 | G77: Anz. Gruppen | H77: 1 | I77: Anz. Gruppen | J77: 2 | K77: Anz. Gruppen | M77: Anz. Gruppen | N77: 3
C78: Plätze ges. | D78: 50 | E78: Plätze ges. | F78: 25 | G78: Plätze ges. | H78: 25 | I78: Plätze ges. | J78: 30 | K78: Plätze ges. | M78: Plätze ges. | N78: 52
C79: besetzt | D79: frei | E79: besetzt | F79: frei | G79: besetzt | H79: frei | I79: besetzt | J79: frei | K79: besetzt | L79: frei | M79: besetzt | N79: frei
C80: 50 | D80: =D78-C80 -> 0 | E80: 25 | F80: =F78-E80 -> 0 | G80: 25 | H80: =H78-G80 -> 0 | I80: 26 | J80: =J78-I80 -> 4 | K80: 0 | L80: =L78-K80 -> 0 | M80: 52 | N80: =N78-M80 -> 0
A81: Upstalsboom - Extum | B81: =D82+F82+H82+J82+L82+N82 -> 25 | C81: Anz. Gruppen | D81: 1 | E81: Anz. Gruppen | G81: Anz. Gruppen | I81: Anz. Gruppen | K81: Anz. Gruppen | M81: Anz. Gruppen
C82: Plätze ges. | D82: 25 | E82: Plätze ges. | G82: Plätze ges. | H82: 0 | I82: Plätze ges. | J82: 0 | K82: Plätze ges. | L82: 0 | M82: Plätze ges. | N82: 0
C83: besetzt | D83: frei | E83: besetzt | F83: frei | G83: besetzt | H83: frei | I83: besetzt | J83: frei | K83: besetzt | L83: frei | M83: besetzt | N83: frei
C84: 16 | D84: =D82-C84 -> 9 | E84: 0 | F84: =F82-E84 -> 0 | G84: 0 | H84: =H82-G84 -> 0 | I84: 0 | J84: =J82-I84 -> 0 | K84: 0 | L84: =L82-K84 -> 0 | N84: =N82-M84 -> 0
A85: I. Waldkindergarten | B85: =D86+F86+H86+J86+L86+N86 -> 15 | C85: Anz. Gruppen | D85: 1 | E85: Anz. Gruppen | G85: Anz. Gruppen | I85: Anz. Gruppen | K85: Anz. Gruppen | M85: Anz. Gruppen
C86: Plätze ges. | D86: 15 | E86: Plätze ges. | F86: 0 | G86: Plätze ges. | H86: 0 | I86: Plätze ges. | J86: 0 | K86: Plätze ges. | L86: 0 | M86: Plätze ges. | N86: 0
C87: besetzt | D87: frei | E87: besetzt | F87: frei | G87: besetzt | H87: frei | I87: besetzt | J87: frei | K87: besetzt | L87: frei | M87: besetzt | N87: frei
C88: 15 | D88: =D86-C88 -> 0 | E88: 0 | F88: =F86-E88 -> 0 | G88: 0 | H88: =H86-G88 -> 0 | I88: 0 | J88: =J86-I88 -> 0 | K88: 0 | L88: =L86-K88 -> 0 | M88: 0 | N88: =N86-M88 -> 0
A89: II. Waldkindergarten | B89: =D90+F90+H90+J90+L90+N90 -> 15 | C89: Anz. Gruppen | D89: 1 | E89: Anz. Gruppen | G89: Anz. Gruppen | I89: Anz. Gruppen | K89: Anz. Gruppen | M89: Anz. Gruppen
C90: Plätze ges. | D90: 15 | E90: Plätze ges. | F90: 0 | G90: Plätze ges. | H90: 0 | I90: Plätze ges. | J90: 0 | K90: Plätze ges. | L90: 0 | M90: Plätze ges. | N90: 0
C91: besetzt | D91: frei | E91: besetzt | F91: frei | G91: besetzt | H91: frei | I91: besetzt | J91: frei | K91: besetzt | L91: frei | M91: besetzt | N91: frei
C92: 15 | D92: =D90-C92 -> 0 | E92: 0 | F92: =F90-E92 -> 0 | G92: 0 | H92: =H90-G92 -> 0 | I92: 0 | J92: =J90-I92 -> 0 | K92: 0 | L92: =L90-K92 -> 0 | M92: 0 | N92: =N90-M92 -> 0
A93: Rappelkiste Walle | B93: =D94+F94+H94+J94+L94+N94 -> 67 | C93: Anz. Gruppen | D93: 3 | E93: Anz. Gruppen | G93: Anz. Gruppen | I93: Anz. Gruppen | K93: Anz. Gruppen | M93: Anz. Gruppen
C94: Plätze ges. | D94: 59 | E94: Plätze ges. | F94: 0 | G94: Plätze ges. | H94: 0 | I94: Plätze ges. | J94: 0 | K94: Plätze ges. | L94: 8 | M94: Plätze ges. | N94: 0
C95: besetzt | D95: frei | E95: besetzt | F95: frei | G95: besetzt | H95: frei | I95: besetzt | J95: frei | K95: besetzt | L95: frei | M95: besetzt | N95: frei
C96: 59 | D96: =D94-C96 -> 0 | E96: 0 | F96: =F94-E96 -> 0 | G96: 0 | H96: =H94-G96 -> 0 | I96: 0 | J96: =J94-I96 -> 0 | K96: 7 | L96: =L94-K96 -> 1 | M96: 0 | N96: =N94-M96 -> 0
A97: St. Ludgerus | B97: =D98+F98+H98+J98+L98+N98 -> 65 | C97: Anz. Gruppen | E97: Anz. Gruppen | G97: Anz. Gruppen | H97: 2 | I97: Anz. Gruppen | K97: Anz. Gruppen | M97: Anz. Gruppen
C98: Plätze ges. | D98: 0 | E98: Plätze ges. | F98: 0 | G98: Plätze ges. | H98: 50 | I98: Plätze ges. | J98: 15 | K98: Plätze ges. | L98: 0 | M98: Plätze ges. | N98: 0
C99: besetzt | D99: frei | E99: besetzt | F99: frei | G99: besetzt | H99: frei | I99: besetzt | J99: frei | K99: besetzt | L99: frei | M99: besetzt | N99: frei
C100: 0 | D100: =D98-C100 -> 0 | E100: 0 | F100: =F98-E100 -> 0 | G100: 50 | H100: =H98-G100 -> 0 | I100: 15 | J100: =J98-I100 -> 0 | K100: 0 | L100: =L98-K100 -> 0 | M100: 0 | N100: =N98-M100 -> 0
A101: Pinguin | B101: =D102+F102+H102+J102+L102+N102 -> 144 | C101: Anz. Gruppen | D101: 1 | E101: Anz. Gruppen | F101: 0 | G101: Anz. Gruppen | H101: 3 | I101: Anz. Gruppen | J101: 2 | K101: Anz. Gruppen | M101: Anz. Gruppen | N101: 1
...

Sheet Ausw. nur Städt
K1: ='Erfassung Alle Einrichtungen'!L1 -> Stand: | L1: ='Erfassung Alle Einrichtungen'!M1 -> 42583
A2: ='Erfassung Alle Einrichtungen'!A3 -> Kindertagesstätten in städt. Trägerschaft | B2: ='Erfassung Alle Einrichtungen'!B3 -> Plätze in der Einrichtung | C2: ='Erfassung Alle Einrichtungen'!C3 -> diese teilen sich wie folgt auf: | D2: ='Erfassung Alle Einrichtungen'!D3 -> 0 | E2: ='Erfassung Alle Einrichtungen'!E3 -> 0 | F2: ='Erfassung Alle Einrichtungen'!F3 -> 0 | G2: ='Erfassung Alle Einrichtungen'!G3 -> 0 | H2: ='Erfassung Alle Einrichtungen'!H3 -> 0 | ... N2: ='Erfassung Alle Einrichtungen'!N3 -> 0
A3: ='Erfassung Alle Einrichtungen'!A4 -> 0 | B3: ='Erfassung Alle Einrichtungen'!B4 -> 0 | C3: ='Erfassung Alle Einrichtungen'!C4 -> vormittags | D3: ='Erfassung Alle Einrichtungen'!D4 -> 0 | E3: ='Erfassung Alle Einrichtungen'!E4 -> nachmittags | F3: ='Erfassung Alle Einrichtungen'!F4 -> 0 | G3: ='Erfassung Alle Einrichtungen'!G4 -> ganztags | H3: ='Erfassung Alle Einrichtungen'!H4 -> 0 | ... N3: ='Erfassung Alle Einrichtungen'!N4 -> 0
A4: ='Erfassung Alle Einrichtungen'!A5 -> Swaalvkenüst Wiesens | B4: ='Erfassung Alle Einrichtungen'!B5 -> 43 | C4: ='Erfassung Alle Einrichtungen'!C5 -> Anz. Gruppen | D4: ='Erfassung Alle Einrichtungen'!D5 -> 2 | E4: ='Erfassung Alle Einrichtungen'!E5 -> Anz. Gruppen | F4: ='Erfassung Alle Einrichtungen'!F5 -> 0 | G4: ='Erfassung Alle Einrichtungen'!G5 -> Anz. Gruppen | H4: ='Erfassung Alle Einrichtungen'!H5 -> 0 | ... N4: ='Erfassung Alle Einrichtungen'!N5 -> 0
A5: ='Erfassung Alle Einrichtungen'!A6 -> 0 | B5: ='Erfassung Alle Einrichtungen'!B6 -> 0 | C5: ='Erfassung Alle Einrichtungen'!C6 -> Plätze ges. | D5: ='Erfassung Alle Einrichtungen'!D6 -> 39 | E5: ='Erfassung Alle Einrichtungen'!E6 -> Plätze ges. | F5: ='Erfassung Alle Einrichtungen'!F6 -> 0 | G5: ='Erfassung Alle Einrichtungen'!G6 -> Plätze ges. | H5: ='Erfassung Alle Einrichtungen'!H6 -> 0 | ... N5: ='Erfassung Alle Einrichtungen'!N6 -> 0
A6: ='Erfassung Alle Einrichtungen'!A7 -> 0 | B6: ='Erfassung Alle Einrichtungen'!B7 -> 0 | C6: ='Erfassung Alle Einrichtungen'!C7 -> besetzt | D6: ='Erfassung Alle Einrichtungen'!D7 -> frei | E6: ='Erfassung Alle Einrichtungen'!E7 -> besetzt | F6: ='Erfassung Alle Einrichtungen'!F7 -> frei | G6: ='Erfassung Alle Einrichtungen'!G7 -> besetzt | H6: ='Erfassung Alle Einrichtungen'!H7 -> frei | ... N6: ='Erfassung Alle Einrichtungen'!N7 -> frei
A7: ='Erfassung Alle Einrichtungen'!A8 -> 0 | B7: ='Erfassung Alle Einrichtungen'!B8 -> 0 | C7: ='Erfassung Alle Einrichtungen'!C8 -> 39 | D7: ='Erfassung Alle Einrichtungen'!D8 -> 0 | E7: ='Erfassung Alle Einrichtungen'!E8 -> 0 | F7: ='Erfassung Alle Einrichtungen'!F8 -> 0 | G7: ='Erfassung Alle Einrichtungen'!G8 -> 0 | H7: ='Erfassung Alle Einrichtungen'!H8 -> 0 | ... N7: ='Erfassung Alle Einrichtungen'!N8 -> 0
A8: ='Erfassung Alle Einrichtungen'!A9 -> KITA Sandhorst | B8: ='Erfassung Alle Einrichtungen'!B9 -> 130 | C8: ='Erfassung Alle Einrichtungen'!C9 -> Anz. Gruppen | D8: ='Erfassung Alle Einrichtungen'!D9 -> 2 | E8: ='Erfassung Alle Einrichtungen'!E9 -> Anz. Gruppen | F8: ='Erfassung Alle Einrichtungen'!F9 -> 0 | G8: ='Erfassung Alle Einrichtungen'!G9 -> Anz. Gruppen | H8: ='Erfassung Alle Einrichtungen'!H9 -> 2 | ... N8: ='Erfassung Alle Einrichtungen'!N9 -> 0
A9: ='Erfassung Alle Einrichtungen'!A10 -> 0 | B9: ='Erfassung Alle Einrichtungen'!B10 -> 0 | C9: ='Erfassung Alle Einrichtungen'!C10 -> Plätze ges. | D9: ='Erfassung Alle Einrichtungen'!D10 -> 50 | E9: ='Erfassung Alle Einrichtungen'!E10 -> 0 | F9: ='Erfassung Alle Einrichtungen'!F10 -> 0 | G9: ='Erfassung Alle Einrichtungen'!G10 -> 0 | H9: ='Erfassung Alle Einrichtungen'!H10 -> 50 | ... N9: ='Erfassung Alle Einrichtungen'!N10 -> 0
A10: ='Erfassung Alle Einrichtungen'!A11 -> 0 | B10: ='Erfassung Alle Einrichtungen'!B11 -> 0 | C10: ='Erfassung Alle Einrichtungen'!C11 -> besetzt | D10: ='Erfassung Alle Einrichtungen'!D11 -> frei | E10: ='Erfassung Alle Einrichtungen'!E11 -> besetzt | F10: ='Erfassung Alle Einrichtungen'!F11 -> frei | G10: ='Erfassung Alle Einrichtungen'!G11 -> besetzt | H10: ='Erfassung Alle Einrichtungen'!H11 -> frei | ... N10: ='Erfassung Alle Einrichtungen'!N11 -> frei
A11: ='Erfassung Alle Einrichtungen'!A12 -> 0 | B11: ='Erfassung Alle Einrichtungen'!B12 -> 0 | C11: ='Erfassung Alle Einrichtungen'!C12 -> 48 | D11: ='Erfassung Alle Einrichtungen'!D12 -> 2 | E11: ='Erfassung Alle Einrichtungen'!E12 -> 0 | F11: ='Erfassung Alle Einrichtungen'!F12 -> 0 | G11: ='Erfassung Alle Einrichtungen'!G12 -> 48 | H11: ='Erfassung Alle Einrichtungen'!H12 -> 2 | ... N11: ='Erfassung Alle Einrichtungen'!N12 -> 0
A12: ='Erfassung Alle Einrichtungen'!A13 -> Hort Sandhorst | B12: ='Erfassung Alle Einrichtungen'!B13 -> 60 | C12: ='Erfassung Alle Einrichtungen'!C13 -> Anz. Gruppen | D12: ='Erfassung Alle Einrichtungen'!D13 -> 0 | E12: ='Erfassung Alle Einrichtungen'!E13 -> Anz. Gruppen | F12: ='Erfassung Alle Einrichtungen'!F13 -> 0 | G12: ='Erfassung Alle Einrichtungen'!G13 -> Anz. Gruppen | H12: ='Erfassung Alle Einrichtungen'!H13 -> 0 | ... N12: ='Erfassung Alle Einrichtungen'!N13 -> 3
A13: ='Erfassung Alle Einrichtungen'!A14 -> 0 | B13: ='Erfassung Alle Einrichtungen'!B14 -> 0 | C13: ='Erfassung Alle Einrichtungen'!C14 -> Plätze ges. | D13: ='Erfassung Alle Einrichtungen'!D14 -> 0 | E13: ='Erfassung Alle Einrichtungen'!E14 -> Plätze ges. | F13: ='Erfassung Alle Einrichtungen'!F14 -> 0 | G13: ='Erfassung Alle Einrichtungen'!G14 -> Plätze ges. | H13: ='Erfassung Alle Einrichtungen'!H14 -> 0 | ... N13: ='Erfassung Alle Einrichtungen'!N14 -> 60
... A52: ='Erfassung Alle Einrichtungen'!A53 -> 0 | B52: ='Erfassung Alle Einrichtungen'!B53 -> 0 | C52: ='Erfassung Alle Einrichtungen'!C53 -> 282 | D52: ='Erfassung Alle Einrichtungen'!D53 -> 36 | E52: ='Erfassung Alle Einrichtungen'!E53 -> 19 | F52: ='Erfassung Alle Einrichtungen'!F53 -> 6 | G52: ='Erfassung Alle Einrichtungen'!G53 -> 72 | H52: ='Erfassung Alle Einrichtungen'!H53 -> 3 | ... N52: ='Erfassung Alle Einrichtungen'!N53 -> 11

Sheet Auswertung nur Priv
K1: ='Ausw. nur Städt'!K1 -> Stand: | L1: ='Ausw. nur Städt'!L1 -> 42583
A2: ='Erfassung Alle Einrichtungen'!A55 -> Kindertagesstätten in privater Trägerschaft | B2: ='Erfassung Alle Einrichtungen'!B55 -> Plätze in der Einrichtung | C2: ='Erfassung Alle Einrichtungen'!C55 -> diese teilen sich wie folgt auf: | D2: ='Erfassung Alle Einrichtungen'!D55 -> 0 | E2: ='Erfassung Alle Einrichtungen'!E55 -> 0 | F2: ='Erfassung Alle Einrichtungen'!F55 -> 0 | G2: ='Erfassung Alle Einrichtungen'!G55 -> 0 | H2: ='Erfassung Alle Einrichtungen'!H55 -> 0 | ... N2: ='Erfassung Alle Einrichtungen'!N55 -> 0
A3: ='Erfassung Alle Einrichtungen'!A56 -> 0 | B3: ='Erfassung Alle Einrichtungen'!B56 -> 0 | C3: ='Erfassung Alle Einrichtungen'!C56 -> vormittags | D3: ='Erfassung Alle Einrichtungen'!D56 -> 0 | E3: ='Erfassung Alle Einrichtungen'!E56 -> nachmittags | F3: ='Erfassung Alle Einrichtungen'!F56 -> 0 | G3: ='Erfassung Alle Einrichtungen'!G56 -> ganztags | H3: ='Erfassung Alle Einrichtungen'!H56 -> 0 | ... N3: ='Erfassung Alle Einrichtungen'!N56 -> 0
A4: ='Erfassung Alle Einrichtungen'!A57 -> DRK Mullewapp Schmiedestr. | B4: ='Erfassung Alle Einrichtungen'!B57 -> 65 | C4: ='Erfassung Alle Einrichtungen'!C57 -> Anz. Gruppen | D4: ='Erfassung Alle Einrichtungen'!D57 -> 1 | E4: ='Erfassung Alle Einrichtungen'!E57 -> Anz. Gruppen | F4: ='Erfassung Alle Einrichtungen'!F57 -> 0 | G4: ='Erfassung Alle Einrichtungen'!G57 -> Anz. Gruppen | H4: ='Erfassung Alle Einrichtungen'!H57 -> 1 | ... N4: ='Erfassung Alle Einrichtungen'!N57 -> 0
A5: ='Erfassung Alle Einrichtungen'!A58 -> 0 | B5: ='Erfassung Alle Einrichtungen'!B58 -> 0 | C5: ='Erfassung Alle Einrichtungen'!C58 -> Plätze ges. | D5: ='Erfassung Alle Einrichtungen'!D58 -> 25 | E5: ='Erfassung Alle Einrichtungen'!E58 -> Plätze ges. | F5: ='Erfassung Alle Einrichtungen'!F58 -> 0 | G5: ='Erfassung Alle Einrichtungen'!G58 -> Plätze ges. | H5: ='Erfassung Alle Einrichtungen'!H58 -> 25 | ... N5: ='Erfassung Alle Einrichtungen'!N58 -> 0
A6: ='Erfassung Alle Einrichtungen'!A59 -> 0 | B6: ='Erfassung Alle Einrichtungen'!B59 -> 0 | C6: ='Erfassung Alle Einrichtungen'!C59 -> besetzt | D6: ='Erfassung Alle Einrichtungen'!D59 -> frei | E6: ='Erfassung Alle Einrichtungen'!E59 -> besetzt | F6: ='Erfassung Alle Einrichtungen'!F59 -> frei | G6: ='Erfassung Alle Einrichtungen'!G59 -> besetzt | H6: ='Erfassung Alle Einrichtungen'!H59 -> frei | ... N6: ='Erfassung Alle Einrichtungen'!N59 -> frei
A7: ='Erfassung Alle Einrichtungen'!A60 -> 0 | B7: ='Erfassung Alle Einrichtungen'!B60 -> 0 | C7: ='Erfassung Alle Einrichtungen'!C60 -> 25 | D7: ='Erfassung Alle Einrichtungen'!D60 -> 0 | E7: ='Erfassung Alle Einrichtungen'!E60 -> 0 | F7: ='Erfassung Alle Einrichtungen'!F60 -> 0 | G7: ='Erfassung Alle Einrichtungen'!G60 -> 25 | H7: ='Erfassung Alle Einrichtungen'!H60 -> 0 | ... N7: ='Erfassung Alle Einrichtungen'!N60 -> 0
A8: ='Erfassung Alle Einrichtungen'!A61 -> DRK Am Wasserturm | B8: ='Erfassung Alle Einrichtungen'!B61 -> 94 | C8: ='Erfassung Alle Einrichtungen'!C61 -> Anz. Gruppen | D8: ='Erfassung Alle Einrichtungen'!D61 -> 2 | E8: ='Erfassung Alle Einrichtungen'!E61 -> Anz. Gruppen | F8: ='Erfassung Alle Einrichtungen'!F61 -> 0 | G8: ='Erfassung Alle Einrichtungen'!G61 -> Anz. Gruppen | H8: ='Erfassung Alle Einrichtungen'!H61 -> 2 | ... N8: ='Erfassung Alle Einrichtungen'!N61 -> 0
A9: ='Erfassung Alle Einrichtungen'!A62 -> 0 | B9: ='Erfassung Alle Einrichtungen'!B62 -> 0 | C9: ='Erfassung Alle Einrichtungen'!C62 -> Plätze ges. | D9: ='Erfassung Alle Einrichtungen'!D62 -> 43 | E9: ='Erfassung Alle Einrichtungen'!E62 -> Plätze ges. | F9: ='Erfassung Alle Einrichtungen'!F62 -> 0 | G9: ='Erfassung Alle Einrichtungen'!G62 -> Plätze ges. | H9: ='Erfassung Alle Einrichtungen'!H62 -> 42 | ... N9: ='Erfassung Alle Einrichtungen'!N62 -> 0
A10: ='Erfassung Alle Einrichtungen'!A63 -> 0 | B10: ='Erfassung Alle Einrichtungen'!B63 -> 0 | C10: ='Erfassung Alle Einrichtungen'!C63 -> besetzt | D10: ='Erfassung Alle Einrichtungen'!D63 -> frei | E10: ='Erfassung Alle Einrichtungen'!E63 -> besetzt | F10: ='Erfassung Alle Einrichtungen'!F63 -> frei | G10: ='Erfassung Alle Einrichtungen'!G63 -> besetzt | H10: ='Erfassung Alle Einrichtungen'!H63 -> frei | ... N10: ='Erfassung Alle Einrichtungen'!N63 -> frei
A11: ='Erfassung Alle Einrichtungen'!A64 -> 0 | B11: ='Erfassung Alle Einrichtungen'!B64 -> 0 | C11: ='Erfassung Alle Einrichtungen'!C64 -> 33 | D11: ='Erfassung Alle Einrichtungen'!D64 -> 10 | E11: ='Erfassung Alle Einrichtungen'!E64 -> 0 | F11: ='Erfassung Alle Einrichtungen'!F64 -> 0 | G11: ='Erfassung Alle Einrichtungen'!G64 -> 38 | H11: ='Erfassung Alle Einrichtungen'!H64 -> 4 | ... N11: ='Erfassung Alle Einrichtungen'!N64 -> 0
A12: ='Erfassung Alle Einrichtungen'!A65 -> DRK Lambertihort | B12: ='Erfassung Alle Einrichtungen'!B65 -> 80 | C12: ='Erfassung Alle Einrichtungen'!C65 -> Anz. Gruppen | D12: ='Erfassung Alle Einrichtungen'!D65 -> 0 | E12: ='Erfassung Alle Einrichtungen'!E65 -> Anz. Gruppen | F12: ='Erfassung Alle Einrichtungen'!F65 -> 0 | G12: ='Erfassung Alle Einrichtungen'!G65 -> Anz. Gruppen | H12: ='Erfassung Alle Einrichtungen'!H65 -> 0 | ... N12: ='Erfassung Alle Einrichtungen'!N65 -> 4
A13: ='Erfassung Alle Einrichtungen'!A66 -> 0 | B13: ='Erfassung Alle Einrichtungen'!B66 -> 0 | C13: ='Erfassung Alle Einrichtungen'!C66 -> Plätze ges. | D13: ='Erfassung Alle Einrichtungen'!D66 -> 0 | E13: ='Erfassung Alle Einrichtungen'!E66 -> Plätze ges. | F13: ='Erfassung Alle Einrichtungen'!F66 -> 0 | G13: ='Erfassung Alle Einrichtungen'!G66 -> Plätze ges. | H13: ='Erfassung Alle Einrichtungen'!H66 -> 0 | ... N13: ='Erfassung Alle Einrichtungen'!N66 -> 80
... A87: ='Erfassung Alle Einrichtungen'!A140 -> 0 | B87: ='Erfassung Alle Einrichtungen'!B140 -> 0 | C87: ='Erfassung Alle Einrichtungen'!C140 -> 0 | D87: ='Erfassung Alle Einrichtungen'!D140 -> 0 | E87: ='Erfassung Alle Einrichtungen'!E140 -> 0 | F87: ='Erfassung Alle Einrichtungen'!F140 -> 0 | G87: ='Erfassung Alle Einrichtungen'!G140 -> 0 | H87: ='Erfassung Alle Einrichtungen'!H140 -> 0 | ... N87: ='Erfassung Alle Einrichtungen'!N140 -> 0

Sheet Summen Stadt+Priv
K1: ='Auswertung nur Priv'!K1 -> Stand: | L1: ='Auswertung nur Priv'!L1 -> 42583
A2: ='Erfassung Alle Einrichtungen'!A142 -> Summen Privater Einrichtungen | B2: ='Erfassung Alle Einrichtungen'!B142 -> 1241 | C2: ='Erfassung Alle Einrichtungen'!C142 -> vormittags | D2: ='Erfassung Alle Einrichtungen'!D142 -> 0 | E2: ='Erfassung Alle Einrichtungen'!E142 -> nachmittags | F2: ='Erfassung Alle Einrichtungen'!F142 -> 0 | G2: ='Erfassung Alle Einrichtungen'!G142 -> ganztags | H2: ='Erfassung Alle Einrichtungen'!H142 -> 0 | ... N2: ='Erfassung Alle Einrichtungen'!N142 -> 0
C3: ='Erfassung Alle Einrichtungen'!C143 -> Anz. Gruppen | D3: ='Erfassung Alle Einrichtungen'!D143 -> 21 | E3: ='Erfassung Alle Einrichtungen'!E143 -> Anz. Gruppen | F3: ='Erfassung Alle Einrichtungen'!F143 -> 2 | G3: ='Erfassung Alle Einrichtungen'!G143 -> Anz. Gruppen | H3: ='Erfassung Alle Einrichtungen'!H143 -> 15 | I3: ='Erfassung Alle Einrichtungen'!I143 -> Anz. Gruppen | J3: ='Erfassung Alle Einrichtungen'!J143 -> 14 | ... N3: ='Erfassung Alle Einrichtungen'!N143 -> 8
C4: ='Erfassung Alle Einrichtungen'!C144 -> Plätze ges. | D4: ='Erfassung Alle Einrichtungen'!D144 -> 451 | E4: ='Erfassung Alle Einrichtungen'!E144 -> Plätze ges. | F4: ='Erfassung Alle Einrichtungen'!F144 -> 50 | G4: ='Erfassung Alle Einrichtungen'!G144 -> Plätze ges. | H4: ='Erfassung Alle Einrichtungen'!H144 -> 346 | I4: ='Erfassung Alle Einrichtungen'!I144 -> Plätze ges. | J4: ='Erfassung Alle Einrichtungen'!J144 -> 190 | ... N4: ='Erfassung Alle Einrichtungen'!N144 -> 152
C5: ='Erfassung Alle Einrichtungen'!C145 -> besetzt | D5: ='Erfassung Alle Einrichtungen'!D145 -> frei | E5: ='Erfassung Alle Einrichtungen'!E145 -> besetzt | F5: ='Erfassung Alle Einrichtungen'!F145 -> frei | G5: ='Erfassung Alle Einrichtungen'!G145 -> besetzt | H5: ='Erfassung Alle Einrichtungen'!H145 -> frei | I5: ='Erfassung Alle Einrichtungen'!I145 -> besetzt | J5: ='Erfassung Alle Einrichtungen'!J145 -> frei | ... N5: ='Erfassung Alle Einrichtungen'!N145 -> frei
C6: ='Erfassung Alle Einrichtungen'!C146 -> 402 | D6: ='Erfassung Alle Einrichtungen'!D146 -> 49 | E6: ='Erfassung Alle Einrichtungen'!E146 -> 41 | F6: ='Erfassung Alle Einrichtungen'!F146 -> 9 | G6: ='Erfassung Alle Einrichtungen'!G146 -> 335 | H6: ='Erfassung Alle Einrichtungen'!H146 -> 11 | I6: ='Erfassung Alle Einrichtungen'!I146 -> 176 | J6: ='Erfassung Alle Einrichtungen'!J146 -> 14 | ... N6: ='Erfassung Alle Einrichtungen'!N146 -> 3
C7: %-Anteil frei | D7: =1/C6*D6 -> 0.12189055 | E7: %-Anteil frei | F7: =1/E6*F6 -> 0.2195122 | G7: %-Anteil frei | H7: =1/G6*H6 -> 0.032835821 | I7: %-Anteil frei | J7: =1/I6*J6 -> 0.079545455 | K7: %-Anteil frei | L7: =1/K6*L6 -> 0.36842105 | M7: %-Anteil frei | N7: =1/M6*N6 -> 0.020134228
A9: ='Erfassung Alle Einrichtungen'!A148 -> Summen Städt. Einrichtungen | B9: ='Erfassung Alle Einrichtungen'!B148 -> 609 | C9: ='Erfassung Alle Einrichtungen'!C148 -> vormittags | D9: ='Erfassung Alle Einrichtungen'!D148 -> 0 | E9: ='Erfassung Alle Einrichtungen'!E148 -> nachmittags | F9: ='Erfassung Alle Einrichtungen'!F148 -> 0 | G9: ='Erfassung Alle Einrichtungen'!G148 -> ganztags | H9: ='Erfassung Alle Einrichtungen'!H148 -> 0 | ... N9: ='Erfassung Alle Einrichtungen'!N148 -> 0
C10: ='Erfassung Alle Einrichtungen'!C149 -> Anz. Gruppen | D10: ='Erfassung Alle Einrichtungen'!D149 -> 14 | E10: ='Erfassung Alle Einrichtungen'!E149 -> Anz. Gruppen | F10: ='Erfassung Alle Einrichtungen'!F149 -> 1 | G10: ='Erfassung Alle Einrichtungen'!G149 -> Anz. Gruppen | H10: ='Erfassung Alle Einrichtungen'!H149 -> 3 | I10: ='Erfassung Alle Einrichtungen'!I149 -> Anz. Gruppen | J10: ='Erfassung Alle Einrichtungen'!J149 -> 5 | ... N10: ='Erfassung Alle Einrichtungen'!N149 -> 6
C11: ='Erfassung Alle Einrichtungen'!C150 -> Plätze ges. | D11: ='Erfassung Alle Einrichtungen'!D150 -> 318 | E11: ='Erfassung Alle Einrichtungen'!E150 -> Plätze ges. | F11: ='Erfassung Alle Einrichtungen'!F150 -> 25 | G11: ='Erfassung Alle Einrichtungen'!G150 -> Plätze ges. | H11: ='Erfassung Alle Einrichtungen'!H150 -> 75 | I11: ='Erfassung Alle Einrichtungen'!I150 -> Plätze ges. | J11: ='Erfassung Alle Einrichtungen'!J150 -> 62 | ... N11: ='Erfassung Alle Einrichtungen'!N150 -> 120
C12: ='Erfassung Alle Einrichtungen'!C151 -> besetzt | D12: ='Erfassung Alle Einrichtungen'!D151 -> frei | E12: ='Erfassung Alle Einrichtungen'!E151 -> besetzt | F12: ='Erfassung Alle Einrichtungen'!F151 -> frei | G12: ='Erfassung Alle Einrichtungen'!G151 -> besetzt | H12: ='Erfassung Alle Einrichtungen'!H151 -> frei | I12: ='Erfassung Alle Einrichtungen'!I151 -> besetzt | J12: ='Erfassung Alle Einrichtungen'!J151 -> frei | ... N12: ='Erfassung Alle Einrichtungen'!N151 -> frei
C13: ='Erfassung Alle Einrichtungen'!C152 -> 282 | D13: ='Erfassung Alle Einrichtungen'!D152 -> 36 | E13: ='Erfassung Alle Einrichtungen'!E152 -> 19 | F13: ='Erfassung Alle Einrichtungen'!F152 -> 6 | G13: ='Erfassung Alle Einrichtungen'!G152 -> 72 | H13: ='Erfassung Alle Einrichtungen'!H152 -> 3 | I13: ='Erfassung Alle Einrichtungen'!I152 -> 51 | J13: ='Erfassung Alle Einrichtungen'!J152 -> 11 | ... N13: ='Erfassung Alle Einrichtungen'!N152 -> 11
C14: %-Anteil frei | D14: =1/C13*D13 -> 0.12765957 | E14: %-Anteil frei | F14: =1/E13*F13 -> 0.31578947 | G14: %-Anteil frei | H14: =1/G13*H13 -> 0.041666667 | I14: %-Anteil frei | J14: =1/I13*J13 -> 0.21568627 | K14: %-Anteil frei | L14: =1/L11*L13 -> 0.88888889 | M14: %-Anteil frei | N14: =1/M13*N13 -> 0.10091743
A16: ='Erfassung Alle Einrichtungen'!A154 -> Gesamt Städt. u. Priv. Einrichtungen | B16: ='Erfassung Alle Einrichtungen'!B154 -> 1850 | C16: ='Erfassung Alle Einrichtungen'!C154 -> vormittags | D16: ='Erfassung Alle Einrichtungen'!D154 -> 0 | E16: ='Erfassung Alle Einrichtungen'!E154 -> nachmittags | F16: ='Erfassung Alle Einrichtungen'!F154 -> 0 | G16: ='Erfassung Alle Einrichtungen'!G154 -> ganztags | H16: ='Erfassung Alle Einrichtungen'!H154 -> 0 | ... N16: ='Erfassung Alle Einrichtungen'!N154 -> 0
C17: ='Erfassung Alle Einrichtungen'!C155 -> Anz. Gruppen | D17: ='Erfassung Alle Einrichtungen'!D155 -> 35 | E17: ='Erfassung Alle Einrichtungen'!E155 -> Anz. Gruppen | F17: ='Erfassung Alle Einrichtungen'!F155 -> 3 | G17: ='Erfassung Alle Einrichtungen'!G155 -> Anz. Gruppen | H17: ='Erfassung Alle Einrichtungen'!H155 -> 18 | I17: ='Erfassung Alle Einrichtungen'!I155 -> Anz. Gruppen | J17: ='Erfassung Alle Einrichtungen'!J155 -> 0 | ... N17: ='Erfassung Alle Einrichtungen'!N155 -> 14
C18: ='Erfassung Alle Einrichtungen'!C156 -> Plätze ges. | D18: ='Erfassung Alle Einrichtungen'!D156 -> 769 | E18: ='Erfassung Alle Einrichtungen'!E156 -> Plätze ges. | F18: ='Erfassung Alle Einrichtungen'!F156 -> 75 | G18: ='Erfassung Alle Einrichtungen'!G156 -> Plätze ges. | H18: ='Erfassung Alle Einrichtungen'!H156 -> 421 | I18: ='Erfassung Alle Einrichtungen'!I156 -> Plätze ges. | J18: ='Erfassung Alle Einrichtungen'!J156 -> 252 | ... N18: ='Erfassung Alle Einrichtungen'!N156 -> 272
C19: ='Erfassung Alle Einrichtungen'!C157 -> besetzt | D19: ='Erfassung Alle Einrichtungen'!D157 -> frei | E19: ='Erfassung Alle Einrichtungen'!E157 -> besetzt | F19: ='Erfassung Alle Einrichtungen'!F157 -> frei | G19: ='Erfassung Alle Einrichtungen'!G157 -> besetzt | H19: ='Erfassung Alle Einrichtungen'!H157 -> frei | I19: ='Erfassung Alle Einrichtungen'!I157 -> besetzt | J19: ='Erfassung Alle Einrichtungen'!J157 -> frei | ... N19: ='Erfassung Alle Einrichtungen'!N157 -> frei
C20: ='Erfassung Alle Einrichtungen'!C158 -> 684 | D20: ='Erfassung Alle Einrichtungen'!D158 -> 85 | E20: ='Erfassung Alle Einrichtungen'!E158 -> 60 | F20: ='Erfassung Alle Einrichtungen'!F158 -> 15 | G20: ='Erfassung Alle Einrichtungen'!G158 -> 407 | H20: ='Erfassung Alle Einrichtungen'!H158 -> 14 | I20: ='Erfassung Alle Einrichtungen'!I158 -> 227 | J20: ='Erfassung Alle Einrichtungen'!J158 -> 25 | ... N20: ='Erfassung Alle Einrichtungen'!N158 -> 14
C21: %-Anteil frei | D21: =1/C20*D20 -> 0.12426901 | E21: %-Anteil frei | F21: =1/E20*F20 -> 0.25 | G21: %-Anteil frei | H21: =1/G20*H20 -> 0.034398034 | I21: %-Anteil frei | J21: =1/I20*J20 -> 0.11013216 | K21: %-Anteil frei | L21: =1/K20*L20 -> 0.56410256 | M21: %-Anteil frei | N21: =1/M20*N20 -> 0.054263566

Sheet Tabelle1
A1: ='Erfassung Alle Einrichtungen'!A1 -> Übersicht aller Kindergartenplätze in der Stadt Aurich | B1: ='Erfassung Alle Einrichtungen'!B1 -> 0 | C1: ='Erfassung Alle Einrichtungen'!C1 -> 0 | D1: ='Erfassung Alle Einrichtungen'!D1 -> 0 | E1: ='Erfassung Alle Einrichtungen'!E1 -> 0 | F1: ='Erfassung Alle Einrichtungen'!F1 -> 0 | G1: ='Erfassung Alle Einrichtungen'!G1 -> 0 | H1: ='Erfassung Alle Einrichtungen'!H1 -> 0 | ... N1: ='Erfassung Alle Einrichtungen'!N1 -> 0
B2: ='Erfassung Alle Einrichtungen'!B2 -> 0 | C2: ='Erfassung Alle Einrichtungen'!C2 -> 0 | D2: ='Erfassung Alle Einrichtungen'!D2 -> 0 | E2: ='Erfassung Alle Einrichtungen'!E2 -> 0 | F2: ='Erfassung Alle Einrichtungen'!F2 -> 0 | G2: ='Erfassung Alle Einrichtungen'!G2 -> 0 | H2: ='Erfassung Alle Einrichtungen'!H2 -> 0 | I2: ='Erfassung Alle Einrichtungen'!I2 -> 0 | ... N2: ='Erfassung Alle Einrichtungen'!N2 -> 0 | P2: Auswertung freie Krippenplätze Stand 01.08.2016
A3: ='Erfassung Alle Einrichtungen'!A3 -> Kindertagesstätten in städt. Trägerschaft | B3: ='Erfassung Alle Einrichtungen'!B3 -> Plätze in der Einrichtung | C3: ='Erfassung Alle Einrichtungen'!C3 -> diese teilen sich wie folgt auf: | D3: ='Erfassung Alle Einrichtungen'!D3 -> 0 | E3: ='Erfassung Alle Einrichtungen'!E3 -> 0 | F3: ='Erfassung Alle Einrichtungen'!F3 -> 0 | G3: ='Erfassung Alle Einrichtungen'!G3 -> 0 | H3: ='Erfassung Alle Einrichtungen'!H3 -> 0 | ... N3: ='Erfassung Alle Einrichtungen'!N3 -> 0
A4: ='Erfassung Alle Einrichtungen'!A4 -> 0 | B4: ='Erfassung Alle Einrichtungen'!B4 -> 0 | C4: ='Erfassung Alle Einrichtungen'!C4 -> vormittags | D4: ='Erfassung Alle Einrichtungen'!D4 -> 0 | E4: ='Erfassung Alle Einrichtungen'!E4 -> nachmittags | F4: ='Erfassung Alle Einrichtungen'!F4 -> 0 | G4: ='Erfassung Alle Einrichtungen'!G4 -> ganztags | H4: ='Erfassung Alle Einrichtungen'!H4 -> 0 | ... N4: ='Erfassung Alle Einrichtungen'!N4 -> 0 | P4: Krippenplätze | Q4: davon frei | R4: Einrichtung | S4: Einrichtung
A5: ='Erfassung Alle Einrichtungen'!A5 -> Swaalvkenüst Wiesens | B5: ='Erfassung Alle Einrichtungen'!B5 -> 43 | C5: ='Erfassung Alle Einrichtungen'!C5 -> Anz. Gruppen | D5: ='Erfassung Alle Einrichtungen'!D5 -> 2 | E5: ='Erfassung Alle Einrichtungen'!E5 -> Anz. Gruppen | F5: ='Erfassung Alle Einrichtungen'!F5 -> 0 | G5: ='Erfassung Alle Einrichtungen'!G5 -> Anz. Gruppen | H5: ='Erfassung Alle Einrichtungen'!H5 -> 0 | ... N5: ='Erfassung Alle Einrichtungen'!N5 -> 0 | S5: =R5 -> 0
A6: ='Erfassung Alle Einrichtungen'!A6 -> 0 | B6: ='Erfassung Alle Einrichtungen'!B6 -> 0 | C6: ='Erfassung Alle Einrichtungen'!C6 -> Plätze ges. | D6: ='Erfassung Alle Einrichtungen'!D6 -> 39 | E6: ='Erfassung Alle Einrichtungen'!E6 -> Plätze ges. | F6: ='Erfassung Alle Einrichtungen'!F6 -> 0 | G6: ='Erfassung Alle Einrichtungen'!G6 -> Plätze ges. | H6: ='Erfassung Alle Einrichtungen'!H6 -> 0 | ... N6: ='Erfassung Alle Einrichtungen'!N6 -> 0 | P6: =IF(J6>0,J6,"") | S6: =R6 -> 0
A7: ='Erfassung Alle Einrichtungen'!A7 -> 0 | B7: ='Erfassung Alle Einrichtungen'!B7 -> 0 | C7: ='Erfassung Alle Einrichtungen'!C7 -> besetzt | D7: ='Erfassung Alle Einrichtungen'!D7 -> frei | E7: ='Erfassung Alle Einrichtungen'!E7 -> besetzt | F7: ='Erfassung Alle Einrichtungen'!F7 -> frei | G7: ='Erfassung Alle Einrichtungen'!G7 -> besetzt | H7: ='Erfassung Alle Einrichtungen'!H7 -> frei | ... N7: ='Erfassung Alle Einrichtungen'!N7 -> frei | S7: =R7 -> 0
A8: ='Erfassung Alle Einrichtungen'!A8 -> 0 | B8: ='Erfassung Alle Einrichtungen'!B8 -> 0 | C8: ='Erfassung Alle Einrichtungen'!C8 -> 39 | D8: ='Erfassung Alle Einrichtungen'!D8 -> 0 | E8: ='Erfassung Alle Einrichtungen'!E8 -> 0 | F8: ='Erfassung Alle Einrichtungen'!F8 -> 0 | G8: ='Erfassung Alle Einrichtungen'!G8 -> 0 | H8: ='Erfassung Alle Einrichtungen'!H8 -> 0 | ... N8: ='Erfassung Alle Einrichtungen'!N8 -> 0 | S8: =R8 -> 0
A9: ='Erfassung Alle Einrichtungen'!A9 -> KITA Sandhorst | B9: ='Erfassung Alle Einrichtungen'!B9 -> 130 | C9: ='Erfassung Alle Einrichtungen'!C9 -> Anz. Gruppen | D9: ='Erfassung Alle Einrichtungen'!D9 -> 2 | E9: ='Erfassung Alle Einrichtungen'!E9 -> Anz. Gruppen | F9: ='Erfassung Alle Einrichtungen'!F9 -> 0 | G9: ='Erfassung Alle Einrichtungen'!G9 -> Anz. Gruppen | H9: ='Erfassung Alle Einrichtungen'!H9 -> 2 | ... N9: ='Erfassung Alle Einrichtungen'!N9 -> 0 | S9: =R9 -> 0
A10: ='Erfassung Alle Einrichtungen'!A10 -> 0 | B10: ='Erfassung Alle Einrichtungen'!B10 -> 0 | C10: ='Erfassung Alle Einrichtungen'!C10 -> Plätze ges. | D10: ='Erfassung Alle Einrichtungen'!D10 -> 50 | E10: ='Erfassung Alle Einrichtungen'!E10 -> 0 | F10: ='Erfassung Alle Einrichtungen'!F10 -> 0 | G10: ='Erfassung Alle Einrichtungen'!G10 -> 0 | H10: ='Erfassung Alle Einrichtungen'!H10 -> 50 | ... N10: ='Erfassung Alle Einrichtungen'!N10 -> 0 | P10: =IF(J10>0,J10,"") -> 30 | Q10: 0 | R10: =A9 -> KITA Sandhorst | S10: =R10 -> KITA Sandhorst
A11: ='Erfassung Alle Einrichtungen'!A11 -> 0 | B11: ='Erfassung Alle Einrichtungen'!B11 -> 0 | C11: ='Erfassung Alle Einrichtungen'!C11 -> besetzt | D11: ='Erfassung Alle Einrichtungen'!D11 -> frei | E11: ='Erfassung Alle Einrichtungen'!E11 -> besetzt | F11: ='Erfassung Alle Einrichtungen'!F11 -> frei | G11: ='Erfassung Alle Einrichtungen'!G11 -> besetzt | H11: ='Erfassung Alle Einrichtungen'!H11 -> frei | ... N11: ='Erfassung Alle Einrichtungen'!N11 -> frei | S11: =R11 -> 0
A12: ='Erfassung Alle Einrichtungen'!A12 -> 0 | B12: ='Erfassung Alle Einrichtungen'!B12 -> 0 | C12: ='Erfassung Alle Einrichtungen'!C12 -> 48 | D12: ='Erfassung Alle Einrichtungen'!D12 -> 2 | E12: ='Erfassung Alle Einrichtungen'!E12 -> 0 | F12: ='Erfassung Alle Einrichtungen'!F12 -> 0 | G12: ='Erfassung Alle Einrichtungen'!G12 -> 48 | H12: ='Erfassung Alle Einrichtungen'!H12 -> 2 | ... N12: ='Erfassung Alle Einrichtungen'!N12 -> 0 | S12: =R12 -> 0
A13: ='Erfassung Alle Einrichtungen'!A13 -> Hort Sandhorst | B13: ='Erfassung Alle Einrichtungen'!B13 -> 60 | C13: ='Erfassung Alle Einrichtungen'!C13 -> Anz. Gruppen | D13: ='Erfassung Alle Einrichtungen'!D13 -> 0 | E13: ='Erfassung Alle Einrichtungen'!E13 -> Anz. Gruppen | F13: ='Erfassung Alle Einrichtungen'!F13 -> 0 | G13: ='Erfassung Alle Einrichtungen'!G13 -> Anz. Gruppen | H13: ='Erfassung Alle Einrichtungen'!H13 -> 0 | ... N13: ='Erfassung Alle Einrichtungen'!N13 -> 3 | S13: =R13 -> 0
A14: ='Erfassung Alle Einrichtungen'!A14 -> 0 | B14: ='Erfassung Alle Einrichtungen'!B14 -> 0 | C14: ='Erfassung Alle Einrichtungen'!C14 -> Plätze ges. | D14: ='Erfassung Alle Einrichtungen'!D14 -> 0 | E14: ='Erfassung Alle Einrichtungen'!E14 -> Plätze ges. | F14: ='Erfassung Alle Einrichtungen'!F14 -> 0 | G14: ='Erfassung Alle Einrichtungen'!G14 -> Plätze ges. | H14: ='Erfassung Alle Einrichtungen'!H14 -> 0 | ... N14: ='Erfassung Alle Einrichtungen'!N14 -> 60 | P14: =IF(J14>0,J14,"") | S14: =R14 -> 0
A15: ='Erfassung Alle Einrichtungen'!A15 -> 0 | B15: ='Erfassung Alle Einrichtungen'!B15 -> 0 | C15: ='Erfassung Alle Einrichtungen'!C15 -> besetzt | D15: ='Erfassung Alle Einrichtungen'!D15 -> frei | E15: ='Erfassung Alle Einrichtungen'!E15 -> besetzt | F15: ='Erfassung Alle Einrichtungen'!F15 -> frei | G15: ='Erfassung Alle Einrichtungen'!G15 -> besetzt | H15: ='Erfassung Alle Einrichtungen'!H15 -> frei | ... N15: ='Erfassung Alle Einrichtungen'!N15 -> frei | S15: =R15 -> 0
A16: ='Erfassung Alle Einrichtungen'!A16 -> 0 | B16: ='Erfassung Alle Einrichtungen'!B16 -> 0 | C16: ='Erfassung Alle Einrichtungen'!C16 -> 0 | D16: ='Erfassung Alle Einrichtungen'!D16 -> 0 | E16: ='Erfassung Alle Einrichtungen'!E16 -> 0 | F16: ='Erfassung Alle Einrichtungen'!F16 -> 0 | G16: ='Erfassung Alle Einrichtungen'!G16 -> 0 | H16: ='Erfassung Alle Einrichtungen'!H16 -> 0 | ... N16: ='Erfassung Alle Einrichtungen'!N16 -> 9 | S16: =R16 -> 0
A17: ='Erfassung Alle Einrichtungen'!A17 -> Wallinghausen | B17: ='Erfassung Alle Einrichtungen'!B17 -> 104 | C17: ='Erfassung Alle Einrichtungen'!C17 -> Anz. Gruppen | D17: ='Erfassung Alle Einrichtungen'!D17 -> 1 | E17: ='Erfassung Alle Einrichtungen'!E17 -> Anz. Gruppen | F17: ='Erfassung Alle Einrichtungen'!F17 -> 0 | G17: ='Erfassung Alle Einrichtungen'!G17 -> Anz. Gruppen | H17: ='Erfassung Alle Einrichtungen'!H17 -> 1 | ... N17: ='Erfassung Alle Einrichtungen'!N17 -> 2 | S17: =R17 -> 0
A18: ='Erfassung Alle Einrichtungen'!A18 -> 0 | B18: ='Erfassung Alle Einrichtungen'!B18 -> 0 | C18: ='Erfassung Alle Einrichtungen'!C18 -> Plätze ges. | D18: ='Erfassung Alle Einrichtungen'!D18 -> 25 | E18: ='Erfassung Alle Einrichtungen'!E18 -> Plätze ges. | F18: ='Erfassung Alle Einrichtungen'!F18 -> 0 | G18: ='Erfassung Alle Einrichtungen'!G18 -> Plätze ges. | H18: ='Erfassung Alle Einrichtungen'!H18 -> 25 | ... N18: ='Erfassung Alle Einrichtungen'!N18 -> 40 | P18: =IF(J18>0,J18,"") -> 13 | Q18: =J20 -> 3 | R18: =A17 -> Wallinghausen | S18: =R18 -> Wallinghausen
A19: ='Erfassung Alle Einrichtungen'!A19 -> 0 | B19: ='Erfassung Alle Einrichtungen'!B19 -> 0 | C19: ='Erfassung Alle Einrichtungen'!C19 -> besetzt | D19: ='Erfassung Alle Einrichtungen'!D19 -> frei | E19: ='Erfassung Alle Einrichtungen'!E19 -> besetzt | F19: ='Erfassung Alle Einrichtungen'!F19 -> frei | G19: ='Erfassung Alle Einrichtungen'!G19 -> besetzt | H19: ='Erfassung Alle Einrichtungen'!H19 -> frei | ... N19: ='Erfassung Alle Einrichtungen'!N19 -> frei | S19: =R19 -> 0
A20: ='Erfassung Alle Einrichtungen'!A20 -> 0 | B20: ='Erfassung Alle Einrichtungen'!B20 -> 0 | C20: ='Erfassung Alle Einrichtungen'!C20 -> 22 | D20: ='Erfassung Alle Einrichtungen'!D20 -> 3 | E20: ='Erfassung Alle Einrichtungen'!E20 -> 0 | F20: ='Erfassung Alle Einrichtungen'!F20 -> 0 | G20: ='Erfassung Alle Einrichtungen'!G20 -> 24 | H20: ='Erfassung Alle Einrichtungen'!H20 -> 1 | ... N20: ='Erfassung Alle Einrichtungen'!N20 -> 2 | S20: =R20 -> 0
A21: ='Erfassung Alle Einrichtungen'!A21 -> Lindenbaum | B21: ='Erfassung Alle Einrichtungen'!B21 -> 42 | C21: ='Erfassung Alle Einrichtungen'!C21 -> Anz. Gruppen | D21: ='Erfassung Alle Einrichtungen'!D21 -> 2 | E21: ='Erfassung Alle Einrichtungen'!E21 -> Anz. Gruppen | F21: ='Erfassung Alle Einrichtungen'!F21 -> 0 | G21: ='Erfassung Alle Einrichtungen'!G21 -> Anz. Gruppen | H21: ='Erfassung Alle Einrichtungen'!H21 -> 0 | ... N21: ='Erfassung Alle Einrichtungen'!N21 -> 0 | S21: =R21 -> 0
A22: ='Erfassung Alle Einrichtungen'!A22 -> 0 | B22: ='Erfassung Alle Einrichtungen'!B22 -> 0 | C22: ='Erfassung Alle Einrichtungen'!C22 -> Plätze ges. | D22: ='Erfassung Alle Einrichtungen'!D22 -> 38 | E22: ='Erfassung Alle Einrichtungen'!E22 -> Plätze ges. | F22: ='Erfassung Alle Einrichtungen'!F22 -> 0 | G22: ='Erfassung Alle Einrichtungen'!G22 -> Plätze ges. | H22: ='Erfassung Alle Einrichtungen'!H22 -> 0 | ... N22: ='Erfassung Alle Einrichtungen'!N22 -> 0 | P22: =IF(J22>0,J22,"") | S22: =R22 -> 0
A23: ='Erfassung Alle Einrichtungen'!A23 -> 0 | B23: ='Erfassung Alle Einrichtungen'!B23 -> 0 | C23: ='Erfassung Alle Einrichtungen'!C23 -> besetzt | D23: ='Erfassung Alle Einrichtungen'!D23 -> frei | E23: ='Erfassung Alle Einrichtungen'!E23 -> besetzt | F23: ='Erfassung Alle Einrichtungen'!F23 -> frei | G23: ='Erfassung Alle Einrichtungen'!G23 -> besetzt | H23: ='Erfassung Alle Einrichtungen'!H23 -> frei | ... N23: ='Erfassung Alle Einrichtungen'!N23 -> frei | S23: =R23 -> 0
A24: ='Erfassung Alle Einrichtungen'!A24 -> 0 | B24: ='Erfassung Alle Einrichtungen'!B24 -> 0 | C24: ='Erfassung Alle Einrichtungen'!C24 -> 35 | D24: ='Erfassung Alle Einrichtungen'!D24 -> 3 | E24: ='Erfassung Alle Einrichtungen'!E24 -> 0 | F24: ='Erfassung Alle Einrichtungen'!F24 -> 0 | G24: ='Erfassung Alle Einrichtungen'!G24 -> 0 | H24: ='Erfassung Alle Einrichtungen'!H24 -> 0 | ... N24: ='Erfassung Alle Einrichtungen'!N24 -> 0 | S24: =R24 -> 0
A25: ='Erfassung Alle Einrichtungen'!A25 -> von-Bodelschwingh | B25: ='Erfassung Alle Einrichtungen'!B25 -> 70 | C25: ='Erfassung Alle Einrichtungen'!C25 -> Anz. Gruppen | D25: ='Erfassung Alle Einrichtungen'!D25 -> 1 | E25: ='Erfassung Alle Einrichtungen'!E25 -> Anz. Gruppen | F25: ='Erfassung Alle Einrichtungen'!F25 -> 1 | G25: ='Erfassung Alle Einrichtungen'!G25 -> Anz. Gruppen | H25: ='Erfassung Alle Einrichtungen'!H25 -> 0 | ... N25: ='Erfassung Alle Einrichtungen'!N25 -> 1 | S25: =R25 -> 0
A26: ='Erfassung Alle Einrichtungen'!A26 -> 0 | B26: ='Erfassung Alle Einrichtungen'!B26 -> 0 | C26: ='Erfassung Alle Einrichtungen'!C26 -> Plätze ges. | D26: ='Erfassung Alle Einrichtungen'!D26 -> 25 | E26: ='Erfassung Alle Einrichtungen'!E26 -> Plätze ges. | F26: ='Erfassung Alle Einrichtungen'!F26 -> 25 | G26: ='Erfassung Alle Einrichtungen'!G26 -> Plätze ges. | H26: ='Erfassung Alle Einrichtungen'!H26 -> 0 | ... N26: ='Erfassung Alle Einrichtungen'!N26 -> 20 | P26: =IF(J26>0,J26,"") | S26: =R26 -> 0
A27: ='Erfassung Alle Einrichtungen'!A27 -> 0 | B27: ='Erfassung Alle Einrichtungen'!B27 -> 0 | C27: ='Erfassung Alle Einrichtungen'!C27 -> besetzt | D27: ='Erfassung Alle Einrichtungen'!D27 -> frei | E27: ='Erfassung Alle Einrichtungen'!E27 -> besetzt | F27: ='Erfassung Alle Einrichtungen'!F27 -> frei | G27: ='Erfassung Alle Einrichtungen'!G27 -> besetzt | H27: ='Erfassung Alle Einrichtungen'!H27 -> frei | ... N27: ='Erfassung Alle Einrichtungen'!N27 -> frei | S27: =R27 -> 0
A28: ='Erfassung Alle Einrichtungen'!A28 -> 0 | B28: ='Erfassung Alle Einrichtungen'!B28 -> 0 | C28: ='Erfassung Alle Einrichtungen'!C28 -> 20 | D28: ='Erfassung Alle Einrichtungen'!D28 -> 5 | E28: ='Erfassung Alle Einrichtungen'!E28 -> 19 | F28: ='Erfassung Alle Einrichtungen'!F28 -> 6 | G28: ='Erfassung Alle Einrichtungen'!G28 -> 0 | H28: ='Erfassung Alle Einrichtungen'!H28 -> 0 | ... N28: ='Erfassung Alle Einrichtungen'!N28 -> 0 | S28: =R28 -> 0
A29: ='Erfassung Alle Einrichtungen'!A29 -> Lummerland | B29: ='Erfassung Alle Einrichtungen'!B29 -> 65 | C29: ='Erfassung Alle Einrichtungen'!C29 -> Anz. Gruppen | D29: ='Erfassung Alle Einrichtungen'!D29 -> 2 | E29: ='Erfassung Alle Einrichtungen'!E29 -> Anz. Gruppen | F29: ='Erfassung Alle Einrichtungen'!F29 -> 0 | G29: ='Erfassung Alle Einrichtungen'!G29 -> Anz. Gruppen | H29: ='Erfassung Alle Einrichtungen'!H29 -> 0 | ... N29: ='Erfassung Alle Einrichtungen'!N29 -> 0 | S29: =R29 -> 0
A30: ='Erfassung Alle Einrichtungen'!A30 -> 0 | B30: ='Erfassung Alle Einrichtungen'!B30 -> 0 | C30: ='Erfassung Alle Einrichtungen'!C30 -> Plätze ges. | D30: ='Erfassung Alle Einrichtungen'!D30 -> 50 | E30: ='Erfassung Alle Einrichtungen'!E30 -> Plätze ges. | F30: ='Erfassung Alle Einrichtungen'!F30 -> 0 | G30: ='Erfassung Alle Einrichtungen'!G30 -> Plätze ges. | H30: ='Erfassung Alle Einrichtungen'!H30 -> 0 | ... N30: ='Erfassung Alle Einrichtungen'!N30 -> 0 | P30: =IF(J30>0,J30,"") -> 15 | Q30: 4 | R30: =A29 -> Lummerland | S30: =R30 -> Lummerland
A31: ='Erfassung Alle Einrichtungen'!A31 -> 0 | B31: ='Erfassung Alle Einrichtungen'!B31 -> 0 | C31: ='Erfassung Alle Einrichtungen'!C31 -> besetzt | D31: ='Erfassung Alle Einrichtungen'!D31 -> frei | E31: ='Erfassung Alle Einrichtungen'!E31 -> besetzt | F31: ='Erfassung Alle Einrichtungen'!F31 -> frei | G31: ='Erfassung Alle Einrichtungen'!G31 -> besetzt | H31: ='Erfassung Alle Einrichtungen'!H31 -> frei | ... N31: ='Erfassung Alle Einrichtungen'!N31 -> frei | S31: =R31 -> 0
A32: ='Erfassung Alle Einrichtungen'!A32 -> 0 | B32: ='Erfassung Alle Einrichtungen'!B32 -> 0 | C32: ='Erfassung Alle Einrichtungen'!C32 -> 48 | D32: ='Erfassung Alle Einrichtungen'!D32 -> 2 | E32: ='Erfassung Alle Einrichtungen'!E32 -> 0 | F32: ='Erfassung Alle Einrichtungen'!F32 -> 0 | G32: ='Erfassung Alle Einrichtungen'!G32 -> 0 | H32: ='Erfassung Alle Einrichtungen'!H32 -> 0 | ... N32: ='Erfassung Alle Einrichtungen'!N32 -> 0 | S32: =R32 -> 0
A33: ='Erfassung Alle Einrichtungen'!A33 -> Immenkörv | B33: ='Erfassung Alle Einrichtungen'!B33 -> 50 | C33: ='Erfassung Alle Einrichtungen'!C33 -> Anz. Gruppen | D33: ='Erfassung Alle Einrichtungen'!D33 -> 2 | E33: ='Erfassung Alle Einrichtungen'!E33 -> Anz. Gruppen | F33: ='Erfassung Alle Einrichtungen'!F33 -> 0 | G33: ='Erfassung Alle Einrichtungen'!G33 -> Anz. Gruppen | H33: ='Erfassung Alle Einrichtungen'!H33 -> 0 | ... N33: ='Erfassung Alle Einrichtungen'!N33 -> 0 | S33: =R33 -> 0
A34: ='Erfassung Alle Einrichtungen'!A34 -> 0 | B34: ='Erfassung Alle Einrichtungen'!B34 -> 0 | C34: ='Erfassung Alle Einrichtungen'!C34 -> Plätze ges. | D34: ='Erfassung Alle Einrichtungen'!D34 -> 50 | E34: ='Erfassung Alle Einrichtungen'!E34 -> Plätze ges. | F34: ='Erfassung Alle Einrichtungen'!F34 -> 0 | G34: ='Erfassung Alle Einrichtungen'!G34 -> Plätze ges. | H34: ='Erfassung Alle Einrichtungen'!H34 -> 0 | ... N34: ='Erfassung Alle Einrichtungen'!N34 -> 0 | P34: =IF(J34>0,J34,"") | S34: =R34 -> 0
A35: ='Erfassung Alle Einrichtungen'!A35 -> 0 | B35: ='Erfassung Alle Einrichtungen'!B35 -> 0 | C35: ='Erfassung Alle Einrichtungen'!C35 -> besetzt | D35: ='Erfassung Alle Einrichtungen'!D35 -> frei | E35: ='Erfassung Alle Einrichtungen'!E35 -> besetzt | F35: ='Erfassung Alle Einrichtungen'!F35 -> frei | G35: ='Erfassung Alle Einrichtungen'!G35 -> besetzt | H35: ='Erfassung Alle Einrichtungen'!H35 -> frei | ... N35: ='Erfassung Alle Einrichtungen'!N35 -> frei | S35: =R35 -> 0
A36: ='Erfassung Alle Einrichtungen'!A36 -> 0 | B36: ='Erfassung Alle Einrichtungen'!B36 -> 0 | C36: ='Erfassung Alle Einrichtungen'!C36 -> 34 | D36: ='Erfassung Alle Einrichtungen'!D36 -> 16 | E36: ='Erfassung Alle Einrichtungen'!E36 -> 0 | F36: ='Erfassung Alle Einrichtungen'!F36 -> 0 | G36: ='Erfassung Alle Einrichtungen'!G36 -> 0 | H36: ='Erfassung Alle Einrichtungen'!H36 -> 0 | ... N36: ='Erfassung Alle Einrichtungen'!N36 -> 0 | S36: =R36 -> 0
A37: ='Erfassung Alle Einrichtungen'!A37 -> Finkennüst | B37: ='Erfassung Alle Einrichtungen'!B37 -> 25 | C37: ='Erfassung Alle Einrichtungen'!C37 -> Anz. Gruppen | D37: ='Erfassung Alle Einrichtungen'!D37 -> 1 | E37: ='Erfassung Alle Einrichtungen'!E37 -> Anz. Gruppen | F37: ='Erfassung Alle Einrichtungen'!F37 -> 0 | G37: ='Erfassung Alle Einrichtungen'!G37 -> Anz. Gruppen | H37: ='Erfassung Alle Einrichtungen'!H37 -> 0 | ... N37: ='Erfassung Alle Einrichtungen'!N37 -> 0 | S37: =R37 -> 0
A38: ='Erfassung Alle Einrichtungen'!A38 -> 0 | B38: ='Erfassung Alle Einrichtungen'!B38 -> 0 | C38: ='Erfassung Alle Einrichtungen'!C38 -> Plätze ges. | D38: ='Erfassung Alle Einrichtungen'!D38 -> 25 | E38: ='Erfassung Alle Einrichtungen'!E38 -> Plätze ges. | F38: ='Erfassung Alle Einrichtungen'!F38 -> 0 | G38: ='Erfassung Alle Einrichtungen'!G38 -> Plätze ges. | H38: ='Erfassung Alle Einrichtungen'!H38 -> 0 | ... N38: ='Erfassung Alle Einrichtungen'!N38 -> 0 | P38: =IF(J38>0,J38,"") | S38: =R38 -> 0
A39: ='Erfassung Alle Einrichtungen'!A39 -> 0 | B39: ='Erfassung Alle Einrichtungen'!B39 -> 0 | C39: ='Erfassung Alle Einrichtungen'!C39 -> besetzt | D39: ='Erfassung Alle Einrichtungen'!D39 -> frei | E39: ='Erfassung Alle Einrichtungen'!E39 -> besetzt | F39: ='Erfassung Alle Einrichtungen'!F39 -> frei | G39: ='Erfassung Alle Einrichtungen'!G39 -> besetzt | H39: ='Erfassung Alle Einrichtungen'!H39 -> frei | ... N39: ='Erfassung Alle Einrichtungen'!N39 -> frei | S39: =R39 -> 0
A40: ='Erfassung Alle Einrichtungen'!A40 -> 0 | B40: ='Erfassung Alle Einrichtungen'!B40 -> 0 | C40: ='Erfassung Alle Einrichtungen'!C40 -> 23 | D40: ='Erfassung Alle Einrichtungen'!D40 -> 2 | E40: ='Erfassung Alle Einrichtungen'!E40 -> 0 | F40: ='Erfassung Alle Einrichtungen'!F40 -> 0 | G40: ='Erfassung Alle Einrichtungen'!G40 -> 0 | H40: ='Erfassung Alle Einrichtungen'!H40 -> 0 | ... N40: ='Erfassung Alle Einrichtungen'!N40 -> 0 | S40: =R40 -> 0
A41: ='Erfassung Alle Einrichtungen'!A41 -> Kindervilla Pippilotta | B41: ='Erfassung Alle Einrichtungen'!B41 -> 20 | C41: ='Erfassung Alle Einrichtungen'!C41 -> Anz. Gruppen | D41: ='Erfassung Alle Einrichtungen'!D41 -> 1 | E41: ='Erfassung Alle Einrichtungen'!E41 -> Anz. Gruppen | F41: ='Erfassung Alle Einrichtungen'!F41 -> 0 | G41: ='Erfassung Alle Einrichtungen'!G41 -> Anz. Gruppen | H41: ='Erfassung Alle Einrichtungen'!H41 -> 0 | ... N41: ='Erfassung Alle Einrichtungen'!N41 -> 0 | S41: =R41 -> 0
A42: ='Erfassung Alle Einrichtungen'!A42 -> 0 | B42: ='Erfassung Alle Einrichtungen'!B42 -> 0 | C42: ='Erfassung Alle Einrichtungen'!C42 -> Plätze ges. | D42: ='Erfassung Alle Einrichtungen'!D42 -> 16 | E42: ='Erfassung Alle Einrichtungen'!E42 -> Plätze ges. | F42: ='Erfassung Alle Einrichtungen'!F42 -> 0 | G42: ='Erfassung Alle Einrichtungen'!G42 -> Plätze ges. | H42: ='Erfassung Alle Einrichtungen'!H42 -> 0 | ... N42: ='Erfassung Alle Einrichtungen'!N42 -> 0 | P42: =IF(J42>0,J42,"") -> 4 | Q42: 0 | R42: =A41 -> Kindervilla Pippilotta | S42: =R42 -> Kindervilla Pippilotta
A43: ='Erfassung Alle Einrichtungen'!A43 -> 0 | B43: ='Erfassung Alle Einrichtungen'!B43 -> 0 | C43: ='Erfassung Alle Einrichtungen'!C43 -> besetzt | D43: ='Erfassung Alle Einrichtungen'!D43 -> frei | E43: ='Erfassung Alle Einrichtungen'!E43 -> besetzt | F43: ='Erfassung Alle Einrichtungen'!F43 -> frei | G43: ='Erfassung Alle Einrichtungen'!G43 -> besetzt | H43: ='Erfassung Alle Einrichtungen'!H43 -> frei | ... N43: ='Erfassung Alle Einrichtungen'!N43 -> frei | S43: =R43 -> 0
A44: ='Erfassung Alle Einrichtungen'!A44 -> 0 | B44: ='Erfassung Alle Einrichtungen'!B44 -> 0 | C44: ='Erfassung Alle Einrichtungen'!C44 -> 13 | D44: ='Erfassung Alle Einrichtungen'!D44 -> 3 | E44: ='Erfassung Alle Einrichtungen'!E44 -> 0 | F44: ='Erfassung Alle Einrichtungen'!F44 -> 0 | G44: ='Erfassung Alle Einrichtungen'!G44 -> 0 | H44: ='Erfassung Alle Einrichtungen'!H44 -> 0 | ... N44: ='Erfassung Alle Einrichtungen'!N44 -> 0 | S44: =R44 -> 0
A45: ='Erfassung Alle Einrichtungen'!A45 -> nn | B45: ='Erfassung Alle Einrichtungen'!B45 -> 0 | C45: ='Erfassung Alle Einrichtungen'!C45 -> Anz. Gruppen | D45: ='Erfassung Alle Einrichtungen'!D45 -> 0 | E45: ='Erfassung Alle Einrichtungen'!E45 -> Anz. Gruppen | F45: ='Erfassung Alle Einrichtungen'!F45 -> 0 | G45: ='Erfassung Alle Einrichtungen'!G45 -> Anz. Gruppen | H45: ='Erfassung Alle Einrichtungen'!H45 -> 0 | ... N45: ='Erfassung Alle Einrichtungen'!N45 -> 0 | S45: =R45 -> 0
A46: ='Erfassung Alle Einrichtungen'!A46 -> 0 | B46: ='Erfassung Alle Einrichtungen'!B46 -> 0 | C46: ='Erfassung Alle Einrichtungen'!C46 -> Plätze ges. | D46: ='Erfassung Alle Einrichtungen'!D46 -> 0 | E46: ='Erfassung Alle Einrichtungen'!E46 -> Plätze ges. | F46: ='Erfassung Alle Einrichtungen'!F46 -> 0 | G46: ='Erfassung Alle Einrichtungen'!G46 -> Plätze ges. | H46: ='Erfassung Alle Einrichtungen'!H46 -> 0 | ... N46: ='Erfassung Alle Einrichtungen'!N46 -> 0 | P46: =IF(J46>0,J46,"") | S46: =R46 -> 0
A47: ='Erfassung Alle Einrichtungen'!A47 -> 0 | B47: ='Erfassung Alle Einrichtungen'!B47 -> 0 | C47: ='Erfassung Alle Einrichtungen'!C47 -> besetzt | D47: ='Erfassung Alle Einrichtungen'!D47 -> frei | E47: ='Erfassung Alle Einrichtungen'!E47 -> besetzt | F47: ='Erfassung Alle Einrichtungen'!F47 -> frei | G47: ='Erfassung Alle Einrichtungen'!G47 -> besetzt | H47: ='Erfassung Alle Einrichtungen'!H47 -> frei | ... N47: ='Erfassung Alle Einrichtungen'!N47 -> frei | S47: =R47 -> 0
A48: ='Erfassung Alle Einrichtungen'!A48 -> 0 | B48: ='Erfassung Alle Einrichtungen'!B48 -> 0 | C48: ='Erfassung Alle Einrichtungen'!C48 -> 0 | D48: ='Erfassung Alle Einrichtungen'!D48 -> 0 | E48: ='Erfassung Alle Einrichtungen'!E48 -> 0 | F48: ='Erfassung Alle Einrichtungen'!F48 -> 0 | G48: ='Erfassung Alle Einrichtungen'!G48 -> 0 | H48: ='Erfassung Alle Einrichtungen'!H48 -> 0 | ... N48: ='Erfassung Alle Einrichtungen'!N48 -> 0 | S48: =R48 -> 0
A49: ='Erfassung Alle Einrichtungen'!A49 -> Summen Städt. Einrichtungen | B49: ='Erfassung Alle Einrichtungen'!B49 -> 609 | C49: ='Erfassung Alle Einrichtungen'!C49 -> vormittags | D49: ='Erfassung Alle Einrichtungen'!D49 -> 0 | E49: ='Erfassung Alle Einrichtungen'!E49 -> nachmittags | F49: ='Erfassung Alle Einrichtungen'!F49 -> 0 | G49: ='Erfassung Alle Einrichtungen'!G49 -> ganztags | H49: ='Erfassung Alle Einrichtungen'!H49 -> 0 | ... N49: ='Erfassung Alle Einrichtungen'!N49 -> 0 | S49: =R49 -> 0
A50: ='Erfassung Alle Einrichtungen'!A50 -> 0 | B50: ='Erfassung Alle Einrichtungen'!B50 -> 0 | C50: ='Erfassung Alle Einrichtungen'!C50 -> Anz. Gruppen | D50: ='Erfassung Alle Einrichtungen'!D50 -> 14 | E50: ='Erfassung Alle Einrichtungen'!E50 -> Anz. Gruppen | F50: ='Erfassung Alle Einrichtungen'!F50 -> 1 | G50: ='Erfassung Alle Einrichtungen'!G50 -> Anz. Gruppen | H50: ='Erfassung Alle Einrichtungen'!H50 -> 3 | ... N50: ='Erfassung Alle Einrichtungen'!N50 -> 6 | S50: =R50 -> 0
A51: ='Erfassung Alle Einrichtungen'!A51 -> 0 | B51: ='Erfassung Alle Einrichtungen'!B51 -> 0 | C51: ='Erfassung Alle Einrichtungen'!C51 -> Plätze ges. | D51: ='Erfassung Alle Einrichtungen'!D51 -> 318 | E51: ='Erfassung Alle Einrichtungen'!E51 -> Plätze ges. | F51: ='Erfassung Alle Einrichtungen'!F51 -> 25 | G51: ='Erfassung Alle Einrichtungen'!G51 -> Plätze ges. | H51: ='Erfassung Alle Einrichtungen'!H51 -> 75 | ... N51: ='Erfassung Alle Einrichtungen'!N51 -> 120 | P51: =IF(J51>0,J51,"") -> 62 | Q51: 4 | R51: =A49 -> Summen Städt. Einrichtungen | S51: =R51 -> Summen Städt. Einrichtungen
A52: ='Erfassung Alle Einrichtungen'!A52 -> 0 | B52: ='Erfassung Alle Einrichtungen'!B52 -> 0 | C52: ='Erfassung Alle Einrichtungen'!C52 -> besetzt | D52: ='Erfassung Alle Einrichtungen'!D52 -> frei | E52: ='Erfassung Alle Einrichtungen'!E52 -> besetzt | F52: ='Erfassung Alle Einrichtungen'!F52 -> frei | G52: ='Erfassung Alle Einrichtungen'!G52 -> besetzt | H52: ='Erfassung Alle Einrichtungen'!H52 -> frei | ... N52: ='Erfassung Alle Einrichtungen'!N52 -> frei | S52: =R52 -> 0
A53: ='Erfassung Alle Einrichtungen'!A53 -> 0 | B53: ='Erfassung Alle Einrichtungen'!B53 -> 0 | C53: ='Erfassung Alle Einrichtungen'!C53 -> 282 | D53: ='Erfassung Alle Einrichtungen'!D53 -> 36 | E53: ='Erfassung Alle Einrichtungen'!E53 -> 19 | F53: ='Erfassung Alle Einrichtungen'!F53 -> 6 | G53: ='Erfassung Alle Einrichtungen'!G53 -> 72 | H53: ='Erfassung Alle Einrichtungen'!H53 -> 3 | ... N53: ='Erfassung Alle Einrichtungen'!N53 -> 11 | S53: =R53 -> 0
A54: ='Erfassung Alle Einrichtungen'!A54 -> x | B54: ='Erfassung Alle Einrichtungen'!B54 -> 0 | C54: ='Erfassung Alle Einrichtungen'!C54 -> 0 | D54: ='Erfassung Alle Einrichtungen'!D54 -> 0 | E54: ='Erfassung Alle Einrichtungen'!E54 -> 0 | F54: ='Erfassung Alle Einrichtungen'!F54 -> 0 | G54: ='Erfassung Alle Einrichtungen'!G54 -> 0 | H54: ='Erfassung Alle Einrichtungen'!H54 -> 0 | ... N54: ='Erfassung Alle Einrichtungen'!N54 -> 0 | S54: =R54 -> 0
A55: ='Erfassung Alle Einrichtungen'!A55 -> Kindertagesstätten in privater Trägerschaft | B55: ='Erfassung Alle Einrichtungen'!B55 -> Plätze in der Einrichtung | C55: ='Erfassung Alle Einrichtungen'!C55 -> diese teilen sich wie folgt auf: | D55: ='Erfassung Alle Einrichtungen'!D55 -> 0 | E55: ='Erfassung Alle Einrichtungen'!E55 -> 0 | F55: ='Erfassung Alle Einrichtungen'!F55 -> 0 | G55: ='Erfassung Alle Einrichtungen'!G55 -> 0 | H55: ='Erfassung Alle Einrichtungen'!H55 -> 0 | ... N55: ='Erfassung Alle Einrichtungen'!N55 -> 0 | S55: =R55 -> 0
A56: ='Erfassung Alle Einrichtungen'!A56 -> 0 | B56: ='Erfassung Alle Einrichtungen'!B56 -> 0 | C56: ='Erfassung Alle Einrichtungen'!C56 -> vormittags | D56: ='Erfassung Alle Einrichtungen'!D56 -> 0 | E56: ='Erfassung Alle Einrichtungen'!E56 -> nachmittags | F56: ='Erfassung Alle Einrichtungen'!F56 -> 0 | G56: ='Erfassung Alle Einrichtungen'!G56 -> ganztags | H56: ='Erfassung Alle Einrichtungen'!H56 -> 0 | ... N56: ='Erfassung Alle Einrichtungen'!N56 -> 0 | S56: =R56 -> 0
A57: ='Erfassung Alle Einrichtungen'!A57 -> DRK Mullewapp Schmiedestr. | B57: ='Erfassung Alle Einrichtungen'!B57 -> 65 | C57: ='Erfassung Alle Einrichtungen'!C57 -> Anz. Gruppen | D57: ='Erfassung Alle Einrichtungen'!D57 -> 1 | E57: ='Erfassung Alle Einrichtungen'!E57 -> Anz. Gruppen | F57: ='Erfassung Alle Einrichtungen'!F57 -> 0 | G57: ='Erfassung Alle Einrichtungen'!G57 -> Anz. Gruppen | H57: ='Erfassung Alle Einrichtungen'!H57 -> 1 | ... N57: ='Erfassung Alle Einrichtungen'!N57 -> 0 | S57: =R57 -> 0
A58: ='Erfassung Alle Einrichtungen'!A58 -> 0 | B58: ='Erfassung Alle Einrichtungen'!B58 -> 0 | C58: ='Erfassung Alle Einrichtungen'!C58 -> Plätze ges. | D58: ='Erfassung Alle Einrichtungen'!D58 -> 25 | E58: ='Erfassung Alle Einrichtungen'!E58 -> Plätze ges. | F58: ='Erfassung Alle Einrichtungen'!F58 -> 0 | G58: ='Erfassung Alle Einrichtungen'!G58 -> Plätze ges. | H58: ='Erfassung Alle Einrichtungen'!H58 -> 25 | ... N58: ='Erfassung Alle Einrichtungen'!N58 -> 0 | P58: =IF(J58>0,J58,"") -> 15 | Q58: 0 | R58: =A57 -> DRK Mullewapp Schmiedestr. | S58: =R58 -> DRK Mullewapp Schmiedestr.
A59: ='Erfassung Alle Einrichtungen'!A59 -> 0 | B59: ='Erfassung Alle Einrichtungen'!B59 -> 0 | C59: ='Erfassung Alle Einrichtungen'!C59 -> besetzt | D59: ='Erfassung Alle Einrichtungen'!D59 -> frei | E59: ='Erfassung Alle Einrichtungen'!E59 -> besetzt | F59: ='Erfassung Alle Einrichtungen'!F59 -> frei | G59: ='Erfassung Alle Einrichtungen'!G59 -> besetzt | H59: ='Erfassung Alle Einrichtungen'!H59 -> frei | ... N59: ='Erfassung Alle Einrichtungen'!N59 -> frei | S59: =R59 -> 0
A60: ='Erfassung Alle Einrichtungen'!A60 -> 0 | B60: ='Erfassung Alle Einrichtungen'!B60 -> 0 | C60: ='Erfassung Alle Einrichtungen'!C60 -> 25 | D60: ='Erfassung Alle Einrichtungen'!D60 -> 0 | E60: ='Erfassung Alle Einrichtungen'!E60 -> 0 | F60: ='Erfassung Alle Einrichtungen'!F60 -> 0 | G60: ='Erfassung Alle Einrichtungen'!G60 -> 25 | H60: ='Erfassung Alle Einrichtungen'!H60 -> 0 | ... N60: ='Erfassung Alle Einrichtungen'!N60 -> 0 | S60: =R60 -> 0
A61: ='Erfassung Alle Einrichtungen'!A61 -> DRK Am Wasserturm | B61: ='Erfassung Alle Einrichtungen'!B61 -> 94 | C61: ='Erfassung Alle Einrichtungen'!C61 -> Anz. Gruppen | D61: ='Erfassung Alle Einrichtungen'!D61 -> 2 | E61: ='Erfassung Alle Einrichtungen'!E61 -> Anz. Gruppen | F61: ='Erfassung Alle Einrichtungen'!F61 -> 0 | G61: ='Erfassung Alle Einrichtungen'!G61 -> Anz. Gruppen | H61: ='Erfassung Alle Einrichtungen'!H61 -> 2 | ... N61: ='Erfassung Alle Einrichtungen'!N61 -> 0 | S61: =R61 -> 0
A62: ='Erfassung Alle Einrichtungen'!A62 -> 0 | B62: ='Erfassung Alle Einrichtungen'!B62 -> 0 | C62: ='Erfassung Alle Einrichtungen'!C62 -> Plätze ges. | D62: ='Erfassung Alle Einrichtungen'!D62 -> 43 | E62: ='Erfassung Alle Einrichtungen'!E62 -> Plätze ges. | F62: ='Erfassung Alle Einrichtungen'!F62 -> 0 | G62: ='Erfassung Alle Einrichtungen'!G62 -> Plätze ges. | H62: ='Erfassung Alle Einrichtungen'!H62 -> 42 | ... N62: ='Erfassung Alle Einrichtungen'!N62 -> 0 | P62: =IF(J62>0,J62,"") | S62: =R62 -> 0
A63: ='Erfassung Alle Einrichtungen'!A63 -> 0 | B63: ='Erfassung Alle Einrichtungen'!B63 -> 0 | C63: ='Erfassung Alle Einrichtungen'!C63 -> besetzt | D63: ='Erfassung Alle Einrichtungen'!D63 -> frei | E63: ='Erfassung Alle Einrichtungen'!E63 -> besetzt | F63: ='Erfassung Alle Einrichtungen'!F63 -> frei | G63: ='Erfassung Alle Einrichtungen'!G63 -> besetzt | H63: ='Erfassung Alle Einrichtungen'!H63 -> frei | ... N63: ='Erfassung Alle Einrichtungen'!N63 -> frei | S63: =R63 -> 0
A64: ='Erfassung Alle Einrichtungen'!A64 -> 0 | B64: ='Erfassung Alle Einrichtungen'!B64 -> 0 | C64: ='Erfassung Alle Einrichtungen'!C64 -> 33 | D64: ='Erfassung Alle Einrichtungen'!D64 -> 10 | E64: ='Erfassung Alle Einrichtungen'!E64 -> 0 | F64: ='Erfassung Alle Einrichtungen'!F64 -> 0 | G64: ='Erfassung Alle Einrichtungen'!G64 -> 38 | H64: ='Erfassung Alle Einrichtungen'!H64 -> 4 | ... N64: ='Erfassung Alle Einrichtungen'!N64 -> 0 | S64: =R64 -> 0
A65: ='Erfassung Alle Einrichtungen'!A65 -> DRK Lambertihort | B65: ='Erfassung Alle Einrichtungen'!B65 -> 80 | C65: ='Erfassung Alle Einrichtungen'!C65 -> Anz. Gruppen | D65: ='Erfassung Alle Einrichtungen'!D65 -> 0 | E65: ='Erfassung Alle Einrichtungen'!E65 -> Anz. Gruppen | F65: ='Erfassung Alle Einrichtungen'!F65 -> 0 | G65: ='Erfassung Alle Einrichtungen'!G65 -> Anz. Gruppen | H65: ='Erfassung Alle Einrichtungen'!H65 -> 0 | ... N65: ='Erfassung Alle Einrichtungen'!N65 -> 4 | S65: =R65 -> 0
A66: ='Erfassung Alle Einrichtungen'!A66 -> 0 | B66: ='Erfassung Alle Einrichtungen'!B66 -> 0 | C66: ='Erfassung Alle Einrichtungen'!C66 -> Plätze ges. | D66: ='Erfassung Alle Einrichtungen'!D66 -> 0 | E66: ='Erfassung Alle Einrichtungen'!E66 -> Plätze ges. | F66: ='Erfassung Alle Einrichtungen'!F66 -> 0 | G66: ='Erfassung Alle Einrichtungen'!G66 -> Plätze ges. | H66: ='Erfassung Alle Einrichtungen'!H66 -> 0 | ... N66: ='Erfassung Alle Einrichtungen'!N66 -> 80 | P66: =IF(J66>0,J66,"") | S66: =R66 -> 0
A67: ='Erfassung Alle Einrichtungen'!A67 -> 0 | B67: ='Erfassung Alle Einrichtungen'!B67 -> 0 | C67: ='Erfassung Alle Einrichtungen'!C67 -> besetzt | D67: ='Erfassung Alle Einrichtungen'!D67 -> frei | E67: ='Erfassung Alle Einrichtungen'!E67 -> besetzt | F67: ='Erfassung Alle Einrichtungen'!F67 -> frei | G67: ='Erfassung Alle Einrichtungen'!G67 -> besetzt | H67: ='Erfassung Alle Einrichtungen'!H67 -> frei | ... N67: ='Erfassung Alle Einrichtungen'!N67 -> frei | S67: =R67 -> 0
A68: ='Erfassung Alle Einrichtungen'!A68 -> 0 | B68: ='Erfassung Alle Einrichtungen'!B68 -> 0 | C68: ='Erfassung Alle Einrichtungen'!C68 -> 0 | D68: ='Erfassung Alle Einrichtungen'!D68 -> 0 | E68: ='Erfassung Alle Einrichtungen'!E68 -> 0 | F68: ='Erfassung Alle Einrichtungen'!F68 -> 0 | G68: ='Erfassung Alle Einrichtungen'!G68 -> 0 | H68: ='Erfassung Alle Einrichtungen'!H68 -> 0 | ... N68: ='Erfassung Alle Einrichtungen'!N68 -> 0 | S68: =R68 -> 0
A69: ='Erfassung Alle Einrichtungen'!A69 -> Lilliput Middels | B69: ='Erfassung Alle Einrichtungen'!B69 -> 45 | C69: ='Erfassung Alle Einrichtungen'!C69 -> Anz. Gruppen | D69: ='Erfassung Alle Einrichtungen'!D69 -> 0 | E69: ='Erfassung Alle Einrichtungen'!E69 -> Anz. Gruppen | F69: ='Erfassung Alle Einrichtungen'!F69 -> 0 | G69: ='Erfassung Alle Einrichtungen'!G69 -> Anz. Gruppen | H69: ='Erfassung Alle Einrichtungen'!H69 -> 0 | ... N69: ='Erfassung Alle Einrichtungen'!N69 -> 0 | S69: =R69 -> 0
A70: ='Erfassung Alle Einrichtungen'!A70 -> 0 | B70: ='Erfassung Alle Einrichtungen'!B70 -> 0 | C70: ='Erfassung Alle Einrichtungen'!C70 -> Plätze ges. | D70: ='Erfassung Alle Einrichtungen'!D70 -> 40 | E70: ='Erfassung Alle Einrichtungen'!E70 -> Plätze ges. | F70: ='Erfassung Alle Einrichtungen'!F70 -> 0 | G70: ='Erfassung Alle Einrichtungen'!G70 -> Plätze ges. | H70: ='Erfassung Alle Einrichtungen'!H70 -> 0 | ... N70: ='Erfassung Alle Einrichtungen'!N70 -> 0 | P70: =IF(J70>0,J70,"") -> 5 | Q70: 0 | R70: =A69 -> Lilliput Middels | S70: =R70 -> Lilliput Middels
A71: ='Erfassung Alle Einrichtungen'!A71 -> 0 | B71: ='Erfassung Alle Einrichtungen'!B71 -> 0 | C71: ='Erfassung Alle Einrichtungen'!C71 -> besetzt | D71: ='Erfassung Alle Einrichtungen'!D71 -> frei | E71: ='Erfassung Alle Einrichtungen'!E71 -> besetzt | F71: ='Erfassung Alle Einrichtungen'!F71 -> frei | G71: ='Erfassung Alle Einrichtungen'!G71 -> besetzt | H71: ='Erfassung Alle Einrichtungen'!H71 -> frei | ... N71: ='Erfassung Alle Einrichtungen'!N71 -> frei | S71: =R71 -> 0
A72: ='Erfassung Alle Einrichtungen'!A72 -> 0 | B72: ='Erfassung Alle Einrichtungen'!B72 -> 0 | C72: ='Erfassung Alle Einrichtungen'!C72 -> 35 | D72: ='Erfassung Alle Einrichtungen'!D72 -> 5 | E72: ='Erfassung Alle Einrichtungen'!E72 -> 0 | F72: ='Erfassung Alle Einrichtungen'!F72 -> 0 | G72: ='Erfassung Alle Einrichtungen'!G72 -> 0 | H72: ='Erfassung Alle Einrichtungen'!H72 -> 0 | ... N72: ='Erfassung Alle Einrichtungen'!N72 -> 0 | S72: =R72 -> 0
A73: ='Erfassung Alle Einrichtungen'!A73 -> Stefelkes Plaggenb. | B73: ='Erfassung Alle Einrichtungen'!B73 -> 46 | C73: ='Erfassung Alle Einrichtungen'!C73 -> Anz. Gruppen | D73: ='Erfassung Alle Einrichtungen'!D73 -> 2 | E73: ='Erfassung Alle Einrichtungen'!E73 -> Anz. Gruppen | F73: ='Erfassung Alle Einrichtungen'!F73 -> 0 | G73: ='Erfassung Alle Einrichtungen'!G73 -> Anz. Gruppen | H73: ='Erfassung Alle Einrichtungen'!H73 -> 0 | ... N73: ='Erfassung Alle Einrichtungen'!N73 -> 0 | S73: =R73 -> 0
A74: ='Erfassung Alle Einrichtungen'!A74 -> 0 | B74: ='Erfassung Alle Einrichtungen'!B74 -> 0 | C74: ='Erfassung Alle Einrichtungen'!C74 -> Plätze ges. | D74: ='Erfassung Alle Einrichtungen'!D74 -> 38 | E74: ='Erfassung Alle Einrichtungen'!E74 -> Plätze ges. | F74: ='Erfassung Alle Einrichtungen'!F74 -> 0 | G74: ='Erfassung Alle Einrichtungen'!G74 -> Plätze ges. | H74: ='Erfassung Alle Einrichtungen'!H74 -> 0 | ... N74: ='Erfassung Alle Einrichtungen'!N74 -> 0 | P74: =IF(J74>0,J74,"") -> 4 | Q74: 0 | R74: =A73 -> Stefelkes Plaggenb. | S74: =R74 -> Stefelkes Plaggenb.
A75: ='Erfassung Alle Einrichtungen'!A75 -> 0 | B75: ='Erfassung Alle Einrichtungen'!B75 -> 0 | C75: ='Erfassung Alle Einrichtungen'!C75 -> besetzt | D75: ='Erfassung Alle Einrichtungen'!D75 -> frei | E75: ='Erfassung Alle Einrichtungen'!E75 -> besetzt | F75: ='Erfassung Alle Einrichtungen'!F75 -> frei | G75: ='Erfassung Alle Einrichtungen'!G75 -> besetzt | H75: ='Erfassung Alle Einrichtungen'!H75 -> frei | ... N75: ='Erfassung Alle Einrichtungen'!N75 -> frei | S75: =R75 -> 0
A76: ='Erfassung Alle Einrichtungen'!A76 -> 0 | B76: ='Erfassung Alle Einrichtungen'!B76 -> 0 | C76: ='Erfassung Alle Einrichtungen'!C76 -> 36 | D76: ='Erfassung Alle Einrichtungen'!D76 -> 2 | E76: ='Erfassung Alle Einrichtungen'!E76 -> 0 | F76: ='Erfassung Alle Einrichtungen'!F76 -> 0 | G76: ='Erfassung Alle Einrichtungen'!G76 -> 0 | H76: ='Erfassung Alle Einrichtungen'!H76 -> 0 | ... N76: ='Erfassung Alle Einrichtungen'!N76 -> 0 | S76: =R76 -> 0
A77: ='Erfassung Alle Einrichtungen'!A77 -> Upstalsboom | B77: ='Erfassung Alle Einrichtungen'!B77 -> 182 | C77: ='Erfassung Alle Einrichtungen'!C77 -> Anz. Gruppen | D77: ='Erfassung Alle Einrichtungen'!D77 -> 2 | E77: ='Erfassung Alle Einrichtungen'!E77 -> Anz. Gruppen | F77: ='Erfassung Alle Einrichtungen'!F77 -> 1 | G77: ='Erfassung Alle Einrichtungen'!G77 -> Anz. Gruppen | H77: ='Erfassung Alle Einrichtungen'!H77 -> 1 | ... N77: ='Erfassung Alle Einrichtungen'!N77 -> 3 | S77: =R77 -> 0
A78: ='Erfassung Alle Einrichtungen'!A78 -> 0 | B78: ='Erfassung Alle Einrichtungen'!B78 -> 0 | C78: ='Erfassung Alle Einrichtungen'!C78 -> Plätze ges. | D78: ='Erfassung Alle Einrichtungen'!D78 -> 50 | E78: ='Erfassung Alle Einrichtungen'!E78 -> Plätze ges. | F78: ='Erfassung Alle Einrichtungen'!F78 -> 25 | G78: ='Erfassung Alle Einrichtungen'!G78 -> Plätze ges. | H78: ='Erfassung Alle Einrichtungen'!H78 -> 25 | ... N78: ='Erfassung Alle Einrichtungen'!N78 -> 52 | P78: =IF(J78>0,J78,"") -> 30 | Q78: 0 | R78: =A77 -> Upstalsboom | S78: =R78 -> Upstalsboom
A79: ='Erfassung Alle Einrichtungen'!A79 -> 0 | B79: ='Erfassung Alle Einrichtungen'!B79 -> 0 | C79: ='Erfassung Alle Einrichtungen'!C79 -> besetzt | D79: ='Erfassung Alle Einrichtungen'!D79 -> frei | E79: ='Erfassung Alle Einrichtungen'!E79 -> besetzt | F79: ='Erfassung Alle Einrichtungen'!F79 -> frei | G79: ='Erfassung Alle Einrichtungen'!G79 -> besetzt | H79: ='Erfassung Alle Einrichtungen'!H79 -> frei | ... N79: ='Erfassung Alle Einrichtungen'!N79 -> frei | S79: =R79 -> 0
A80: ='Erfassung Alle Einrichtungen'!A80 -> 0 | B80: ='Erfassung Alle Einrichtungen'!B80 -> 0 | C80: ='Erfassung Alle Einrichtungen'!C80 -> 50 | D80: ='Erfassung Alle Einrichtungen'!D80 -> 0 | E80: ='Erfassung Alle Einrichtungen'!E80 -> 25 | F80: ='Erfassung Alle Einrichtungen'!F80 -> 0 | G80: ='Erfassung Alle Einrichtungen'!G80 -> 25 | H80: ='Erfassung Alle Einrichtungen'!H80 -> 0 | ... N80: ='Erfassung Alle Einrichtungen'!N80 -> 0 | S80: =R80 -> 0
A81: ='Erfassung Alle Einrichtungen'!A81 -> Upstalsboom - Extum | B81: ='Erfassung Alle Einrichtungen'!B81 -> 25 | C81: ='Erfassung Alle Einrichtungen'!C81 -> Anz. Gruppen | D81: ='Erfassung Alle Einrichtungen'!D81 -> 1 | E81: ='Erfassung Alle Einrichtungen'!E81 -> Anz. Gruppen | F81: ='Erfassung Alle Einrichtungen'!F81 -> 0 | G81: ='Erfassung Alle Einrichtungen'!G81 -> Anz. Gruppen | H81: ='Erfassung Alle Einrichtungen'!H81 -> 0 | ... N81: ='Erfassung Alle Einrichtungen'!N81 -> 0 | S81: =R81 -> 0
A82: ='Erfassung Alle Einrichtungen'!A82 -> 0 | B82: ='Erfassung Alle Einrichtungen'!B82 -> 0 | C82: ='Erfassung Alle Einrichtungen'!C82 -> Plätze ges. | D82: ='Erfassung Alle Einrichtungen'!D82 -> 25 | E82: ='Erfassung Alle Einrichtungen'!E82 -> Plätze ges. | F82: ='Erfassung Alle Einrichtungen'!F82 -> 0 | G82: ='Erfassung Alle Einrichtungen'!G82 -> Plätze ges. | H82: ='Erfassung Alle Einrichtungen'!H82 -> 0 | ... N82: ='Erfassung Alle Einrichtungen'!N82 -> 0 | P82: =IF(J82>0,J82,"") | S82: =R82 -> 0
A83: ='Erfassung Alle Einrichtungen'!A83 -> 0 | B83: ='Erfassung Alle Einrichtungen'!B83 -> 0 | C83: ='Erfassung Alle Einrichtungen'!C83 -> besetzt | D83: ='Erfassung Alle Einrichtungen'!D83 -> frei | E83: ='Erfassung Alle Einrichtungen'!E83 -> besetzt | F83: ='Erfassung Alle Einrichtungen'!F83 -> frei | G83: ='Erfassung Alle Einrichtungen'!G83 -> besetzt | H83: ='Erfassung Alle Einrichtungen'!H83 -> frei | ... N83: ='Erfassung Alle Einrichtungen'!N83 -> frei | S83: =R83 -> 0
A84: ='Erfassung Alle Einrichtungen'!A84 -> 0 | B84: ='Erfassung Alle Einrichtungen'!B84 -> 0 | C84: ='Erfassung Alle Einrichtungen'!C84 -> 16 | D84: ='Erfassung Alle Einrichtungen'!D84 -> 9 | E84: ='Erfassung Alle Einrichtungen'!E84 -> 0 | F84: ='Erfassung Alle Einrichtungen'!F84 -> 0 | G84: ='Erfassung Alle Einrichtungen'!G84 -> 0 | H84: ='Erfassung Alle Einrichtungen'!H84 -> 0 | ... N84: ='Erfassung Alle Einrichtungen'!N84 -> 0 | S84: =R84 -> 0
A85: ='Erfassung Alle Einrichtungen'!A85 -> I. Waldkindergarten | B85: ='Erfassung Alle Einrichtungen'!B85 -> 15 | C85: ='Erfassung Alle Einrichtungen'!C85 -> Anz. Gruppen | D85: ='Erfassung Alle Einrichtungen'!D85 -> 1 | E85: ='Erfassung Alle Einrichtungen'!E85 -> Anz. Gruppen | F85: ='Erfassung Alle Einrichtungen'!F85 -> 0 | G85: ='Erfassung Alle Einrichtungen'!G85 -> Anz. Gruppen | H85: ='Erfassung Alle Einrichtungen'!H85 -> 0 | ... N85: ='Erfassung Alle Einrichtungen'!N85 -> 0 | S85: =R85 -> 0
A86: ='Erfassung Alle Einrichtungen'!A86 -> 0 | B86: ='Erfassung Alle Einrichtungen'!B86 -> 0 | C86: ='Erfassung Alle Einrichtungen'!C86 -> Plätze ges. | D86: ='Erfassung Alle Einrichtungen'!D86 -> 15 | E86: ='Erfassung Alle Einrichtungen'!E86 -> Plätze ges. | F86: ='Erfassung Alle Einrichtungen'!F86 -> 0 | G86: ='Erfassung Alle Einrichtungen'!G86 -> Plätze ges. | H86: ='Erfassung Alle Einrichtungen'!H86 -> 0 | ... N86: ='Erfassung Alle Einrichtungen'!N86 -> 0 | P86: =IF(J86>0,J86,"") | S86: =R86 -> 0
A87: ='Erfassung Alle Einrichtungen'!A87 -> 0 | B87: ='Erfassung Alle Einrichtungen'!B87 -> 0 | C87: ='Erfassung Alle Einrichtungen'!C87 -> besetzt | D87: ='Erfassung Alle Einrichtungen'!D87 -> frei | E87: ='Erfassung Alle Einrichtungen'!E87 -> besetzt | F87: ='Erfassung Alle Einrichtungen'!F87 -> frei | G87: ='Erfassung Alle Einrichtungen'!G87 -> besetzt | H87: ='Erfassung Alle Einrichtungen'!H87 -> frei | ... N87: ='Erfassung Alle Einrichtungen'!N87 -> frei | S87: =R87 -> 0
A88: ='Erfassung Alle Einrichtungen'!A88 -> 0 | B88: ='Erfassung Alle Einrichtungen'!B88 -> 0 | C88: ='Erfassung Alle Einrichtungen'!C88 -> 15 | D88: ='Erfassung Alle Einrichtungen'!D88 -> 0 | E88: ='Erfassung Alle Einrichtungen'!E88 -> 0 | F88: ='Erfassung Alle Einrichtungen'!F88 -> 0 | G88: ='Erfassung Alle Einrichtungen'!G88 -> 0 | H88: ='Erfassung Alle Einrichtungen'!H88 -> 0 | ... N88: ='Erfassung Alle Einrichtungen'!N88 -> 0 | S88: =R88 -> 0
A89: ='Erfassung Alle Einrichtungen'!A89 -> II. Waldkindergarten | B89: ='Erfassung Alle Einrichtungen'!B89 -> 15 | C89: ='Erfassung Alle Einrichtungen'!C89 -> Anz. Gruppen | D89: ='Erfassung Alle Einrichtungen'!D89 -> 1 | E89: ='Erfassung Alle Einrichtungen'!E89 -> Anz. Gruppen | F89: ='Erfassung Alle Einrichtungen'!F89 -> 0 | G89: ='Erfassung Alle Einrichtungen'!G89 -> Anz. Gruppen | H89: ='Erfassung Alle Einrichtungen'!H89 -> 0 | ... N89: ='Erfassung Alle Einrichtungen'!N89 -> 0 | S89: =R89 -> 0
A90: ='Erfassung Alle Einrichtungen'!A90 -> 0 | B90: ='Erfassung Alle Einrichtungen'!B90 -> 0 | C90: ='Erfassung Alle Einrichtungen'!C90 -> Plätze ges. | D90: ='Erfassung Alle Einrichtungen'!D90 -> 15 | E90: ='Erfassung Alle Einrichtungen'!E90 -> Plätze ges. | F90: ='Erfassung Alle Einrichtungen'!F90 -> 0 | G90: ='Erfassung Alle Einrichtungen'!G90 -> Plätze ges. | H90: ='Erfassung Alle Einrichtungen'!H90 -> 0 | ... N90: ='Erfassung Alle Einrichtungen'!N90 -> 0 | P90: =IF(J90>0,J90,"") | S90: =R90 -> 0
A91: ='Erfassung Alle Einrichtungen'!A91 -> 0 | B91: ='Erfassung Alle Einrichtungen'!B91 -> 0 | C91: ='Erfassung Alle Einrichtungen'!C91 -> besetzt | D91: ='Erfassung Alle Einrichtungen'!D91 -> frei | E91: ='Erfassung Alle Einrichtungen'!E91 -> besetzt | F91: ='Erfassung Alle Einrichtungen'!F91 -> frei | G91: ='Erfassung Alle Einrichtungen'!G91 -> besetzt | H91: ='Erfassung Alle Einrichtungen'!H91 -> frei | ... N91: ='Erfassung Alle Einrichtungen'!N91 -> frei | S91: =R91 -> 0
A92: ='Erfassung Alle Einrichtungen'!A92 -> 0 | B92: ='Erfassung Alle Einrichtungen'!B92 -> 0 | C92: ='Erfassung Alle Einrichtungen'!C92 -> 15 | D92: ='Erfassung Alle Einrichtungen'!D92 -> 0 | E92: ='Erfassung Alle Einrichtungen'!E92 -> 0 | F92: ='Erfassung Alle Einrichtungen'!F92 -> 0 | G92: ='Erfassung Alle Einrichtungen'!G92 -> 0 | H92: ='Erfassung Alle Einrichtungen'!H92 -> 0 | ... N92: ='Erfassung Alle Einrichtungen'!N92 -> 0 | S92: =R92 -> 0
A93: ='Erfassung Alle Einrichtungen'!A93 -> Rappelkiste Walle | B93: ='Erfassung Alle Einrichtungen'!B93 -> 67 | C93: ='Erfassung Alle Einrichtungen'!C93 -> Anz. Gruppen | D93: ='Erfassung Alle Einrichtungen'!D93 -> 3 | E93: ='Erfassung Alle Einrichtungen'!E93 -> Anz. Gruppen | F93: ='Erfassung Alle Einrichtungen'!F93 -> 0 | G93: ='Erfassung Alle Einrichtungen'!G93 -> Anz. Gruppen | H93: ='Erfassung Alle Einrichtungen'!H93 -> 0 | ... N93: ='Erfassung Alle Einrichtungen'!N93 -> 0 | S93: =R93 -> 0
A94: ='Erfassung Alle Einrichtungen'!A94 -> 0 | B94: ='Erfassung Alle Einrichtungen'!B94 -> 0 | C94: ='Erfassung Alle Einrichtungen'!C94 -> Plätze ges. | D94: ='Erfassung Alle Einrichtungen'!D94 -> 59 | E94: ='Erfassung Alle Einrichtungen'!E94 -> Plätze ges. | F94: ='Erfassung Alle Einrichtungen'!F94 -> 0 | G94: ='Erfassung Alle Einrichtungen'!G94 -> Plätze ges. | H94: ='Erfassung Alle Einrichtungen'!H94 -> 0 | ... N94: ='Erfassung Alle Einrichtungen'!N94 -> 0 | P94: =IF(J94>0,J94,"") | S94: =R94 -> 0
A95: ='Erfassung Alle Einrichtungen'!A95 -> 0 | B95: ='Erfassung Alle Einrichtungen'!B95 -> 0 | C95: ='Erfassung Alle Einrichtungen'!C95 -> besetzt | D95: ='Erfassung Alle Einrichtungen'!D95 -> frei | E95: ='Erfassung Alle Einrichtungen'!E95 -> besetzt | F95: ='Erfassung Alle Einrichtungen'!F95 -> frei | G95: ='Erfassung Alle Einrichtungen'!G95 -> besetzt | H95: ='Erfassung Alle Einrichtungen'!H95 -> frei | ... N95: ='Erfassung Alle Einrichtungen'!N95 -> frei | S95: =R95 -> 0
A96: ='Erfassung Alle Einrichtungen'!A96 -> 0 | B96: ='Erfassung Alle Einrichtungen'!B96 -> 0 | C96: ='Erfassung Alle Einrichtungen'!C96 -> 59 | D96: ='Erfassung Alle Einrichtungen'!D96 -> 0 | E96: ='Erfassung Alle Einrichtungen'!E96 -> 0 | F96: ='Erfassung Alle Einrichtungen'!F96 -> 0 | G96: ='Erfassung Alle Einrichtungen'!G96 -> 0 | H96: ='Erfassung Alle Einrichtungen'!H96 -> 0 | ... N96: ='Erfassung Alle Einrichtungen'!N96 -> 0 | S96: =R96 -> 0
A97: ='Erfassung Alle Einrichtungen'!A97 -> St. Ludgerus | B97: ='Erfassung Alle Einrichtungen'!B97 -> 65 | C97: ='Erfassung Alle Einrichtungen'!C97 -> Anz. Gruppen | D97: ='Erfassung Alle Einrichtungen'!D97 -> 0 | E97: ='Erfassung Alle Einrichtungen'!E97 -> Anz. Gruppen | F97: ='Erfassung Alle Einrichtungen'!F97 -> 0 | G97: ='Erfassung Alle Einrichtungen'!G97 -> Anz. Gruppen | H97: ='Erfassung Alle Einrichtungen'!H97 -> 2 | ... N97: ='Erfassung Alle Einrichtungen'!N97 -> 0 | S97: =R97 -> 0
A98: ='Erfassung Alle Einrichtungen'!A98 -> 0 | B98: ='Erfassung Alle Einrichtungen'!B98 -> 0 | C98: ='Erfassung Alle Einrichtungen'!C98 -> Plätze ges. | D98: ='Erfassung Alle Einrichtungen'!D98 -> 0 | E98: ='Erfassung Alle Einrichtungen'!E98 -> Plätze ges. | F98: ='Erfassung Alle Einrichtungen'!F98 -> 0 | G98: ='Erfassung Alle Einrichtungen'!G98 -> Plätze ges. | H98: ='Erfassung Alle Einrichtungen'!H98 -> 50 | ... N98: ='Erfassung Alle Einrichtungen'!N98 -> 0 | P98: =IF(J98>0,J98,"") -> 15 | Q98: 0 | R98: =A97 -> St. Ludgerus | S98: =R98 -> St. Ludgerus
A99: ='Erfassung Alle Einrichtungen'!A99 -> 0 | B99: ='Erfassung Alle Einrichtungen'!B99 -> 0 | C99: ='Erfassung Alle Einrichtungen'!C99 -> besetzt | D99: ='Erfassung Alle Einrichtungen'!D99 -> frei | E99: ='Erfassung Alle Einrichtungen'!E99 -> besetzt | F99: ='Erfassung Alle Einrichtungen'!F99 -> frei | G99: ='Erfassung Alle Einrichtungen'!G99 -> besetzt | H99: ='Erfassung Alle Einrichtungen'!H99 -> frei | ... N99: ='Erfassung Alle Einrichtungen'!N99 -> frei | S99: =R99 -> 0
A100: ='Erfassung Alle Einrichtungen'!A100 -> 0 | B100: ='Erfassung Alle Einrichtungen'!B100 -> 0 | C100: ='Erfassung Alle Einrichtungen'!C100 -> 0 | D100: ='Erfassung Alle Einrichtungen'!D100 -> 0 | E100: ='Erfassung Alle Einrichtungen'!E100 -> 0 | F100: ='Erfassung Alle Einrichtungen'!F100 -> 0 | G100: ='Erfassung Alle Einrichtungen'!G100 -> 50 | H100: ='Erfassung Alle Einrichtungen'!H100 -> 0 | ... N100: ='Erfassung Alle Einrichtungen'!N100 -> 0 | S100: =R100 -> 0
...
